BEGIN:VCALENDAR
VERSION:2.0
PRODID:-//Crossroads - ECPv6.10.2//NONSGML v1.0//EN
CALSCALE:GREGORIAN
METHOD:PUBLISH
X-ORIGINAL-URL:https://crossroadsingersoll.ca
X-WR-CALDESC:Events for Crossroads
REFRESH-INTERVAL;VALUE=DURATION:PT1H
X-Robots-Tag:noindex
X-PUBLISHED-TTL:PT1H
BEGIN:VTIMEZONE
TZID:UTC
BEGIN:STANDARD
TZOFFSETFROM:+0000
TZOFFSETTO:+0000
TZNAME:UTC
DTSTART:20250101T000000
END:STANDARD
END:VTIMEZONE
BEGIN:VEVENT
DTSTART;TZID=UTC:20251212T180000
DTEND;TZID=UTC:20251212T210000
DTSTAMP:20260422T161647
CREATED:20251205T045737Z
LAST-MODIFIED:20251205T045737Z
UID:10016606-1765562400-1765573200@crossroadsingersoll.ca
SUMMARY:Young Adult Potluck
DESCRIPTION:Young Adults Potluck \nAll unmarried young adults (ages 18–25) are invited to a fun evening of food\, games\, and connection on Friday\, December 12 at Crossroads Bible Church. Doors open at 6:00pm\, with the evening kicking off at 6:30pm. \nIt’s a potluck\, so please let us know you’re coming and what dish you’ll be bringing by signing up here: RSVP & Potluck Sign-Up Form \nWe’ll also be playing a festive game of White Elephant—bring a wrapped gift (max $15 value) to join in the fun! \nQuestions? Reach out to Elle or James Young
URL:https://crossroadsingersoll.ca/event/young-adult-potluck/
LOCATION:Church Building – Oxford\, 184 Oxford St\, Ingersoll\, Ontario\, N5C 2V7\, Canada
CATEGORIES:Young Adults
END:VEVENT
END:VCALENDAR