BEGIN:VCALENDAR
VERSION:2.0
PRODID:-//Crossroads - ECPv6.10.2//NONSGML v1.0//EN
CALSCALE:GREGORIAN
METHOD:PUBLISH
X-ORIGINAL-URL:https://crossroadsingersoll.ca
X-WR-CALDESC:Events for Crossroads
REFRESH-INTERVAL;VALUE=DURATION:PT1H
X-Robots-Tag:noindex
X-PUBLISHED-TTL:PT1H
BEGIN:VTIMEZONE
TZID:UTC
BEGIN:STANDARD
TZOFFSETFROM:+0000
TZOFFSETTO:+0000
TZNAME:UTC
DTSTART:20260101T000000
END:STANDARD
END:VTIMEZONE
BEGIN:VEVENT
DTSTART;TZID=UTC:20260129T063000
DTEND;TZID=UTC:20260129T073000
DTSTAMP:20260420T041911
CREATED:20240820T015617Z
LAST-MODIFIED:20250814T040655Z
UID:10006424-1769668200-1769671800@crossroadsingersoll.ca
SUMMARY:Men’s Prayer
DESCRIPTION:Join other Crossroads Men for early morning prayer!
URL:https://crossroadsingersoll.ca/event/mens-prayer-2/2026-01-29/
LOCATION:4014 Dundas St\, London\, ON N5V 5C6\, 4014 Dundas St\, London\, Ontario\, N5V 5C6\, Canada
CATEGORIES:Men's Ministry,Prayer
ORGANIZER;CN="Crossroads":MAILTO:office@crossroadsac.org
END:VEVENT
BEGIN:VEVENT
DTSTART;TZID=UTC:20260129T180000
DTEND;TZID=UTC:20260129T184500
DTSTAMP:20260420T041911
CREATED:20250522T194105Z
LAST-MODIFIED:20250522T194105Z
UID:10014485-1769709600-1769712300@crossroadsingersoll.ca
SUMMARY:CMFA Junior Dragon Slayer Classes
DESCRIPTION:Junior Dragon Slayers (Ages 4-9) with Brandon
URL:https://crossroadsingersoll.ca/event/cmfa-junior-dragon-slayer-classes/2026-01-29/
LOCATION:Church Building – Oxford\, 184 Oxford St\, Ingersoll\, Ontario\, N5C 2V7\, Canada
CATEGORIES:CMFA
ORGANIZER;CN="Crossroads Martial Fitness Academy":MAILTO:crossroadsmfa@gmail.com
END:VEVENT
BEGIN:VEVENT
DTSTART;TZID=UTC:20260129T180000
DTEND;TZID=UTC:20260129T200000
DTSTAMP:20260420T041911
CREATED:20260120T195230Z
LAST-MODIFIED:20260120T195230Z
UID:10016674-1769709600-1769716800@crossroadsingersoll.ca
SUMMARY:Sycamore Center Information Night
DESCRIPTION:Sycamore Center Info Session – Thursday\, January 29th: 6pm-8pmRooted in trust\, hope\, and love\, the Sycamore Center is a vital part of how we care for our community. If you’ve ever wondered how you can get involved\, we invite you to an Information Session on Thursday\, January 29th from 6pm-8pm in the Fellowship Hall\, where you’ll hear about volunteer opportunities\, ways to support the Shelter\, and how your involvement helps strengthen lives and build lasting hope. \nWhether you’re ready to serve or simply want to learn more\, this is a great first step. Let’s come together to be a light in teh town of Ingersoll.
URL:https://crossroadsingersoll.ca/event/sycamore-center-information-night/
LOCATION:Church Building – Oxford\, 184 Oxford St\, Ingersoll\, Ontario\, N5C 2V7\, Canada
CATEGORIES:Outreach
ORGANIZER;CN="Pastor Chris Poots":MAILTO:chris@crossroadsingersoll.ca
END:VEVENT
BEGIN:VEVENT
DTSTART;TZID=UTC:20260129T190000
DTEND;TZID=UTC:20260129T203000
DTSTAMP:20260420T041911
CREATED:20250522T194256Z
LAST-MODIFIED:20250522T194256Z
UID:10014746-1769713200-1769718600@crossroadsingersoll.ca
SUMMARY:CMFA MMA Classes
DESCRIPTION:No-Gi MMA Classes with Prof. Laprise. \n  \nVisit our website for more information!
URL:https://crossroadsingersoll.ca/event/cmfa-mma-classes/2026-01-29/
LOCATION:Church Building – Oxford\, 184 Oxford St\, Ingersoll\, Ontario\, N5C 2V7\, Canada
CATEGORIES:CMFA
ORGANIZER;CN="Crossroads Martial Fitness Academy":MAILTO:crossroadsmfa@gmail.com
END:VEVENT
BEGIN:VEVENT
DTSTART;TZID=UTC:20260129T190000
DTEND;TZID=UTC:20260129T210000
DTSTAMP:20260420T041911
CREATED:20251205T052115Z
LAST-MODIFIED:20251205T052116Z
UID:10016151-1769713200-1769720400@crossroadsingersoll.ca
SUMMARY:Crossroads Cadets
DESCRIPTION:The Calvinist Cadet Corps is a non-denominational youth ministry organization that provides churches with ministry programs that will enable them to effectively share Christ’s love with boys (ages 9-13) in their church and community.
URL:https://crossroadsingersoll.ca/event/crossroads-cadets-2/2026-01-29/
LOCATION:King’s Cross Academy\, 194552 Oxford County Rd. 119\, Ingersoll\, Ontario\, N5C3J6\, Canada
CATEGORIES:Cadets
ORGANIZER;CN="Jesiah Sweetland":MAILTO:hc.crossroadscadets@gmail.com
END:VEVENT
END:VCALENDAR