BEGIN:VCALENDAR
VERSION:2.0
PRODID:-//Crossroads - ECPv6.10.2//NONSGML v1.0//EN
CALSCALE:GREGORIAN
METHOD:PUBLISH
X-WR-CALNAME:Crossroads
X-ORIGINAL-URL:https://crossroadsingersoll.ca
X-WR-CALDESC:Events for Crossroads
REFRESH-INTERVAL;VALUE=DURATION:PT1H
X-Robots-Tag:noindex
X-PUBLISHED-TTL:PT1H
BEGIN:VTIMEZONE
TZID:UTC
BEGIN:STANDARD
TZOFFSETFROM:+0000
TZOFFSETTO:+0000
TZNAME:UTC
DTSTART:20260101T000000
END:STANDARD
END:VTIMEZONE
BEGIN:VEVENT
DTSTART;TZID=UTC:20260208T080000
DTEND;TZID=UTC:20260208T083000
DTSTAMP:20260421T112058
CREATED:20221102T194306Z
LAST-MODIFIED:20250814T040854Z
UID:10015899-1770537600-1770539400@crossroadsingersoll.ca
SUMMARY:Church Prayer Meeting
DESCRIPTION:Join other members of the church in prayer for Sunday Service. Held in the office board room.
URL:https://crossroadsingersoll.ca/event/church-prayer-meeting-2-2/2026-02-08/
LOCATION:Church Building – Oxford\, 184 Oxford St\, Ingersoll\, Ontario\, N5C 2V7\, Canada
CATEGORIES:Prayer
END:VEVENT
BEGIN:VEVENT
DTSTART;TZID=UTC:20260208T084500
DTEND;TZID=UTC:20260208T103000
DTSTAMP:20260421T112058
CREATED:20250416T172654Z
LAST-MODIFIED:20250522T201813Z
UID:10012855-1770540300-1770546600@crossroadsingersoll.ca
SUMMARY:Sunday Service
DESCRIPTION:Join us for Sunday Service at 8:45am.
URL:https://crossroadsingersoll.ca/event/sunday-service-5-2/2026-02-08/
LOCATION:Church Building – Oxford\, 184 Oxford St\, Ingersoll\, Ontario\, N5C 2V7\, Canada
END:VEVENT
BEGIN:VEVENT
DTSTART;TZID=UTC:20260208T111500
DTEND;TZID=UTC:20260208T123000
DTSTAMP:20260421T112058
CREATED:20250416T170955Z
LAST-MODIFIED:20250522T201654Z
UID:10013117-1770549300-1770553800@crossroadsingersoll.ca
SUMMARY:Sunday Service
DESCRIPTION:Join us for Sunday Service @ 11:15am
URL:https://crossroadsingersoll.ca/event/sunday-service-6-2/2026-02-08/
LOCATION:Church Building – Oxford\, 184 Oxford St\, Ingersoll\, Ontario\, N5C 2V7\, Canada
ORGANIZER;CN="Crossroads":MAILTO:office@crossroadsac.org
END:VEVENT
BEGIN:VEVENT
DTSTART;TZID=UTC:20260208T173000
DTEND;TZID=UTC:20260208T233000
DTSTAMP:20260421T112058
CREATED:20260120T201222Z
LAST-MODIFIED:20260120T201222Z
UID:10016676-1770571800-1770593400@crossroadsingersoll.ca
SUMMARY:Men’s Superbowl Party
DESCRIPTION:Men’s Ministry Super Bowl PartyCrossroads Men! Join us on Sunday\, February 8th at 5:30pm here at Crossroads for a great night of football\, food\, and fellowship!Cost is $15 (cash at the door) — and don’t forget to sign up online here.Bring a friend and come ready for lots of great food and exciting prizes!Questions? Reach out to Mark McLean at mark_mclean07@hotmail.com or Pastor Chris at chris@crossroadsingersoll.ca
URL:https://crossroadsingersoll.ca/event/mens-superbowl-party/
LOCATION:Church Building – Oxford\, 184 Oxford St\, Ingersoll\, Ontario\, N5C 2V7\, Canada
CATEGORIES:Men's Ministry
ORGANIZER;CN="Mark McLean":MAILTO:mark_mclean07@hotmail.com
END:VEVENT
END:VCALENDAR