BEGIN:VCALENDAR
VERSION:2.0
PRODID:-//Crossroads - ECPv6.10.2//NONSGML v1.0//EN
CALSCALE:GREGORIAN
METHOD:PUBLISH
X-WR-CALNAME:Crossroads
X-ORIGINAL-URL:https://crossroadsingersoll.ca
X-WR-CALDESC:Events for Crossroads
REFRESH-INTERVAL;VALUE=DURATION:PT1H
X-Robots-Tag:noindex
X-PUBLISHED-TTL:PT1H
BEGIN:VTIMEZONE
TZID:UTC
BEGIN:STANDARD
TZOFFSETFROM:+0000
TZOFFSETTO:+0000
TZNAME:UTC
DTSTART:20260101T000000
END:STANDARD
END:VTIMEZONE
BEGIN:VEVENT
DTSTART;TZID=UTC:20260322T080000
DTEND;TZID=UTC:20260322T083000
DTSTAMP:20260419T135617
CREATED:20221102T194306Z
LAST-MODIFIED:20250814T040854Z
UID:10015905-1774166400-1774168200@crossroadsingersoll.ca
SUMMARY:Church Prayer Meeting
DESCRIPTION:Join other members of the church in prayer for Sunday Service. Held in the office board room.
URL:https://crossroadsingersoll.ca/event/church-prayer-meeting-2-2/2026-03-22/
LOCATION:Church Building – Oxford\, 184 Oxford St\, Ingersoll\, Ontario\, N5C 2V7\, Canada
CATEGORIES:Prayer
END:VEVENT
BEGIN:VEVENT
DTSTART;TZID=UTC:20260322T084500
DTEND;TZID=UTC:20260322T103000
DTSTAMP:20260419T135617
CREATED:20250416T172654Z
LAST-MODIFIED:20250522T201813Z
UID:10012861-1774169100-1774175400@crossroadsingersoll.ca
SUMMARY:Sunday Service
DESCRIPTION:Join us for Sunday Service at 8:45am.
URL:https://crossroadsingersoll.ca/event/sunday-service-5-2/2026-03-22/
LOCATION:Church Building – Oxford\, 184 Oxford St\, Ingersoll\, Ontario\, N5C 2V7\, Canada
END:VEVENT
BEGIN:VEVENT
DTSTART;TZID=UTC:20260322T111500
DTEND;TZID=UTC:20260322T123000
DTSTAMP:20260419T135617
CREATED:20250416T170955Z
LAST-MODIFIED:20250522T201654Z
UID:10013123-1774178100-1774182600@crossroadsingersoll.ca
SUMMARY:Sunday Service
DESCRIPTION:Join us for Sunday Service @ 11:15am
URL:https://crossroadsingersoll.ca/event/sunday-service-6-2/2026-03-22/
LOCATION:Church Building – Oxford\, 184 Oxford St\, Ingersoll\, Ontario\, N5C 2V7\, Canada
ORGANIZER;CN="Crossroads":MAILTO:office@crossroadsac.org
END:VEVENT
BEGIN:VEVENT
DTSTART;TZID=UTC:20260322T133000
DTEND;TZID=UTC:20260322T143000
DTSTAMP:20260419T135617
CREATED:20260322T160612Z
LAST-MODIFIED:20260329T024640Z
UID:10016680-1774186200-1774189800@crossroadsingersoll.ca
SUMMARY:Community Outreach Planning Meeting
DESCRIPTION:Community Dinner Planning Meeting: Sunday\, March 22nd—1:30pm-2:30pm\nWe are looking to host a monthly Community Outreach Dinner for those in Ingersoll who could use extra support and encouragement. If you would be interested in helping\, please join us for a planning meeting in the Fellowship Hall after the second service (please bring your own lunch). For more information\, contact Dan Koppert.
URL:https://crossroadsingersoll.ca/event/community-outreach-planning-meeting/
LOCATION:Church Building – Oxford\, 184 Oxford St\, Ingersoll\, Ontario\, N5C 2V7\, Canada
END:VEVENT
END:VCALENDAR