BEGIN:VCALENDAR
VERSION:2.0
PRODID:-//Crossroads - ECPv6.10.2//NONSGML v1.0//EN
CALSCALE:GREGORIAN
METHOD:PUBLISH
X-WR-CALNAME:Crossroads
X-ORIGINAL-URL:https://crossroadsingersoll.ca
X-WR-CALDESC:Events for Crossroads
REFRESH-INTERVAL;VALUE=DURATION:PT1H
X-Robots-Tag:noindex
X-PUBLISHED-TTL:PT1H
BEGIN:VTIMEZONE
TZID:UTC
BEGIN:STANDARD
TZOFFSETFROM:+0000
TZOFFSETTO:+0000
TZNAME:UTC
DTSTART:20240101T000000
END:STANDARD
END:VTIMEZONE
BEGIN:VEVENT
DTSTART;TZID=UTC:20251023T190000
DTEND;TZID=UTC:20251023T210000
DTSTAMP:20260423T231027
CREATED:20250829T192702Z
LAST-MODIFIED:20250829T192702Z
UID:10016144-1761246000-1761253200@crossroadsingersoll.ca
SUMMARY:Crossroads Cadets
DESCRIPTION:The Calvinist Cadet Corps is a non-denominational youth ministry organization that provides churches with ministry programs that will enable them to effectively share Christ’s love with boys (ages 9-13) in their church and community.
URL:https://crossroadsingersoll.ca/event/crossroads-cadets/2025-10-23/
LOCATION:King’s Cross Academy\, 194552 Oxford County Rd. 119\, Ingersoll\, Ontario\, N5C3J6\, Canada
CATEGORIES:Cadets
ORGANIZER;CN="Jesiah Sweetland":MAILTO:hc.crossroadscadets@gmail.com
END:VEVENT
BEGIN:VEVENT
DTSTART;TZID=UTC:20251009T190000
DTEND;TZID=UTC:20251009T210000
DTSTAMP:20260423T231027
CREATED:20250829T192702Z
LAST-MODIFIED:20250829T192702Z
UID:10016143-1760036400-1760043600@crossroadsingersoll.ca
SUMMARY:Crossroads Cadets
DESCRIPTION:The Calvinist Cadet Corps is a non-denominational youth ministry organization that provides churches with ministry programs that will enable them to effectively share Christ’s love with boys (ages 9-13) in their church and community.
URL:https://crossroadsingersoll.ca/event/crossroads-cadets/2025-10-09/
LOCATION:King’s Cross Academy\, 194552 Oxford County Rd. 119\, Ingersoll\, Ontario\, N5C3J6\, Canada
CATEGORIES:Cadets
ORGANIZER;CN="Jesiah Sweetland":MAILTO:hc.crossroadscadets@gmail.com
END:VEVENT
BEGIN:VEVENT
DTSTART;TZID=UTC:20250925T190000
DTEND;TZID=UTC:20250925T210000
DTSTAMP:20260423T231027
CREATED:20250829T192702Z
LAST-MODIFIED:20250829T192702Z
UID:10016142-1758826800-1758834000@crossroadsingersoll.ca
SUMMARY:Crossroads Cadets
DESCRIPTION:The Calvinist Cadet Corps is a non-denominational youth ministry organization that provides churches with ministry programs that will enable them to effectively share Christ’s love with boys (ages 9-13) in their church and community.
URL:https://crossroadsingersoll.ca/event/crossroads-cadets/2025-09-25/
LOCATION:King’s Cross Academy\, 194552 Oxford County Rd. 119\, Ingersoll\, Ontario\, N5C3J6\, Canada
CATEGORIES:Cadets
ORGANIZER;CN="Jesiah Sweetland":MAILTO:hc.crossroadscadets@gmail.com
END:VEVENT
BEGIN:VEVENT
DTSTART;TZID=UTC:20250911T190000
DTEND;TZID=UTC:20250911T210000
DTSTAMP:20260423T231027
CREATED:20250829T192702Z
LAST-MODIFIED:20250829T192702Z
UID:10016141-1757617200-1757624400@crossroadsingersoll.ca
SUMMARY:Crossroads Cadets
DESCRIPTION:The Calvinist Cadet Corps is a non-denominational youth ministry organization that provides churches with ministry programs that will enable them to effectively share Christ’s love with boys (ages 9-13) in their church and community.
URL:https://crossroadsingersoll.ca/event/crossroads-cadets/2025-09-11/
LOCATION:King’s Cross Academy\, 194552 Oxford County Rd. 119\, Ingersoll\, Ontario\, N5C3J6\, Canada
CATEGORIES:Cadets
ORGANIZER;CN="Jesiah Sweetland":MAILTO:hc.crossroadscadets@gmail.com
END:VEVENT
BEGIN:VEVENT
DTSTART;TZID=UTC:20250501T190000
DTEND;TZID=UTC:20250501T210000
DTSTAMP:20260423T231027
CREATED:20240619T213115Z
LAST-MODIFIED:20250307T191025Z
UID:10010706-1746126000-1746133200@crossroadsingersoll.ca
SUMMARY:Cadets
DESCRIPTION:The Calvinist Cadet Corps is a non-denominational youth ministry organization that provides churches with ministry programs that will enable them to effectively share Christ’s love with boys (ages 9-13) in their church and community.\nRegistration fees apply – Contact Head Counsellor for details.
URL:https://crossroadsingersoll.ca/event/calvinist-cadets-2-2/2025-05-01/
LOCATION:King’s Cross Academy\, 194552 Oxford County Rd. 119\, Ingersoll\, Ontario\, N5C3J6\, Canada
CATEGORIES:Cadets
END:VEVENT
BEGIN:VEVENT
DTSTART;TZID=UTC:20250417T190000
DTEND;TZID=UTC:20250417T210000
DTSTAMP:20260423T231027
CREATED:20240619T213115Z
LAST-MODIFIED:20250307T191025Z
UID:10010705-1744916400-1744923600@crossroadsingersoll.ca
SUMMARY:Cadets
DESCRIPTION:The Calvinist Cadet Corps is a non-denominational youth ministry organization that provides churches with ministry programs that will enable them to effectively share Christ’s love with boys (ages 9-13) in their church and community.\nRegistration fees apply – Contact Head Counsellor for details.
URL:https://crossroadsingersoll.ca/event/calvinist-cadets-2-2/2025-04-17/
LOCATION:King’s Cross Academy\, 194552 Oxford County Rd. 119\, Ingersoll\, Ontario\, N5C3J6\, Canada
CATEGORIES:Cadets
END:VEVENT
BEGIN:VEVENT
DTSTART;TZID=UTC:20250403T190000
DTEND;TZID=UTC:20250403T210000
DTSTAMP:20260423T231027
CREATED:20240619T213115Z
LAST-MODIFIED:20250307T191025Z
UID:10010704-1743706800-1743714000@crossroadsingersoll.ca
SUMMARY:Cadets
DESCRIPTION:The Calvinist Cadet Corps is a non-denominational youth ministry organization that provides churches with ministry programs that will enable them to effectively share Christ’s love with boys (ages 9-13) in their church and community.\nRegistration fees apply – Contact Head Counsellor for details.
URL:https://crossroadsingersoll.ca/event/calvinist-cadets-2-2/2025-04-03/
LOCATION:King’s Cross Academy\, 194552 Oxford County Rd. 119\, Ingersoll\, Ontario\, N5C3J6\, Canada
CATEGORIES:Cadets
END:VEVENT
BEGIN:VEVENT
DTSTART;TZID=UTC:20250320T190000
DTEND;TZID=UTC:20250320T210000
DTSTAMP:20260423T231027
CREATED:20250307T041554Z
LAST-MODIFIED:20250307T041554Z
UID:10011207-1742497200-1742504400@crossroadsingersoll.ca
SUMMARY:Cadets
DESCRIPTION:The Calvinist Cadet Corps is a non-denominational youth ministry organization that provides churches with ministry programs that will enable them to effectively share Christ’s love with boys (ages 9-13) in their church and community.\nRegistration fees apply – Contact Head Counsellor for details.
URL:https://crossroadsingersoll.ca/event/cadets/
LOCATION:King’s Cross Academy\, 194552 Oxford County Rd. 119\, Ingersoll\, Ontario\, N5C3J6\, Canada
CATEGORIES:Cadets,Children
ORGANIZER;CN="Jesiah Sweetland":MAILTO:hc.crossroadscadets@gmail.com
END:VEVENT
BEGIN:VEVENT
DTSTART;TZID=UTC:20250320T190000
DTEND;TZID=UTC:20250320T210000
DTSTAMP:20260423T231027
CREATED:20240619T213115Z
LAST-MODIFIED:20250307T191025Z
UID:10010703-1742497200-1742504400@crossroadsingersoll.ca
SUMMARY:Cadets
DESCRIPTION:The Calvinist Cadet Corps is a non-denominational youth ministry organization that provides churches with ministry programs that will enable them to effectively share Christ’s love with boys (ages 9-13) in their church and community.\nRegistration fees apply – Contact Head Counsellor for details.
URL:https://crossroadsingersoll.ca/event/calvinist-cadets-2-2/2025-03-20/
LOCATION:King’s Cross Academy\, 194552 Oxford County Rd. 119\, Ingersoll\, Ontario\, N5C3J6\, Canada
CATEGORIES:Cadets
END:VEVENT
BEGIN:VEVENT
DTSTART;TZID=UTC:20250306T190000
DTEND;TZID=UTC:20250306T210000
DTSTAMP:20260423T231027
CREATED:20240619T213115Z
LAST-MODIFIED:20250307T191025Z
UID:10010702-1741287600-1741294800@crossroadsingersoll.ca
SUMMARY:Cadets
DESCRIPTION:The Calvinist Cadet Corps is a non-denominational youth ministry organization that provides churches with ministry programs that will enable them to effectively share Christ’s love with boys (ages 9-13) in their church and community.\nRegistration fees apply – Contact Head Counsellor for details.
URL:https://crossroadsingersoll.ca/event/calvinist-cadets-2-2/2025-03-06/
LOCATION:King’s Cross Academy\, 194552 Oxford County Rd. 119\, Ingersoll\, Ontario\, N5C3J6\, Canada
CATEGORIES:Cadets
END:VEVENT
BEGIN:VEVENT
DTSTART;TZID=UTC:20250220T190000
DTEND;TZID=UTC:20250220T210000
DTSTAMP:20260423T231027
CREATED:20240619T213115Z
LAST-MODIFIED:20250307T191025Z
UID:10010701-1740078000-1740085200@crossroadsingersoll.ca
SUMMARY:Cadets
DESCRIPTION:The Calvinist Cadet Corps is a non-denominational youth ministry organization that provides churches with ministry programs that will enable them to effectively share Christ’s love with boys (ages 9-13) in their church and community.\nRegistration fees apply – Contact Head Counsellor for details.
URL:https://crossroadsingersoll.ca/event/calvinist-cadets-2-2/2025-02-20/
LOCATION:King’s Cross Academy\, 194552 Oxford County Rd. 119\, Ingersoll\, Ontario\, N5C3J6\, Canada
CATEGORIES:Cadets
END:VEVENT
BEGIN:VEVENT
DTSTART;TZID=UTC:20250206T190000
DTEND;TZID=UTC:20250206T210000
DTSTAMP:20260423T231027
CREATED:20240619T213115Z
LAST-MODIFIED:20250307T191025Z
UID:10010700-1738868400-1738875600@crossroadsingersoll.ca
SUMMARY:Cadets
DESCRIPTION:The Calvinist Cadet Corps is a non-denominational youth ministry organization that provides churches with ministry programs that will enable them to effectively share Christ’s love with boys (ages 9-13) in their church and community.\nRegistration fees apply – Contact Head Counsellor for details.
URL:https://crossroadsingersoll.ca/event/calvinist-cadets-2-2/2025-02-06/
LOCATION:King’s Cross Academy\, 194552 Oxford County Rd. 119\, Ingersoll\, Ontario\, N5C3J6\, Canada
CATEGORIES:Cadets
END:VEVENT
BEGIN:VEVENT
DTSTART;TZID=UTC:20250123T190000
DTEND;TZID=UTC:20250123T210000
DTSTAMP:20260423T231027
CREATED:20240619T213115Z
LAST-MODIFIED:20250307T191025Z
UID:10010699-1737658800-1737666000@crossroadsingersoll.ca
SUMMARY:Cadets
DESCRIPTION:The Calvinist Cadet Corps is a non-denominational youth ministry organization that provides churches with ministry programs that will enable them to effectively share Christ’s love with boys (ages 9-13) in their church and community.\nRegistration fees apply – Contact Head Counsellor for details.
URL:https://crossroadsingersoll.ca/event/calvinist-cadets-2-2/2025-01-23/
LOCATION:King’s Cross Academy\, 194552 Oxford County Rd. 119\, Ingersoll\, Ontario\, N5C3J6\, Canada
CATEGORIES:Cadets
END:VEVENT
BEGIN:VEVENT
DTSTART;TZID=UTC:20250109T190000
DTEND;TZID=UTC:20250109T210000
DTSTAMP:20260423T231027
CREATED:20240619T213115Z
LAST-MODIFIED:20250307T191025Z
UID:10010698-1736449200-1736456400@crossroadsingersoll.ca
SUMMARY:Cadets
DESCRIPTION:The Calvinist Cadet Corps is a non-denominational youth ministry organization that provides churches with ministry programs that will enable them to effectively share Christ’s love with boys (ages 9-13) in their church and community.\nRegistration fees apply – Contact Head Counsellor for details.
URL:https://crossroadsingersoll.ca/event/calvinist-cadets-2-2/2025-01-09/
LOCATION:King’s Cross Academy\, 194552 Oxford County Rd. 119\, Ingersoll\, Ontario\, N5C3J6\, Canada
CATEGORIES:Cadets
END:VEVENT
BEGIN:VEVENT
DTSTART;TZID=UTC:20241212T190000
DTEND;TZID=UTC:20241212T210000
DTSTAMP:20260423T231027
CREATED:20240619T213115Z
LAST-MODIFIED:20250307T191025Z
UID:10010697-1734030000-1734037200@crossroadsingersoll.ca
SUMMARY:Cadets
DESCRIPTION:The Calvinist Cadet Corps is a non-denominational youth ministry organization that provides churches with ministry programs that will enable them to effectively share Christ’s love with boys (ages 9-13) in their church and community.\nRegistration fees apply – Contact Head Counsellor for details.
URL:https://crossroadsingersoll.ca/event/calvinist-cadets-2-2/2024-12-12/
LOCATION:King’s Cross Academy\, 194552 Oxford County Rd. 119\, Ingersoll\, Ontario\, N5C3J6\, Canada
CATEGORIES:Cadets
END:VEVENT
BEGIN:VEVENT
DTSTART;TZID=UTC:20241128T190000
DTEND;TZID=UTC:20241128T210000
DTSTAMP:20260423T231027
CREATED:20240619T213115Z
LAST-MODIFIED:20250307T191025Z
UID:10010696-1732820400-1732827600@crossroadsingersoll.ca
SUMMARY:Cadets
DESCRIPTION:The Calvinist Cadet Corps is a non-denominational youth ministry organization that provides churches with ministry programs that will enable them to effectively share Christ’s love with boys (ages 9-13) in their church and community.\nRegistration fees apply – Contact Head Counsellor for details.
URL:https://crossroadsingersoll.ca/event/calvinist-cadets-2-2/2024-11-28/
LOCATION:King’s Cross Academy\, 194552 Oxford County Rd. 119\, Ingersoll\, Ontario\, N5C3J6\, Canada
CATEGORIES:Cadets
END:VEVENT
BEGIN:VEVENT
DTSTART;TZID=UTC:20241114T190000
DTEND;TZID=UTC:20241114T210000
DTSTAMP:20260423T231027
CREATED:20240619T213115Z
LAST-MODIFIED:20250307T191025Z
UID:10010695-1731610800-1731618000@crossroadsingersoll.ca
SUMMARY:Cadets
DESCRIPTION:The Calvinist Cadet Corps is a non-denominational youth ministry organization that provides churches with ministry programs that will enable them to effectively share Christ’s love with boys (ages 9-13) in their church and community.\nRegistration fees apply – Contact Head Counsellor for details.
URL:https://crossroadsingersoll.ca/event/calvinist-cadets-2-2/2024-11-14/
LOCATION:King’s Cross Academy\, 194552 Oxford County Rd. 119\, Ingersoll\, Ontario\, N5C3J6\, Canada
CATEGORIES:Cadets
END:VEVENT
BEGIN:VEVENT
DTSTART;TZID=UTC:20241031T190000
DTEND;TZID=UTC:20241031T210000
DTSTAMP:20260423T231027
CREATED:20240619T213115Z
LAST-MODIFIED:20250307T191025Z
UID:10010694-1730401200-1730408400@crossroadsingersoll.ca
SUMMARY:Cadets
DESCRIPTION:The Calvinist Cadet Corps is a non-denominational youth ministry organization that provides churches with ministry programs that will enable them to effectively share Christ’s love with boys (ages 9-13) in their church and community.\nRegistration fees apply – Contact Head Counsellor for details.
URL:https://crossroadsingersoll.ca/event/calvinist-cadets-2-2/2024-10-31/
LOCATION:King’s Cross Academy\, 194552 Oxford County Rd. 119\, Ingersoll\, Ontario\, N5C3J6\, Canada
CATEGORIES:Cadets
END:VEVENT
BEGIN:VEVENT
DTSTART;TZID=UTC:20241017T190000
DTEND;TZID=UTC:20241017T210000
DTSTAMP:20260423T231027
CREATED:20240619T213115Z
LAST-MODIFIED:20250307T191025Z
UID:10010693-1729191600-1729198800@crossroadsingersoll.ca
SUMMARY:Cadets
DESCRIPTION:The Calvinist Cadet Corps is a non-denominational youth ministry organization that provides churches with ministry programs that will enable them to effectively share Christ’s love with boys (ages 9-13) in their church and community.\nRegistration fees apply – Contact Head Counsellor for details.
URL:https://crossroadsingersoll.ca/event/calvinist-cadets-2-2/2024-10-17/
LOCATION:King’s Cross Academy\, 194552 Oxford County Rd. 119\, Ingersoll\, Ontario\, N5C3J6\, Canada
CATEGORIES:Cadets
END:VEVENT
BEGIN:VEVENT
DTSTART;TZID=UTC:20241003T190000
DTEND;TZID=UTC:20241003T210000
DTSTAMP:20260423T231027
CREATED:20240619T213115Z
LAST-MODIFIED:20250307T191025Z
UID:10010692-1727982000-1727989200@crossroadsingersoll.ca
SUMMARY:Cadets
DESCRIPTION:The Calvinist Cadet Corps is a non-denominational youth ministry organization that provides churches with ministry programs that will enable them to effectively share Christ’s love with boys (ages 9-13) in their church and community.\nRegistration fees apply – Contact Head Counsellor for details.
URL:https://crossroadsingersoll.ca/event/calvinist-cadets-2-2/2024-10-03/
LOCATION:King’s Cross Academy\, 194552 Oxford County Rd. 119\, Ingersoll\, Ontario\, N5C3J6\, Canada
CATEGORIES:Cadets
END:VEVENT
BEGIN:VEVENT
DTSTART;TZID=UTC:20240919T190000
DTEND;TZID=UTC:20240919T210000
DTSTAMP:20260423T231027
CREATED:20240619T213115Z
LAST-MODIFIED:20250307T191025Z
UID:10010691-1726772400-1726779600@crossroadsingersoll.ca
SUMMARY:Cadets
DESCRIPTION:The Calvinist Cadet Corps is a non-denominational youth ministry organization that provides churches with ministry programs that will enable them to effectively share Christ’s love with boys (ages 9-13) in their church and community.\nRegistration fees apply – Contact Head Counsellor for details.
URL:https://crossroadsingersoll.ca/event/calvinist-cadets-2-2/2024-09-19/
LOCATION:King’s Cross Academy\, 194552 Oxford County Rd. 119\, Ingersoll\, Ontario\, N5C3J6\, Canada
CATEGORIES:Cadets
END:VEVENT
BEGIN:VEVENT
DTSTART;TZID=UTC:20240606T190000
DTEND;TZID=UTC:20240606T210000
DTSTAMP:20260423T231027
CREATED:20231115T180239Z
LAST-MODIFIED:20231115T180241Z
UID:10006749-1717700400-1717707600@crossroadsingersoll.ca
SUMMARY:Calvinist Cadets
DESCRIPTION:The Calvinist Cadet Corps is a non-denominational youth ministry organization that provides churches with ministry programs that will enable them to effectively share Christ’s love with boys (ages 9-13) in their church and community.\nRegistration fees apply – Contact Head Counsellor for details.
URL:https://crossroadsingersoll.ca/event/calvinist-cadets-2/2024-06-06/
LOCATION:King’s Cross Academy\, 194552 Oxford County Rd. 119\, Ingersoll\, Ontario\, N5C3J6\, Canada
CATEGORIES:Cadets
END:VEVENT
BEGIN:VEVENT
DTSTART;TZID=UTC:20240523T190000
DTEND;TZID=UTC:20240523T210000
DTSTAMP:20260423T231027
CREATED:20231115T180239Z
LAST-MODIFIED:20231115T180241Z
UID:10006748-1716490800-1716498000@crossroadsingersoll.ca
SUMMARY:Calvinist Cadets
DESCRIPTION:The Calvinist Cadet Corps is a non-denominational youth ministry organization that provides churches with ministry programs that will enable them to effectively share Christ’s love with boys (ages 9-13) in their church and community.\nRegistration fees apply – Contact Head Counsellor for details.
URL:https://crossroadsingersoll.ca/event/calvinist-cadets-2/2024-05-23/
LOCATION:King’s Cross Academy\, 194552 Oxford County Rd. 119\, Ingersoll\, Ontario\, N5C3J6\, Canada
CATEGORIES:Cadets
END:VEVENT
BEGIN:VEVENT
DTSTART;TZID=UTC:20240509T190000
DTEND;TZID=UTC:20240509T210000
DTSTAMP:20260423T231027
CREATED:20231115T180239Z
LAST-MODIFIED:20231115T180241Z
UID:10006747-1715281200-1715288400@crossroadsingersoll.ca
SUMMARY:Calvinist Cadets
DESCRIPTION:The Calvinist Cadet Corps is a non-denominational youth ministry organization that provides churches with ministry programs that will enable them to effectively share Christ’s love with boys (ages 9-13) in their church and community.\nRegistration fees apply – Contact Head Counsellor for details.
URL:https://crossroadsingersoll.ca/event/calvinist-cadets-2/2024-05-09/
LOCATION:King’s Cross Academy\, 194552 Oxford County Rd. 119\, Ingersoll\, Ontario\, N5C3J6\, Canada
CATEGORIES:Cadets
END:VEVENT
BEGIN:VEVENT
DTSTART;TZID=UTC:20240425T190000
DTEND;TZID=UTC:20240425T210000
DTSTAMP:20260423T231027
CREATED:20231115T180239Z
LAST-MODIFIED:20231115T180241Z
UID:10006746-1714071600-1714078800@crossroadsingersoll.ca
SUMMARY:Calvinist Cadets
DESCRIPTION:The Calvinist Cadet Corps is a non-denominational youth ministry organization that provides churches with ministry programs that will enable them to effectively share Christ’s love with boys (ages 9-13) in their church and community.\nRegistration fees apply – Contact Head Counsellor for details.
URL:https://crossroadsingersoll.ca/event/calvinist-cadets-2/2024-04-25/
LOCATION:King’s Cross Academy\, 194552 Oxford County Rd. 119\, Ingersoll\, Ontario\, N5C3J6\, Canada
CATEGORIES:Cadets
END:VEVENT
BEGIN:VEVENT
DTSTART;TZID=UTC:20240411T190000
DTEND;TZID=UTC:20240411T210000
DTSTAMP:20260423T231027
CREATED:20231115T180239Z
LAST-MODIFIED:20231115T180241Z
UID:10006745-1712862000-1712869200@crossroadsingersoll.ca
SUMMARY:Calvinist Cadets
DESCRIPTION:The Calvinist Cadet Corps is a non-denominational youth ministry organization that provides churches with ministry programs that will enable them to effectively share Christ’s love with boys (ages 9-13) in their church and community.\nRegistration fees apply – Contact Head Counsellor for details.
URL:https://crossroadsingersoll.ca/event/calvinist-cadets-2/2024-04-11/
LOCATION:King’s Cross Academy\, 194552 Oxford County Rd. 119\, Ingersoll\, Ontario\, N5C3J6\, Canada
CATEGORIES:Cadets
END:VEVENT
BEGIN:VEVENT
DTSTART;TZID=UTC:20240328T190000
DTEND;TZID=UTC:20240328T210000
DTSTAMP:20260423T231027
CREATED:20231115T180239Z
LAST-MODIFIED:20231115T180241Z
UID:10006744-1711652400-1711659600@crossroadsingersoll.ca
SUMMARY:Calvinist Cadets
DESCRIPTION:The Calvinist Cadet Corps is a non-denominational youth ministry organization that provides churches with ministry programs that will enable them to effectively share Christ’s love with boys (ages 9-13) in their church and community.\nRegistration fees apply – Contact Head Counsellor for details.
URL:https://crossroadsingersoll.ca/event/calvinist-cadets-2/2024-03-28/
LOCATION:King’s Cross Academy\, 194552 Oxford County Rd. 119\, Ingersoll\, Ontario\, N5C3J6\, Canada
CATEGORIES:Cadets
END:VEVENT
BEGIN:VEVENT
DTSTART;TZID=UTC:20240314T190000
DTEND;TZID=UTC:20240314T210000
DTSTAMP:20260423T231027
CREATED:20231115T180239Z
LAST-MODIFIED:20231115T180241Z
UID:10006743-1710442800-1710450000@crossroadsingersoll.ca
SUMMARY:Calvinist Cadets
DESCRIPTION:The Calvinist Cadet Corps is a non-denominational youth ministry organization that provides churches with ministry programs that will enable them to effectively share Christ’s love with boys (ages 9-13) in their church and community.\nRegistration fees apply – Contact Head Counsellor for details.
URL:https://crossroadsingersoll.ca/event/calvinist-cadets-2/2024-03-14/
LOCATION:King’s Cross Academy\, 194552 Oxford County Rd. 119\, Ingersoll\, Ontario\, N5C3J6\, Canada
CATEGORIES:Cadets
END:VEVENT
BEGIN:VEVENT
DTSTART;TZID=UTC:20240229T190000
DTEND;TZID=UTC:20240229T210000
DTSTAMP:20260423T231027
CREATED:20231115T180239Z
LAST-MODIFIED:20231115T180241Z
UID:10006742-1709233200-1709240400@crossroadsingersoll.ca
SUMMARY:Calvinist Cadets
DESCRIPTION:The Calvinist Cadet Corps is a non-denominational youth ministry organization that provides churches with ministry programs that will enable them to effectively share Christ’s love with boys (ages 9-13) in their church and community.\nRegistration fees apply – Contact Head Counsellor for details.
URL:https://crossroadsingersoll.ca/event/calvinist-cadets-2/2024-02-29/
LOCATION:King’s Cross Academy\, 194552 Oxford County Rd. 119\, Ingersoll\, Ontario\, N5C3J6\, Canada
CATEGORIES:Cadets
END:VEVENT
BEGIN:VEVENT
DTSTART;TZID=UTC:20240225T083000
DTEND;TZID=UTC:20240225T123000
DTSTAMP:20260423T231027
CREATED:20240110T000119Z
LAST-MODIFIED:20240110T000203Z
UID:10008760-1708849800-1708864200@crossroadsingersoll.ca
SUMMARY:Cadet Sunday
DESCRIPTION:During Crossroads worship services\, we will be elebrating and witnessing how God is working in the lives of boys through the Calvinist Cadet Corps organization. The boys will be sharing their allegiance and devotion to Christ through song and Scripture at the beginning of the service.
URL:https://crossroadsingersoll.ca/event/cadet-sunday/
LOCATION:Ontario
CATEGORIES:Cadets
ORGANIZER;CN="Jesiah Sweetland":MAILTO:hc.crossroadscadets@gmail.com
END:VEVENT
END:VCALENDAR