BEGIN:VCALENDAR
VERSION:2.0
PRODID:-//Crossroads - ECPv6.10.2//NONSGML v1.0//EN
CALSCALE:GREGORIAN
METHOD:PUBLISH
X-WR-CALNAME:Crossroads
X-ORIGINAL-URL:https://crossroadsingersoll.ca
X-WR-CALDESC:Events for Crossroads
REFRESH-INTERVAL;VALUE=DURATION:PT1H
X-Robots-Tag:noindex
X-PUBLISHED-TTL:PT1H
BEGIN:VTIMEZONE
TZID:UTC
BEGIN:STANDARD
TZOFFSETFROM:+0000
TZOFFSETTO:+0000
TZNAME:UTC
DTSTART:20260101T000000
END:STANDARD
END:VTIMEZONE
BEGIN:VEVENT
DTSTART;TZID=UTC:20260413T180000
DTEND;TZID=UTC:20260413T200000
DTSTAMP:20260423T064540
CREATED:20250522T192627Z
LAST-MODIFIED:20250522T192627Z
UID:10013441-1776103200-1776110400@crossroadsingersoll.ca
SUMMARY:CMFA Boxing Class
DESCRIPTION:Boxing Class with Gary!\nPlease visit the CMFA Website for more information.
URL:https://crossroadsingersoll.ca/event/cmfa-boxing-class/2026-04-13/
LOCATION:Church Building – Oxford\, 184 Oxford St\, Ingersoll\, Ontario\, N5C 2V7\, Canada
CATEGORIES:CMFA
ORGANIZER;CN="Crossroads Martial Fitness Academy":MAILTO:crossroadsmfa@gmail.com
END:VEVENT
END:VCALENDAR