BEGIN:VCALENDAR
VERSION:2.0
PRODID:-//Crossroads - ECPv6.10.2//NONSGML v1.0//EN
CALSCALE:GREGORIAN
METHOD:PUBLISH
X-WR-CALNAME:Crossroads
X-ORIGINAL-URL:https://crossroadsingersoll.ca
X-WR-CALDESC:Events for Crossroads
REFRESH-INTERVAL;VALUE=DURATION:PT1H
X-Robots-Tag:noindex
X-PUBLISHED-TTL:PT1H
BEGIN:VTIMEZONE
TZID:UTC
BEGIN:STANDARD
TZOFFSETFROM:+0000
TZOFFSETTO:+0000
TZNAME:UTC
DTSTART:20260101T000000
END:STANDARD
END:VTIMEZONE
BEGIN:VEVENT
DTSTART;TZID=UTC:20260518T180000
DTEND;TZID=UTC:20260518T200000
DTSTAMP:20260423T192904
CREATED:20250522T192627Z
LAST-MODIFIED:20250522T192627Z
UID:10013446-1779127200-1779134400@crossroadsingersoll.ca
SUMMARY:CMFA Boxing Class
DESCRIPTION:Boxing Class with Gary!\nPlease visit the CMFA Website for more information.
URL:https://crossroadsingersoll.ca/event/cmfa-boxing-class/2026-05-18/
LOCATION:Church Building – Oxford\, 184 Oxford St\, Ingersoll\, Ontario\, N5C 2V7\, Canada
CATEGORIES:CMFA
ORGANIZER;CN="Crossroads Martial Fitness Academy":MAILTO:crossroadsmfa@gmail.com
END:VEVENT
BEGIN:VEVENT
DTSTART;TZID=UTC:20260519T180000
DTEND;TZID=UTC:20260519T190000
DTSTAMP:20260423T192904
CREATED:20250522T193516Z
LAST-MODIFIED:20250522T193516Z
UID:10013708-1779213600-1779217200@crossroadsingersoll.ca
SUMMARY:CMFA Dragon Slayers Classes
DESCRIPTION:Dragon Slayers (Ages 10-14) with Brandon
URL:https://crossroadsingersoll.ca/event/cmfa-dragon-slayers-classes/2026-05-19/
LOCATION:Church Building – Oxford\, 184 Oxford St\, Ingersoll\, Ontario\, N5C 2V7\, Canada
CATEGORIES:CMFA
ORGANIZER;CN="Crossroads Martial Fitness Academy":MAILTO:crossroadsmfa@gmail.com
END:VEVENT
BEGIN:VEVENT
DTSTART;TZID=UTC:20260519T190000
DTEND;TZID=UTC:20260519T193000
DTSTAMP:20260423T192904
CREATED:20250522T193709Z
LAST-MODIFIED:20250522T193709Z
UID:10013972-1779217200-1779219000@crossroadsingersoll.ca
SUMMARY:CMFA Striking Classes
DESCRIPTION:CMFA Striking Classes with Brandon. \nVisit our website for more information!
URL:https://crossroadsingersoll.ca/event/cmfa-striking-classes/2026-05-19/
LOCATION:Church Building – Oxford\, 184 Oxford St\, Ingersoll\, Ontario\, N5C 2V7\, Canada
CATEGORIES:CMFA
ORGANIZER;CN="Crossroads Martial Fitness Academy":MAILTO:crossroadsmfa@gmail.com
END:VEVENT
BEGIN:VEVENT
DTSTART;TZID=UTC:20260519T193000
DTEND;TZID=UTC:20260519T213000
DTSTAMP:20260423T192904
CREATED:20250522T193912Z
LAST-MODIFIED:20250522T193912Z
UID:10014236-1779219000-1779226200@crossroadsingersoll.ca
SUMMARY:CMFA BJJ Fundamentals & Advanced Classes
DESCRIPTION:BJJ Fundamentals and Advances with Cal & Brandon! \nVisit the CMFA website for more information.
URL:https://crossroadsingersoll.ca/event/cmfa-bjj-fundamentals-advanced-classes/2026-05-19/
LOCATION:Church Building – Oxford\, 184 Oxford St\, Ingersoll\, Ontario\, N5C 2V7\, Canada
CATEGORIES:CMFA
ORGANIZER;CN="Crossroads Martial Fitness Academy":MAILTO:crossroadsmfa@gmail.com
END:VEVENT
BEGIN:VEVENT
DTSTART;TZID=UTC:20260521T180000
DTEND;TZID=UTC:20260521T184500
DTSTAMP:20260423T192904
CREATED:20250522T194105Z
LAST-MODIFIED:20250522T194105Z
UID:10014501-1779386400-1779389100@crossroadsingersoll.ca
SUMMARY:CMFA Junior Dragon Slayer Classes
DESCRIPTION:Junior Dragon Slayers (Ages 4-9) with Brandon
URL:https://crossroadsingersoll.ca/event/cmfa-junior-dragon-slayer-classes/2026-05-21/
LOCATION:Church Building – Oxford\, 184 Oxford St\, Ingersoll\, Ontario\, N5C 2V7\, Canada
CATEGORIES:CMFA
ORGANIZER;CN="Crossroads Martial Fitness Academy":MAILTO:crossroadsmfa@gmail.com
END:VEVENT
BEGIN:VEVENT
DTSTART;TZID=UTC:20260521T190000
DTEND;TZID=UTC:20260521T203000
DTSTAMP:20260423T192904
CREATED:20250522T194256Z
LAST-MODIFIED:20250522T194256Z
UID:10014762-1779390000-1779395400@crossroadsingersoll.ca
SUMMARY:CMFA MMA Classes
DESCRIPTION:No-Gi MMA Classes with Prof. Laprise. \n  \nVisit our website for more information!
URL:https://crossroadsingersoll.ca/event/cmfa-mma-classes/2026-05-21/
LOCATION:Church Building – Oxford\, 184 Oxford St\, Ingersoll\, Ontario\, N5C 2V7\, Canada
CATEGORIES:CMFA
ORGANIZER;CN="Crossroads Martial Fitness Academy":MAILTO:crossroadsmfa@gmail.com
END:VEVENT
BEGIN:VEVENT
DTSTART;TZID=UTC:20260523T100000
DTEND;TZID=UTC:20260523T110000
DTSTAMP:20260423T192904
CREATED:20250522T200018Z
LAST-MODIFIED:20250522T200018Z
UID:10015023-1779530400-1779534000@crossroadsingersoll.ca
SUMMARY:CMFA Kids & Youth Rolling Classes
DESCRIPTION:Kids & Youth Rolling Classes (Ages 4-14) with Brandon.\nClass Attendance on a Tuesday or Thursday is necessary for this hour. \n  \nVisit our website for more information!
URL:https://crossroadsingersoll.ca/event/cmfa-kids-youth-rolling-classes/2026-05-23/
LOCATION:Ontario
CATEGORIES:CMFA
END:VEVENT
BEGIN:VEVENT
DTSTART;TZID=UTC:20260523T110000
DTEND;TZID=UTC:20260523T120000
DTSTAMP:20260423T192904
CREATED:20250522T200257Z
LAST-MODIFIED:20250522T200257Z
UID:10015284-1779534000-1779537600@crossroadsingersoll.ca
SUMMARY:CMFA Striking & Conditioning Classes
DESCRIPTION:Striking & Conditioning with Brandon \nVisit our website for more information!
URL:https://crossroadsingersoll.ca/event/cmfa-striking-conditioning-classes/2026-05-23/
LOCATION:Church Building – Oxford\, 184 Oxford St\, Ingersoll\, Ontario\, N5C 2V7\, Canada
CATEGORIES:CMFA
ORGANIZER;CN="Crossroads Martial Fitness Academy":MAILTO:crossroadsmfa@gmail.com
END:VEVENT
BEGIN:VEVENT
DTSTART;TZID=UTC:20260523T120000
DTEND;TZID=UTC:20260523T140000
DTSTAMP:20260423T192904
CREATED:20250522T200448Z
LAST-MODIFIED:20250522T200448Z
UID:10015544-1779537600-1779544800@crossroadsingersoll.ca
SUMMARY:CMFA BJJ Fundamentals and Advanced Classes
DESCRIPTION:BJJ Fundamentals and Advanced Classes with Cal & Brandon \nVisit our website for more information!
URL:https://crossroadsingersoll.ca/event/cmfa-bjj-fundamentals-and-advanced-classes/2026-05-23/
LOCATION:Church Building – Oxford\, 184 Oxford St\, Ingersoll\, Ontario\, N5C 2V7\, Canada
CATEGORIES:CMFA
ORGANIZER;CN="Crossroads Martial Fitness Academy":MAILTO:crossroadsmfa@gmail.com
END:VEVENT
BEGIN:VEVENT
DTSTART;TZID=UTC:20260525T180000
DTEND;TZID=UTC:20260525T200000
DTSTAMP:20260423T192904
CREATED:20250522T192627Z
LAST-MODIFIED:20250522T192627Z
UID:10013447-1779732000-1779739200@crossroadsingersoll.ca
SUMMARY:CMFA Boxing Class
DESCRIPTION:Boxing Class with Gary!\nPlease visit the CMFA Website for more information.
URL:https://crossroadsingersoll.ca/event/cmfa-boxing-class/2026-05-25/
LOCATION:Church Building – Oxford\, 184 Oxford St\, Ingersoll\, Ontario\, N5C 2V7\, Canada
CATEGORIES:CMFA
ORGANIZER;CN="Crossroads Martial Fitness Academy":MAILTO:crossroadsmfa@gmail.com
END:VEVENT
BEGIN:VEVENT
DTSTART;TZID=UTC:20260526T180000
DTEND;TZID=UTC:20260526T190000
DTSTAMP:20260423T192904
CREATED:20250522T193516Z
LAST-MODIFIED:20250522T193516Z
UID:10013709-1779818400-1779822000@crossroadsingersoll.ca
SUMMARY:CMFA Dragon Slayers Classes
DESCRIPTION:Dragon Slayers (Ages 10-14) with Brandon
URL:https://crossroadsingersoll.ca/event/cmfa-dragon-slayers-classes/2026-05-26/
LOCATION:Church Building – Oxford\, 184 Oxford St\, Ingersoll\, Ontario\, N5C 2V7\, Canada
CATEGORIES:CMFA
ORGANIZER;CN="Crossroads Martial Fitness Academy":MAILTO:crossroadsmfa@gmail.com
END:VEVENT
BEGIN:VEVENT
DTSTART;TZID=UTC:20260526T190000
DTEND;TZID=UTC:20260526T193000
DTSTAMP:20260423T192904
CREATED:20250522T193709Z
LAST-MODIFIED:20250522T193709Z
UID:10013973-1779822000-1779823800@crossroadsingersoll.ca
SUMMARY:CMFA Striking Classes
DESCRIPTION:CMFA Striking Classes with Brandon. \nVisit our website for more information!
URL:https://crossroadsingersoll.ca/event/cmfa-striking-classes/2026-05-26/
LOCATION:Church Building – Oxford\, 184 Oxford St\, Ingersoll\, Ontario\, N5C 2V7\, Canada
CATEGORIES:CMFA
ORGANIZER;CN="Crossroads Martial Fitness Academy":MAILTO:crossroadsmfa@gmail.com
END:VEVENT
BEGIN:VEVENT
DTSTART;TZID=UTC:20260526T193000
DTEND;TZID=UTC:20260526T213000
DTSTAMP:20260423T192904
CREATED:20250522T193912Z
LAST-MODIFIED:20250522T193912Z
UID:10014237-1779823800-1779831000@crossroadsingersoll.ca
SUMMARY:CMFA BJJ Fundamentals & Advanced Classes
DESCRIPTION:BJJ Fundamentals and Advances with Cal & Brandon! \nVisit the CMFA website for more information.
URL:https://crossroadsingersoll.ca/event/cmfa-bjj-fundamentals-advanced-classes/2026-05-26/
LOCATION:Church Building – Oxford\, 184 Oxford St\, Ingersoll\, Ontario\, N5C 2V7\, Canada
CATEGORIES:CMFA
ORGANIZER;CN="Crossroads Martial Fitness Academy":MAILTO:crossroadsmfa@gmail.com
END:VEVENT
BEGIN:VEVENT
DTSTART;TZID=UTC:20260528T180000
DTEND;TZID=UTC:20260528T184500
DTSTAMP:20260423T192904
CREATED:20250522T194105Z
LAST-MODIFIED:20250522T194105Z
UID:10014502-1779991200-1779993900@crossroadsingersoll.ca
SUMMARY:CMFA Junior Dragon Slayer Classes
DESCRIPTION:Junior Dragon Slayers (Ages 4-9) with Brandon
URL:https://crossroadsingersoll.ca/event/cmfa-junior-dragon-slayer-classes/2026-05-28/
LOCATION:Church Building – Oxford\, 184 Oxford St\, Ingersoll\, Ontario\, N5C 2V7\, Canada
CATEGORIES:CMFA
ORGANIZER;CN="Crossroads Martial Fitness Academy":MAILTO:crossroadsmfa@gmail.com
END:VEVENT
BEGIN:VEVENT
DTSTART;TZID=UTC:20260528T190000
DTEND;TZID=UTC:20260528T203000
DTSTAMP:20260423T192904
CREATED:20250522T194256Z
LAST-MODIFIED:20250522T194256Z
UID:10014763-1779994800-1780000200@crossroadsingersoll.ca
SUMMARY:CMFA MMA Classes
DESCRIPTION:No-Gi MMA Classes with Prof. Laprise. \n  \nVisit our website for more information!
URL:https://crossroadsingersoll.ca/event/cmfa-mma-classes/2026-05-28/
LOCATION:Church Building – Oxford\, 184 Oxford St\, Ingersoll\, Ontario\, N5C 2V7\, Canada
CATEGORIES:CMFA
ORGANIZER;CN="Crossroads Martial Fitness Academy":MAILTO:crossroadsmfa@gmail.com
END:VEVENT
BEGIN:VEVENT
DTSTART;TZID=UTC:20260530T100000
DTEND;TZID=UTC:20260530T110000
DTSTAMP:20260423T192904
CREATED:20250522T200018Z
LAST-MODIFIED:20250522T200018Z
UID:10015024-1780135200-1780138800@crossroadsingersoll.ca
SUMMARY:CMFA Kids & Youth Rolling Classes
DESCRIPTION:Kids & Youth Rolling Classes (Ages 4-14) with Brandon.\nClass Attendance on a Tuesday or Thursday is necessary for this hour. \n  \nVisit our website for more information!
URL:https://crossroadsingersoll.ca/event/cmfa-kids-youth-rolling-classes/2026-05-30/
LOCATION:Ontario
CATEGORIES:CMFA
END:VEVENT
BEGIN:VEVENT
DTSTART;TZID=UTC:20260530T110000
DTEND;TZID=UTC:20260530T120000
DTSTAMP:20260423T192904
CREATED:20250522T200257Z
LAST-MODIFIED:20250522T200257Z
UID:10015285-1780138800-1780142400@crossroadsingersoll.ca
SUMMARY:CMFA Striking & Conditioning Classes
DESCRIPTION:Striking & Conditioning with Brandon \nVisit our website for more information!
URL:https://crossroadsingersoll.ca/event/cmfa-striking-conditioning-classes/2026-05-30/
LOCATION:Church Building – Oxford\, 184 Oxford St\, Ingersoll\, Ontario\, N5C 2V7\, Canada
CATEGORIES:CMFA
ORGANIZER;CN="Crossroads Martial Fitness Academy":MAILTO:crossroadsmfa@gmail.com
END:VEVENT
BEGIN:VEVENT
DTSTART;TZID=UTC:20260530T120000
DTEND;TZID=UTC:20260530T140000
DTSTAMP:20260423T192904
CREATED:20250522T200448Z
LAST-MODIFIED:20250522T200448Z
UID:10015545-1780142400-1780149600@crossroadsingersoll.ca
SUMMARY:CMFA BJJ Fundamentals and Advanced Classes
DESCRIPTION:BJJ Fundamentals and Advanced Classes with Cal & Brandon \nVisit our website for more information!
URL:https://crossroadsingersoll.ca/event/cmfa-bjj-fundamentals-and-advanced-classes/2026-05-30/
LOCATION:Church Building – Oxford\, 184 Oxford St\, Ingersoll\, Ontario\, N5C 2V7\, Canada
CATEGORIES:CMFA
ORGANIZER;CN="Crossroads Martial Fitness Academy":MAILTO:crossroadsmfa@gmail.com
END:VEVENT
BEGIN:VEVENT
DTSTART;TZID=UTC:20260601T180000
DTEND;TZID=UTC:20260601T200000
DTSTAMP:20260423T192904
CREATED:20250522T192627Z
LAST-MODIFIED:20250522T192627Z
UID:10013448-1780336800-1780344000@crossroadsingersoll.ca
SUMMARY:CMFA Boxing Class
DESCRIPTION:Boxing Class with Gary!\nPlease visit the CMFA Website for more information.
URL:https://crossroadsingersoll.ca/event/cmfa-boxing-class/2026-06-01/
LOCATION:Church Building – Oxford\, 184 Oxford St\, Ingersoll\, Ontario\, N5C 2V7\, Canada
CATEGORIES:CMFA
ORGANIZER;CN="Crossroads Martial Fitness Academy":MAILTO:crossroadsmfa@gmail.com
END:VEVENT
BEGIN:VEVENT
DTSTART;TZID=UTC:20260602T180000
DTEND;TZID=UTC:20260602T190000
DTSTAMP:20260423T192904
CREATED:20250522T193516Z
LAST-MODIFIED:20250522T193516Z
UID:10013710-1780423200-1780426800@crossroadsingersoll.ca
SUMMARY:CMFA Dragon Slayers Classes
DESCRIPTION:Dragon Slayers (Ages 10-14) with Brandon
URL:https://crossroadsingersoll.ca/event/cmfa-dragon-slayers-classes/2026-06-02/
LOCATION:Church Building – Oxford\, 184 Oxford St\, Ingersoll\, Ontario\, N5C 2V7\, Canada
CATEGORIES:CMFA
ORGANIZER;CN="Crossroads Martial Fitness Academy":MAILTO:crossroadsmfa@gmail.com
END:VEVENT
BEGIN:VEVENT
DTSTART;TZID=UTC:20260602T190000
DTEND;TZID=UTC:20260602T193000
DTSTAMP:20260423T192904
CREATED:20250522T193709Z
LAST-MODIFIED:20250522T193709Z
UID:10013974-1780426800-1780428600@crossroadsingersoll.ca
SUMMARY:CMFA Striking Classes
DESCRIPTION:CMFA Striking Classes with Brandon. \nVisit our website for more information!
URL:https://crossroadsingersoll.ca/event/cmfa-striking-classes/2026-06-02/
LOCATION:Church Building – Oxford\, 184 Oxford St\, Ingersoll\, Ontario\, N5C 2V7\, Canada
CATEGORIES:CMFA
ORGANIZER;CN="Crossroads Martial Fitness Academy":MAILTO:crossroadsmfa@gmail.com
END:VEVENT
BEGIN:VEVENT
DTSTART;TZID=UTC:20260602T193000
DTEND;TZID=UTC:20260602T213000
DTSTAMP:20260423T192904
CREATED:20250522T193912Z
LAST-MODIFIED:20250522T193912Z
UID:10014238-1780428600-1780435800@crossroadsingersoll.ca
SUMMARY:CMFA BJJ Fundamentals & Advanced Classes
DESCRIPTION:BJJ Fundamentals and Advances with Cal & Brandon! \nVisit the CMFA website for more information.
URL:https://crossroadsingersoll.ca/event/cmfa-bjj-fundamentals-advanced-classes/2026-06-02/
LOCATION:Church Building – Oxford\, 184 Oxford St\, Ingersoll\, Ontario\, N5C 2V7\, Canada
CATEGORIES:CMFA
ORGANIZER;CN="Crossroads Martial Fitness Academy":MAILTO:crossroadsmfa@gmail.com
END:VEVENT
BEGIN:VEVENT
DTSTART;TZID=UTC:20260604T180000
DTEND;TZID=UTC:20260604T184500
DTSTAMP:20260423T192904
CREATED:20250522T194105Z
LAST-MODIFIED:20250522T194105Z
UID:10014503-1780596000-1780598700@crossroadsingersoll.ca
SUMMARY:CMFA Junior Dragon Slayer Classes
DESCRIPTION:Junior Dragon Slayers (Ages 4-9) with Brandon
URL:https://crossroadsingersoll.ca/event/cmfa-junior-dragon-slayer-classes/2026-06-04/
LOCATION:Church Building – Oxford\, 184 Oxford St\, Ingersoll\, Ontario\, N5C 2V7\, Canada
CATEGORIES:CMFA
ORGANIZER;CN="Crossroads Martial Fitness Academy":MAILTO:crossroadsmfa@gmail.com
END:VEVENT
BEGIN:VEVENT
DTSTART;TZID=UTC:20260604T190000
DTEND;TZID=UTC:20260604T203000
DTSTAMP:20260423T192904
CREATED:20250522T194256Z
LAST-MODIFIED:20250522T194256Z
UID:10014764-1780599600-1780605000@crossroadsingersoll.ca
SUMMARY:CMFA MMA Classes
DESCRIPTION:No-Gi MMA Classes with Prof. Laprise. \n  \nVisit our website for more information!
URL:https://crossroadsingersoll.ca/event/cmfa-mma-classes/2026-06-04/
LOCATION:Church Building – Oxford\, 184 Oxford St\, Ingersoll\, Ontario\, N5C 2V7\, Canada
CATEGORIES:CMFA
ORGANIZER;CN="Crossroads Martial Fitness Academy":MAILTO:crossroadsmfa@gmail.com
END:VEVENT
BEGIN:VEVENT
DTSTART;TZID=UTC:20260606T100000
DTEND;TZID=UTC:20260606T110000
DTSTAMP:20260423T192904
CREATED:20250522T200018Z
LAST-MODIFIED:20250522T200018Z
UID:10015025-1780740000-1780743600@crossroadsingersoll.ca
SUMMARY:CMFA Kids & Youth Rolling Classes
DESCRIPTION:Kids & Youth Rolling Classes (Ages 4-14) with Brandon.\nClass Attendance on a Tuesday or Thursday is necessary for this hour. \n  \nVisit our website for more information!
URL:https://crossroadsingersoll.ca/event/cmfa-kids-youth-rolling-classes/2026-06-06/
LOCATION:Ontario
CATEGORIES:CMFA
END:VEVENT
BEGIN:VEVENT
DTSTART;TZID=UTC:20260606T110000
DTEND;TZID=UTC:20260606T120000
DTSTAMP:20260423T192904
CREATED:20250522T200257Z
LAST-MODIFIED:20250522T200257Z
UID:10015286-1780743600-1780747200@crossroadsingersoll.ca
SUMMARY:CMFA Striking & Conditioning Classes
DESCRIPTION:Striking & Conditioning with Brandon \nVisit our website for more information!
URL:https://crossroadsingersoll.ca/event/cmfa-striking-conditioning-classes/2026-06-06/
LOCATION:Church Building – Oxford\, 184 Oxford St\, Ingersoll\, Ontario\, N5C 2V7\, Canada
CATEGORIES:CMFA
ORGANIZER;CN="Crossroads Martial Fitness Academy":MAILTO:crossroadsmfa@gmail.com
END:VEVENT
BEGIN:VEVENT
DTSTART;TZID=UTC:20260606T120000
DTEND;TZID=UTC:20260606T140000
DTSTAMP:20260423T192904
CREATED:20250522T200448Z
LAST-MODIFIED:20250522T200448Z
UID:10015546-1780747200-1780754400@crossroadsingersoll.ca
SUMMARY:CMFA BJJ Fundamentals and Advanced Classes
DESCRIPTION:BJJ Fundamentals and Advanced Classes with Cal & Brandon \nVisit our website for more information!
URL:https://crossroadsingersoll.ca/event/cmfa-bjj-fundamentals-and-advanced-classes/2026-06-06/
LOCATION:Church Building – Oxford\, 184 Oxford St\, Ingersoll\, Ontario\, N5C 2V7\, Canada
CATEGORIES:CMFA
ORGANIZER;CN="Crossroads Martial Fitness Academy":MAILTO:crossroadsmfa@gmail.com
END:VEVENT
BEGIN:VEVENT
DTSTART;TZID=UTC:20260608T180000
DTEND;TZID=UTC:20260608T200000
DTSTAMP:20260423T192904
CREATED:20250522T192627Z
LAST-MODIFIED:20250522T192627Z
UID:10013449-1780941600-1780948800@crossroadsingersoll.ca
SUMMARY:CMFA Boxing Class
DESCRIPTION:Boxing Class with Gary!\nPlease visit the CMFA Website for more information.
URL:https://crossroadsingersoll.ca/event/cmfa-boxing-class/2026-06-08/
LOCATION:Church Building – Oxford\, 184 Oxford St\, Ingersoll\, Ontario\, N5C 2V7\, Canada
CATEGORIES:CMFA
ORGANIZER;CN="Crossroads Martial Fitness Academy":MAILTO:crossroadsmfa@gmail.com
END:VEVENT
BEGIN:VEVENT
DTSTART;TZID=UTC:20260609T180000
DTEND;TZID=UTC:20260609T190000
DTSTAMP:20260423T192904
CREATED:20250522T193516Z
LAST-MODIFIED:20250522T193516Z
UID:10013711-1781028000-1781031600@crossroadsingersoll.ca
SUMMARY:CMFA Dragon Slayers Classes
DESCRIPTION:Dragon Slayers (Ages 10-14) with Brandon
URL:https://crossroadsingersoll.ca/event/cmfa-dragon-slayers-classes/2026-06-09/
LOCATION:Church Building – Oxford\, 184 Oxford St\, Ingersoll\, Ontario\, N5C 2V7\, Canada
CATEGORIES:CMFA
ORGANIZER;CN="Crossroads Martial Fitness Academy":MAILTO:crossroadsmfa@gmail.com
END:VEVENT
BEGIN:VEVENT
DTSTART;TZID=UTC:20260609T190000
DTEND;TZID=UTC:20260609T193000
DTSTAMP:20260423T192904
CREATED:20250522T193709Z
LAST-MODIFIED:20250522T193709Z
UID:10013975-1781031600-1781033400@crossroadsingersoll.ca
SUMMARY:CMFA Striking Classes
DESCRIPTION:CMFA Striking Classes with Brandon. \nVisit our website for more information!
URL:https://crossroadsingersoll.ca/event/cmfa-striking-classes/2026-06-09/
LOCATION:Church Building – Oxford\, 184 Oxford St\, Ingersoll\, Ontario\, N5C 2V7\, Canada
CATEGORIES:CMFA
ORGANIZER;CN="Crossroads Martial Fitness Academy":MAILTO:crossroadsmfa@gmail.com
END:VEVENT
END:VCALENDAR