BEGIN:VCALENDAR
VERSION:2.0
PRODID:-//Crossroads - ECPv6.10.2//NONSGML v1.0//EN
CALSCALE:GREGORIAN
METHOD:PUBLISH
X-WR-CALNAME:Crossroads
X-ORIGINAL-URL:https://crossroadsingersoll.ca
X-WR-CALDESC:Events for Crossroads
REFRESH-INTERVAL;VALUE=DURATION:PT1H
X-Robots-Tag:noindex
X-PUBLISHED-TTL:PT1H
BEGIN:VTIMEZONE
TZID:UTC
BEGIN:STANDARD
TZOFFSETFROM:+0000
TZOFFSETTO:+0000
TZNAME:UTC
DTSTART:20260101T000000
END:STANDARD
END:VTIMEZONE
BEGIN:VEVENT
DTSTART;TZID=UTC:20260803T180000
DTEND;TZID=UTC:20260803T200000
DTSTAMP:20260423T184506
CREATED:20250522T192627Z
LAST-MODIFIED:20250522T192627Z
UID:10013457-1785780000-1785787200@crossroadsingersoll.ca
SUMMARY:CMFA Boxing Class
DESCRIPTION:Boxing Class with Gary!\nPlease visit the CMFA Website for more information.
URL:https://crossroadsingersoll.ca/event/cmfa-boxing-class/2026-08-03/
LOCATION:Church Building – Oxford\, 184 Oxford St\, Ingersoll\, Ontario\, N5C 2V7\, Canada
CATEGORIES:CMFA
ORGANIZER;CN="Crossroads Martial Fitness Academy":MAILTO:crossroadsmfa@gmail.com
END:VEVENT
BEGIN:VEVENT
DTSTART;TZID=UTC:20260804T180000
DTEND;TZID=UTC:20260804T190000
DTSTAMP:20260423T184506
CREATED:20250522T193516Z
LAST-MODIFIED:20250522T193516Z
UID:10013719-1785866400-1785870000@crossroadsingersoll.ca
SUMMARY:CMFA Dragon Slayers Classes
DESCRIPTION:Dragon Slayers (Ages 10-14) with Brandon
URL:https://crossroadsingersoll.ca/event/cmfa-dragon-slayers-classes/2026-08-04/
LOCATION:Church Building – Oxford\, 184 Oxford St\, Ingersoll\, Ontario\, N5C 2V7\, Canada
CATEGORIES:CMFA
ORGANIZER;CN="Crossroads Martial Fitness Academy":MAILTO:crossroadsmfa@gmail.com
END:VEVENT
BEGIN:VEVENT
DTSTART;TZID=UTC:20260804T190000
DTEND;TZID=UTC:20260804T193000
DTSTAMP:20260423T184506
CREATED:20250522T193709Z
LAST-MODIFIED:20250522T193709Z
UID:10013983-1785870000-1785871800@crossroadsingersoll.ca
SUMMARY:CMFA Striking Classes
DESCRIPTION:CMFA Striking Classes with Brandon. \nVisit our website for more information!
URL:https://crossroadsingersoll.ca/event/cmfa-striking-classes/2026-08-04/
LOCATION:Church Building – Oxford\, 184 Oxford St\, Ingersoll\, Ontario\, N5C 2V7\, Canada
CATEGORIES:CMFA
ORGANIZER;CN="Crossroads Martial Fitness Academy":MAILTO:crossroadsmfa@gmail.com
END:VEVENT
BEGIN:VEVENT
DTSTART;TZID=UTC:20260804T193000
DTEND;TZID=UTC:20260804T213000
DTSTAMP:20260423T184506
CREATED:20250522T193912Z
LAST-MODIFIED:20250522T193912Z
UID:10014247-1785871800-1785879000@crossroadsingersoll.ca
SUMMARY:CMFA BJJ Fundamentals & Advanced Classes
DESCRIPTION:BJJ Fundamentals and Advances with Cal & Brandon! \nVisit the CMFA website for more information.
URL:https://crossroadsingersoll.ca/event/cmfa-bjj-fundamentals-advanced-classes/2026-08-04/
LOCATION:Church Building – Oxford\, 184 Oxford St\, Ingersoll\, Ontario\, N5C 2V7\, Canada
CATEGORIES:CMFA
ORGANIZER;CN="Crossroads Martial Fitness Academy":MAILTO:crossroadsmfa@gmail.com
END:VEVENT
BEGIN:VEVENT
DTSTART;TZID=UTC:20260806T180000
DTEND;TZID=UTC:20260806T184500
DTSTAMP:20260423T184506
CREATED:20250522T194105Z
LAST-MODIFIED:20250522T194105Z
UID:10014512-1786039200-1786041900@crossroadsingersoll.ca
SUMMARY:CMFA Junior Dragon Slayer Classes
DESCRIPTION:Junior Dragon Slayers (Ages 4-9) with Brandon
URL:https://crossroadsingersoll.ca/event/cmfa-junior-dragon-slayer-classes/2026-08-06/
LOCATION:Church Building – Oxford\, 184 Oxford St\, Ingersoll\, Ontario\, N5C 2V7\, Canada
CATEGORIES:CMFA
ORGANIZER;CN="Crossroads Martial Fitness Academy":MAILTO:crossroadsmfa@gmail.com
END:VEVENT
BEGIN:VEVENT
DTSTART;TZID=UTC:20260806T190000
DTEND;TZID=UTC:20260806T203000
DTSTAMP:20260423T184506
CREATED:20250522T194256Z
LAST-MODIFIED:20250522T194256Z
UID:10014773-1786042800-1786048200@crossroadsingersoll.ca
SUMMARY:CMFA MMA Classes
DESCRIPTION:No-Gi MMA Classes with Prof. Laprise. \n  \nVisit our website for more information!
URL:https://crossroadsingersoll.ca/event/cmfa-mma-classes/2026-08-06/
LOCATION:Church Building – Oxford\, 184 Oxford St\, Ingersoll\, Ontario\, N5C 2V7\, Canada
CATEGORIES:CMFA
ORGANIZER;CN="Crossroads Martial Fitness Academy":MAILTO:crossroadsmfa@gmail.com
END:VEVENT
BEGIN:VEVENT
DTSTART;TZID=UTC:20260808T100000
DTEND;TZID=UTC:20260808T110000
DTSTAMP:20260423T184506
CREATED:20250522T200018Z
LAST-MODIFIED:20250522T200018Z
UID:10015034-1786183200-1786186800@crossroadsingersoll.ca
SUMMARY:CMFA Kids & Youth Rolling Classes
DESCRIPTION:Kids & Youth Rolling Classes (Ages 4-14) with Brandon.\nClass Attendance on a Tuesday or Thursday is necessary for this hour. \n  \nVisit our website for more information!
URL:https://crossroadsingersoll.ca/event/cmfa-kids-youth-rolling-classes/2026-08-08/
LOCATION:Ontario
CATEGORIES:CMFA
END:VEVENT
BEGIN:VEVENT
DTSTART;TZID=UTC:20260808T110000
DTEND;TZID=UTC:20260808T120000
DTSTAMP:20260423T184506
CREATED:20250522T200257Z
LAST-MODIFIED:20250522T200257Z
UID:10015295-1786186800-1786190400@crossroadsingersoll.ca
SUMMARY:CMFA Striking & Conditioning Classes
DESCRIPTION:Striking & Conditioning with Brandon \nVisit our website for more information!
URL:https://crossroadsingersoll.ca/event/cmfa-striking-conditioning-classes/2026-08-08/
LOCATION:Church Building – Oxford\, 184 Oxford St\, Ingersoll\, Ontario\, N5C 2V7\, Canada
CATEGORIES:CMFA
ORGANIZER;CN="Crossroads Martial Fitness Academy":MAILTO:crossroadsmfa@gmail.com
END:VEVENT
BEGIN:VEVENT
DTSTART;TZID=UTC:20260808T120000
DTEND;TZID=UTC:20260808T140000
DTSTAMP:20260423T184506
CREATED:20250522T200448Z
LAST-MODIFIED:20250522T200448Z
UID:10015555-1786190400-1786197600@crossroadsingersoll.ca
SUMMARY:CMFA BJJ Fundamentals and Advanced Classes
DESCRIPTION:BJJ Fundamentals and Advanced Classes with Cal & Brandon \nVisit our website for more information!
URL:https://crossroadsingersoll.ca/event/cmfa-bjj-fundamentals-and-advanced-classes/2026-08-08/
LOCATION:Church Building – Oxford\, 184 Oxford St\, Ingersoll\, Ontario\, N5C 2V7\, Canada
CATEGORIES:CMFA
ORGANIZER;CN="Crossroads Martial Fitness Academy":MAILTO:crossroadsmfa@gmail.com
END:VEVENT
BEGIN:VEVENT
DTSTART;TZID=UTC:20260810T180000
DTEND;TZID=UTC:20260810T200000
DTSTAMP:20260423T184506
CREATED:20250522T192627Z
LAST-MODIFIED:20250522T192627Z
UID:10013458-1786384800-1786392000@crossroadsingersoll.ca
SUMMARY:CMFA Boxing Class
DESCRIPTION:Boxing Class with Gary!\nPlease visit the CMFA Website for more information.
URL:https://crossroadsingersoll.ca/event/cmfa-boxing-class/2026-08-10/
LOCATION:Church Building – Oxford\, 184 Oxford St\, Ingersoll\, Ontario\, N5C 2V7\, Canada
CATEGORIES:CMFA
ORGANIZER;CN="Crossroads Martial Fitness Academy":MAILTO:crossroadsmfa@gmail.com
END:VEVENT
BEGIN:VEVENT
DTSTART;TZID=UTC:20260811T180000
DTEND;TZID=UTC:20260811T190000
DTSTAMP:20260423T184506
CREATED:20250522T193516Z
LAST-MODIFIED:20250522T193516Z
UID:10013720-1786471200-1786474800@crossroadsingersoll.ca
SUMMARY:CMFA Dragon Slayers Classes
DESCRIPTION:Dragon Slayers (Ages 10-14) with Brandon
URL:https://crossroadsingersoll.ca/event/cmfa-dragon-slayers-classes/2026-08-11/
LOCATION:Church Building – Oxford\, 184 Oxford St\, Ingersoll\, Ontario\, N5C 2V7\, Canada
CATEGORIES:CMFA
ORGANIZER;CN="Crossroads Martial Fitness Academy":MAILTO:crossroadsmfa@gmail.com
END:VEVENT
BEGIN:VEVENT
DTSTART;TZID=UTC:20260811T190000
DTEND;TZID=UTC:20260811T193000
DTSTAMP:20260423T184506
CREATED:20250522T193709Z
LAST-MODIFIED:20250522T193709Z
UID:10013984-1786474800-1786476600@crossroadsingersoll.ca
SUMMARY:CMFA Striking Classes
DESCRIPTION:CMFA Striking Classes with Brandon. \nVisit our website for more information!
URL:https://crossroadsingersoll.ca/event/cmfa-striking-classes/2026-08-11/
LOCATION:Church Building – Oxford\, 184 Oxford St\, Ingersoll\, Ontario\, N5C 2V7\, Canada
CATEGORIES:CMFA
ORGANIZER;CN="Crossroads Martial Fitness Academy":MAILTO:crossroadsmfa@gmail.com
END:VEVENT
BEGIN:VEVENT
DTSTART;TZID=UTC:20260811T193000
DTEND;TZID=UTC:20260811T213000
DTSTAMP:20260423T184506
CREATED:20250522T193912Z
LAST-MODIFIED:20250522T193912Z
UID:10014248-1786476600-1786483800@crossroadsingersoll.ca
SUMMARY:CMFA BJJ Fundamentals & Advanced Classes
DESCRIPTION:BJJ Fundamentals and Advances with Cal & Brandon! \nVisit the CMFA website for more information.
URL:https://crossroadsingersoll.ca/event/cmfa-bjj-fundamentals-advanced-classes/2026-08-11/
LOCATION:Church Building – Oxford\, 184 Oxford St\, Ingersoll\, Ontario\, N5C 2V7\, Canada
CATEGORIES:CMFA
ORGANIZER;CN="Crossroads Martial Fitness Academy":MAILTO:crossroadsmfa@gmail.com
END:VEVENT
BEGIN:VEVENT
DTSTART;TZID=UTC:20260813T180000
DTEND;TZID=UTC:20260813T184500
DTSTAMP:20260423T184506
CREATED:20250522T194105Z
LAST-MODIFIED:20250522T194105Z
UID:10014513-1786644000-1786646700@crossroadsingersoll.ca
SUMMARY:CMFA Junior Dragon Slayer Classes
DESCRIPTION:Junior Dragon Slayers (Ages 4-9) with Brandon
URL:https://crossroadsingersoll.ca/event/cmfa-junior-dragon-slayer-classes/2026-08-13/
LOCATION:Church Building – Oxford\, 184 Oxford St\, Ingersoll\, Ontario\, N5C 2V7\, Canada
CATEGORIES:CMFA
ORGANIZER;CN="Crossroads Martial Fitness Academy":MAILTO:crossroadsmfa@gmail.com
END:VEVENT
BEGIN:VEVENT
DTSTART;TZID=UTC:20260813T190000
DTEND;TZID=UTC:20260813T203000
DTSTAMP:20260423T184506
CREATED:20250522T194256Z
LAST-MODIFIED:20250522T194256Z
UID:10014774-1786647600-1786653000@crossroadsingersoll.ca
SUMMARY:CMFA MMA Classes
DESCRIPTION:No-Gi MMA Classes with Prof. Laprise. \n  \nVisit our website for more information!
URL:https://crossroadsingersoll.ca/event/cmfa-mma-classes/2026-08-13/
LOCATION:Church Building – Oxford\, 184 Oxford St\, Ingersoll\, Ontario\, N5C 2V7\, Canada
CATEGORIES:CMFA
ORGANIZER;CN="Crossroads Martial Fitness Academy":MAILTO:crossroadsmfa@gmail.com
END:VEVENT
BEGIN:VEVENT
DTSTART;TZID=UTC:20260815T100000
DTEND;TZID=UTC:20260815T110000
DTSTAMP:20260423T184506
CREATED:20250522T200018Z
LAST-MODIFIED:20250522T200018Z
UID:10015035-1786788000-1786791600@crossroadsingersoll.ca
SUMMARY:CMFA Kids & Youth Rolling Classes
DESCRIPTION:Kids & Youth Rolling Classes (Ages 4-14) with Brandon.\nClass Attendance on a Tuesday or Thursday is necessary for this hour. \n  \nVisit our website for more information!
URL:https://crossroadsingersoll.ca/event/cmfa-kids-youth-rolling-classes/2026-08-15/
LOCATION:Ontario
CATEGORIES:CMFA
END:VEVENT
BEGIN:VEVENT
DTSTART;TZID=UTC:20260815T110000
DTEND;TZID=UTC:20260815T120000
DTSTAMP:20260423T184506
CREATED:20250522T200257Z
LAST-MODIFIED:20250522T200257Z
UID:10015296-1786791600-1786795200@crossroadsingersoll.ca
SUMMARY:CMFA Striking & Conditioning Classes
DESCRIPTION:Striking & Conditioning with Brandon \nVisit our website for more information!
URL:https://crossroadsingersoll.ca/event/cmfa-striking-conditioning-classes/2026-08-15/
LOCATION:Church Building – Oxford\, 184 Oxford St\, Ingersoll\, Ontario\, N5C 2V7\, Canada
CATEGORIES:CMFA
ORGANIZER;CN="Crossroads Martial Fitness Academy":MAILTO:crossroadsmfa@gmail.com
END:VEVENT
BEGIN:VEVENT
DTSTART;TZID=UTC:20260815T120000
DTEND;TZID=UTC:20260815T140000
DTSTAMP:20260423T184506
CREATED:20250522T200448Z
LAST-MODIFIED:20250522T200448Z
UID:10015556-1786795200-1786802400@crossroadsingersoll.ca
SUMMARY:CMFA BJJ Fundamentals and Advanced Classes
DESCRIPTION:BJJ Fundamentals and Advanced Classes with Cal & Brandon \nVisit our website for more information!
URL:https://crossroadsingersoll.ca/event/cmfa-bjj-fundamentals-and-advanced-classes/2026-08-15/
LOCATION:Church Building – Oxford\, 184 Oxford St\, Ingersoll\, Ontario\, N5C 2V7\, Canada
CATEGORIES:CMFA
ORGANIZER;CN="Crossroads Martial Fitness Academy":MAILTO:crossroadsmfa@gmail.com
END:VEVENT
BEGIN:VEVENT
DTSTART;TZID=UTC:20260817T180000
DTEND;TZID=UTC:20260817T200000
DTSTAMP:20260423T184506
CREATED:20250522T192627Z
LAST-MODIFIED:20250522T192627Z
UID:10013459-1786989600-1786996800@crossroadsingersoll.ca
SUMMARY:CMFA Boxing Class
DESCRIPTION:Boxing Class with Gary!\nPlease visit the CMFA Website for more information.
URL:https://crossroadsingersoll.ca/event/cmfa-boxing-class/2026-08-17/
LOCATION:Church Building – Oxford\, 184 Oxford St\, Ingersoll\, Ontario\, N5C 2V7\, Canada
CATEGORIES:CMFA
ORGANIZER;CN="Crossroads Martial Fitness Academy":MAILTO:crossroadsmfa@gmail.com
END:VEVENT
BEGIN:VEVENT
DTSTART;TZID=UTC:20260818T180000
DTEND;TZID=UTC:20260818T190000
DTSTAMP:20260423T184506
CREATED:20250522T193516Z
LAST-MODIFIED:20250522T193516Z
UID:10013721-1787076000-1787079600@crossroadsingersoll.ca
SUMMARY:CMFA Dragon Slayers Classes
DESCRIPTION:Dragon Slayers (Ages 10-14) with Brandon
URL:https://crossroadsingersoll.ca/event/cmfa-dragon-slayers-classes/2026-08-18/
LOCATION:Church Building – Oxford\, 184 Oxford St\, Ingersoll\, Ontario\, N5C 2V7\, Canada
CATEGORIES:CMFA
ORGANIZER;CN="Crossroads Martial Fitness Academy":MAILTO:crossroadsmfa@gmail.com
END:VEVENT
BEGIN:VEVENT
DTSTART;TZID=UTC:20260818T190000
DTEND;TZID=UTC:20260818T193000
DTSTAMP:20260423T184506
CREATED:20250522T193709Z
LAST-MODIFIED:20250522T193709Z
UID:10013985-1787079600-1787081400@crossroadsingersoll.ca
SUMMARY:CMFA Striking Classes
DESCRIPTION:CMFA Striking Classes with Brandon. \nVisit our website for more information!
URL:https://crossroadsingersoll.ca/event/cmfa-striking-classes/2026-08-18/
LOCATION:Church Building – Oxford\, 184 Oxford St\, Ingersoll\, Ontario\, N5C 2V7\, Canada
CATEGORIES:CMFA
ORGANIZER;CN="Crossroads Martial Fitness Academy":MAILTO:crossroadsmfa@gmail.com
END:VEVENT
BEGIN:VEVENT
DTSTART;TZID=UTC:20260818T193000
DTEND;TZID=UTC:20260818T213000
DTSTAMP:20260423T184506
CREATED:20250522T193912Z
LAST-MODIFIED:20250522T193912Z
UID:10014249-1787081400-1787088600@crossroadsingersoll.ca
SUMMARY:CMFA BJJ Fundamentals & Advanced Classes
DESCRIPTION:BJJ Fundamentals and Advances with Cal & Brandon! \nVisit the CMFA website for more information.
URL:https://crossroadsingersoll.ca/event/cmfa-bjj-fundamentals-advanced-classes/2026-08-18/
LOCATION:Church Building – Oxford\, 184 Oxford St\, Ingersoll\, Ontario\, N5C 2V7\, Canada
CATEGORIES:CMFA
ORGANIZER;CN="Crossroads Martial Fitness Academy":MAILTO:crossroadsmfa@gmail.com
END:VEVENT
BEGIN:VEVENT
DTSTART;TZID=UTC:20260820T180000
DTEND;TZID=UTC:20260820T184500
DTSTAMP:20260423T184506
CREATED:20250522T194105Z
LAST-MODIFIED:20250522T194105Z
UID:10014514-1787248800-1787251500@crossroadsingersoll.ca
SUMMARY:CMFA Junior Dragon Slayer Classes
DESCRIPTION:Junior Dragon Slayers (Ages 4-9) with Brandon
URL:https://crossroadsingersoll.ca/event/cmfa-junior-dragon-slayer-classes/2026-08-20/
LOCATION:Church Building – Oxford\, 184 Oxford St\, Ingersoll\, Ontario\, N5C 2V7\, Canada
CATEGORIES:CMFA
ORGANIZER;CN="Crossroads Martial Fitness Academy":MAILTO:crossroadsmfa@gmail.com
END:VEVENT
BEGIN:VEVENT
DTSTART;TZID=UTC:20260820T190000
DTEND;TZID=UTC:20260820T203000
DTSTAMP:20260423T184506
CREATED:20250522T194256Z
LAST-MODIFIED:20250522T194256Z
UID:10014775-1787252400-1787257800@crossroadsingersoll.ca
SUMMARY:CMFA MMA Classes
DESCRIPTION:No-Gi MMA Classes with Prof. Laprise. \n  \nVisit our website for more information!
URL:https://crossroadsingersoll.ca/event/cmfa-mma-classes/2026-08-20/
LOCATION:Church Building – Oxford\, 184 Oxford St\, Ingersoll\, Ontario\, N5C 2V7\, Canada
CATEGORIES:CMFA
ORGANIZER;CN="Crossroads Martial Fitness Academy":MAILTO:crossroadsmfa@gmail.com
END:VEVENT
BEGIN:VEVENT
DTSTART;TZID=UTC:20260822T100000
DTEND;TZID=UTC:20260822T110000
DTSTAMP:20260423T184506
CREATED:20250522T200018Z
LAST-MODIFIED:20250522T200018Z
UID:10015036-1787392800-1787396400@crossroadsingersoll.ca
SUMMARY:CMFA Kids & Youth Rolling Classes
DESCRIPTION:Kids & Youth Rolling Classes (Ages 4-14) with Brandon.\nClass Attendance on a Tuesday or Thursday is necessary for this hour. \n  \nVisit our website for more information!
URL:https://crossroadsingersoll.ca/event/cmfa-kids-youth-rolling-classes/2026-08-22/
LOCATION:Ontario
CATEGORIES:CMFA
END:VEVENT
BEGIN:VEVENT
DTSTART;TZID=UTC:20260822T110000
DTEND;TZID=UTC:20260822T120000
DTSTAMP:20260423T184506
CREATED:20250522T200257Z
LAST-MODIFIED:20250522T200257Z
UID:10015297-1787396400-1787400000@crossroadsingersoll.ca
SUMMARY:CMFA Striking & Conditioning Classes
DESCRIPTION:Striking & Conditioning with Brandon \nVisit our website for more information!
URL:https://crossroadsingersoll.ca/event/cmfa-striking-conditioning-classes/2026-08-22/
LOCATION:Church Building – Oxford\, 184 Oxford St\, Ingersoll\, Ontario\, N5C 2V7\, Canada
CATEGORIES:CMFA
ORGANIZER;CN="Crossroads Martial Fitness Academy":MAILTO:crossroadsmfa@gmail.com
END:VEVENT
BEGIN:VEVENT
DTSTART;TZID=UTC:20260822T120000
DTEND;TZID=UTC:20260822T140000
DTSTAMP:20260423T184506
CREATED:20250522T200448Z
LAST-MODIFIED:20250522T200448Z
UID:10015557-1787400000-1787407200@crossroadsingersoll.ca
SUMMARY:CMFA BJJ Fundamentals and Advanced Classes
DESCRIPTION:BJJ Fundamentals and Advanced Classes with Cal & Brandon \nVisit our website for more information!
URL:https://crossroadsingersoll.ca/event/cmfa-bjj-fundamentals-and-advanced-classes/2026-08-22/
LOCATION:Church Building – Oxford\, 184 Oxford St\, Ingersoll\, Ontario\, N5C 2V7\, Canada
CATEGORIES:CMFA
ORGANIZER;CN="Crossroads Martial Fitness Academy":MAILTO:crossroadsmfa@gmail.com
END:VEVENT
BEGIN:VEVENT
DTSTART;TZID=UTC:20260824T180000
DTEND;TZID=UTC:20260824T200000
DTSTAMP:20260423T184506
CREATED:20250522T192627Z
LAST-MODIFIED:20250522T192627Z
UID:10013460-1787594400-1787601600@crossroadsingersoll.ca
SUMMARY:CMFA Boxing Class
DESCRIPTION:Boxing Class with Gary!\nPlease visit the CMFA Website for more information.
URL:https://crossroadsingersoll.ca/event/cmfa-boxing-class/2026-08-24/
LOCATION:Church Building – Oxford\, 184 Oxford St\, Ingersoll\, Ontario\, N5C 2V7\, Canada
CATEGORIES:CMFA
ORGANIZER;CN="Crossroads Martial Fitness Academy":MAILTO:crossroadsmfa@gmail.com
END:VEVENT
BEGIN:VEVENT
DTSTART;TZID=UTC:20260825T180000
DTEND;TZID=UTC:20260825T190000
DTSTAMP:20260423T184506
CREATED:20250522T193516Z
LAST-MODIFIED:20250522T193516Z
UID:10013722-1787680800-1787684400@crossroadsingersoll.ca
SUMMARY:CMFA Dragon Slayers Classes
DESCRIPTION:Dragon Slayers (Ages 10-14) with Brandon
URL:https://crossroadsingersoll.ca/event/cmfa-dragon-slayers-classes/2026-08-25/
LOCATION:Church Building – Oxford\, 184 Oxford St\, Ingersoll\, Ontario\, N5C 2V7\, Canada
CATEGORIES:CMFA
ORGANIZER;CN="Crossroads Martial Fitness Academy":MAILTO:crossroadsmfa@gmail.com
END:VEVENT
BEGIN:VEVENT
DTSTART;TZID=UTC:20260825T190000
DTEND;TZID=UTC:20260825T193000
DTSTAMP:20260423T184506
CREATED:20250522T193709Z
LAST-MODIFIED:20250522T193709Z
UID:10013986-1787684400-1787686200@crossroadsingersoll.ca
SUMMARY:CMFA Striking Classes
DESCRIPTION:CMFA Striking Classes with Brandon. \nVisit our website for more information!
URL:https://crossroadsingersoll.ca/event/cmfa-striking-classes/2026-08-25/
LOCATION:Church Building – Oxford\, 184 Oxford St\, Ingersoll\, Ontario\, N5C 2V7\, Canada
CATEGORIES:CMFA
ORGANIZER;CN="Crossroads Martial Fitness Academy":MAILTO:crossroadsmfa@gmail.com
END:VEVENT
END:VCALENDAR