BEGIN:VCALENDAR
VERSION:2.0
PRODID:-//Crossroads - ECPv6.10.2//NONSGML v1.0//EN
CALSCALE:GREGORIAN
METHOD:PUBLISH
X-WR-CALNAME:Crossroads
X-ORIGINAL-URL:https://crossroadsingersoll.ca
X-WR-CALDESC:Events for Crossroads
REFRESH-INTERVAL;VALUE=DURATION:PT1H
X-Robots-Tag:noindex
X-PUBLISHED-TTL:PT1H
BEGIN:VTIMEZONE
TZID:UTC
BEGIN:STANDARD
TZOFFSETFROM:+0000
TZOFFSETTO:+0000
TZNAME:UTC
DTSTART:20250101T000000
END:STANDARD
END:VTIMEZONE
BEGIN:VEVENT
DTSTART;TZID=UTC:20251220T100000
DTEND;TZID=UTC:20251220T110000
DTSTAMP:20260424T015340
CREATED:20250522T200018Z
LAST-MODIFIED:20250522T200018Z
UID:10015001-1766224800-1766228400@crossroadsingersoll.ca
SUMMARY:CMFA Kids & Youth Rolling Classes
DESCRIPTION:Kids & Youth Rolling Classes (Ages 4-14) with Brandon.\nClass Attendance on a Tuesday or Thursday is necessary for this hour. \n  \nVisit our website for more information!
URL:https://crossroadsingersoll.ca/event/cmfa-kids-youth-rolling-classes/2025-12-20/
LOCATION:Ontario
CATEGORIES:CMFA
END:VEVENT
BEGIN:VEVENT
DTSTART;TZID=UTC:20251220T110000
DTEND;TZID=UTC:20251220T120000
DTSTAMP:20260424T015340
CREATED:20250522T200257Z
LAST-MODIFIED:20250522T200257Z
UID:10015262-1766228400-1766232000@crossroadsingersoll.ca
SUMMARY:CMFA Striking & Conditioning Classes
DESCRIPTION:Striking & Conditioning with Brandon \nVisit our website for more information!
URL:https://crossroadsingersoll.ca/event/cmfa-striking-conditioning-classes/2025-12-20/
LOCATION:Church Building – Oxford\, 184 Oxford St\, Ingersoll\, Ontario\, N5C 2V7\, Canada
CATEGORIES:CMFA
ORGANIZER;CN="Crossroads Martial Fitness Academy":MAILTO:crossroadsmfa@gmail.com
END:VEVENT
BEGIN:VEVENT
DTSTART;TZID=UTC:20251220T120000
DTEND;TZID=UTC:20251220T140000
DTSTAMP:20260424T015340
CREATED:20250522T200448Z
LAST-MODIFIED:20250522T200448Z
UID:10015522-1766232000-1766239200@crossroadsingersoll.ca
SUMMARY:CMFA BJJ Fundamentals and Advanced Classes
DESCRIPTION:BJJ Fundamentals and Advanced Classes with Cal & Brandon \nVisit our website for more information!
URL:https://crossroadsingersoll.ca/event/cmfa-bjj-fundamentals-and-advanced-classes/2025-12-20/
LOCATION:Church Building – Oxford\, 184 Oxford St\, Ingersoll\, Ontario\, N5C 2V7\, Canada
CATEGORIES:CMFA
ORGANIZER;CN="Crossroads Martial Fitness Academy":MAILTO:crossroadsmfa@gmail.com
END:VEVENT
BEGIN:VEVENT
DTSTART;TZID=UTC:20251222T180000
DTEND;TZID=UTC:20251222T200000
DTSTAMP:20260424T015340
CREATED:20250522T192627Z
LAST-MODIFIED:20250522T192627Z
UID:10013425-1766426400-1766433600@crossroadsingersoll.ca
SUMMARY:CMFA Boxing Class
DESCRIPTION:Boxing Class with Gary!\nPlease visit the CMFA Website for more information.
URL:https://crossroadsingersoll.ca/event/cmfa-boxing-class/2025-12-22/
LOCATION:Church Building – Oxford\, 184 Oxford St\, Ingersoll\, Ontario\, N5C 2V7\, Canada
CATEGORIES:CMFA
ORGANIZER;CN="Crossroads Martial Fitness Academy":MAILTO:crossroadsmfa@gmail.com
END:VEVENT
BEGIN:VEVENT
DTSTART;TZID=UTC:20251223T180000
DTEND;TZID=UTC:20251223T190000
DTSTAMP:20260424T015340
CREATED:20250522T193516Z
LAST-MODIFIED:20250522T193516Z
UID:10013687-1766512800-1766516400@crossroadsingersoll.ca
SUMMARY:CMFA Dragon Slayers Classes
DESCRIPTION:Dragon Slayers (Ages 10-14) with Brandon
URL:https://crossroadsingersoll.ca/event/cmfa-dragon-slayers-classes/2025-12-23/
LOCATION:Church Building – Oxford\, 184 Oxford St\, Ingersoll\, Ontario\, N5C 2V7\, Canada
CATEGORIES:CMFA
ORGANIZER;CN="Crossroads Martial Fitness Academy":MAILTO:crossroadsmfa@gmail.com
END:VEVENT
BEGIN:VEVENT
DTSTART;TZID=UTC:20251223T190000
DTEND;TZID=UTC:20251223T193000
DTSTAMP:20260424T015340
CREATED:20250522T193709Z
LAST-MODIFIED:20250522T193709Z
UID:10013951-1766516400-1766518200@crossroadsingersoll.ca
SUMMARY:CMFA Striking Classes
DESCRIPTION:CMFA Striking Classes with Brandon. \nVisit our website for more information!
URL:https://crossroadsingersoll.ca/event/cmfa-striking-classes/2025-12-23/
LOCATION:Church Building – Oxford\, 184 Oxford St\, Ingersoll\, Ontario\, N5C 2V7\, Canada
CATEGORIES:CMFA
ORGANIZER;CN="Crossroads Martial Fitness Academy":MAILTO:crossroadsmfa@gmail.com
END:VEVENT
BEGIN:VEVENT
DTSTART;TZID=UTC:20251223T193000
DTEND;TZID=UTC:20251223T213000
DTSTAMP:20260424T015340
CREATED:20250522T193912Z
LAST-MODIFIED:20250522T193912Z
UID:10014215-1766518200-1766525400@crossroadsingersoll.ca
SUMMARY:CMFA BJJ Fundamentals & Advanced Classes
DESCRIPTION:BJJ Fundamentals and Advances with Cal & Brandon! \nVisit the CMFA website for more information.
URL:https://crossroadsingersoll.ca/event/cmfa-bjj-fundamentals-advanced-classes/2025-12-23/
LOCATION:Church Building – Oxford\, 184 Oxford St\, Ingersoll\, Ontario\, N5C 2V7\, Canada
CATEGORIES:CMFA
ORGANIZER;CN="Crossroads Martial Fitness Academy":MAILTO:crossroadsmfa@gmail.com
END:VEVENT
BEGIN:VEVENT
DTSTART;TZID=UTC:20251225T180000
DTEND;TZID=UTC:20251225T184500
DTSTAMP:20260424T015340
CREATED:20250522T194105Z
LAST-MODIFIED:20250522T194105Z
UID:10014480-1766685600-1766688300@crossroadsingersoll.ca
SUMMARY:CMFA Junior Dragon Slayer Classes
DESCRIPTION:Junior Dragon Slayers (Ages 4-9) with Brandon
URL:https://crossroadsingersoll.ca/event/cmfa-junior-dragon-slayer-classes/2025-12-25/
LOCATION:Church Building – Oxford\, 184 Oxford St\, Ingersoll\, Ontario\, N5C 2V7\, Canada
CATEGORIES:CMFA
ORGANIZER;CN="Crossroads Martial Fitness Academy":MAILTO:crossroadsmfa@gmail.com
END:VEVENT
BEGIN:VEVENT
DTSTART;TZID=UTC:20251225T190000
DTEND;TZID=UTC:20251225T203000
DTSTAMP:20260424T015340
CREATED:20250522T194256Z
LAST-MODIFIED:20250522T194256Z
UID:10014741-1766689200-1766694600@crossroadsingersoll.ca
SUMMARY:CMFA MMA Classes
DESCRIPTION:No-Gi MMA Classes with Prof. Laprise. \n  \nVisit our website for more information!
URL:https://crossroadsingersoll.ca/event/cmfa-mma-classes/2025-12-25/
LOCATION:Church Building – Oxford\, 184 Oxford St\, Ingersoll\, Ontario\, N5C 2V7\, Canada
CATEGORIES:CMFA
ORGANIZER;CN="Crossroads Martial Fitness Academy":MAILTO:crossroadsmfa@gmail.com
END:VEVENT
BEGIN:VEVENT
DTSTART;TZID=UTC:20251227T100000
DTEND;TZID=UTC:20251227T110000
DTSTAMP:20260424T015340
CREATED:20250522T200018Z
LAST-MODIFIED:20250522T200018Z
UID:10015002-1766829600-1766833200@crossroadsingersoll.ca
SUMMARY:CMFA Kids & Youth Rolling Classes
DESCRIPTION:Kids & Youth Rolling Classes (Ages 4-14) with Brandon.\nClass Attendance on a Tuesday or Thursday is necessary for this hour. \n  \nVisit our website for more information!
URL:https://crossroadsingersoll.ca/event/cmfa-kids-youth-rolling-classes/2025-12-27/
LOCATION:Ontario
CATEGORIES:CMFA
END:VEVENT
BEGIN:VEVENT
DTSTART;TZID=UTC:20251227T110000
DTEND;TZID=UTC:20251227T120000
DTSTAMP:20260424T015340
CREATED:20250522T200257Z
LAST-MODIFIED:20250522T200257Z
UID:10015263-1766833200-1766836800@crossroadsingersoll.ca
SUMMARY:CMFA Striking & Conditioning Classes
DESCRIPTION:Striking & Conditioning with Brandon \nVisit our website for more information!
URL:https://crossroadsingersoll.ca/event/cmfa-striking-conditioning-classes/2025-12-27/
LOCATION:Church Building – Oxford\, 184 Oxford St\, Ingersoll\, Ontario\, N5C 2V7\, Canada
CATEGORIES:CMFA
ORGANIZER;CN="Crossroads Martial Fitness Academy":MAILTO:crossroadsmfa@gmail.com
END:VEVENT
BEGIN:VEVENT
DTSTART;TZID=UTC:20251227T120000
DTEND;TZID=UTC:20251227T140000
DTSTAMP:20260424T015340
CREATED:20250522T200448Z
LAST-MODIFIED:20250522T200448Z
UID:10015523-1766836800-1766844000@crossroadsingersoll.ca
SUMMARY:CMFA BJJ Fundamentals and Advanced Classes
DESCRIPTION:BJJ Fundamentals and Advanced Classes with Cal & Brandon \nVisit our website for more information!
URL:https://crossroadsingersoll.ca/event/cmfa-bjj-fundamentals-and-advanced-classes/2025-12-27/
LOCATION:Church Building – Oxford\, 184 Oxford St\, Ingersoll\, Ontario\, N5C 2V7\, Canada
CATEGORIES:CMFA
ORGANIZER;CN="Crossroads Martial Fitness Academy":MAILTO:crossroadsmfa@gmail.com
END:VEVENT
BEGIN:VEVENT
DTSTART;TZID=UTC:20251229T180000
DTEND;TZID=UTC:20251229T200000
DTSTAMP:20260424T015340
CREATED:20250522T192627Z
LAST-MODIFIED:20250522T192627Z
UID:10013426-1767031200-1767038400@crossroadsingersoll.ca
SUMMARY:CMFA Boxing Class
DESCRIPTION:Boxing Class with Gary!\nPlease visit the CMFA Website for more information.
URL:https://crossroadsingersoll.ca/event/cmfa-boxing-class/2025-12-29/
LOCATION:Church Building – Oxford\, 184 Oxford St\, Ingersoll\, Ontario\, N5C 2V7\, Canada
CATEGORIES:CMFA
ORGANIZER;CN="Crossroads Martial Fitness Academy":MAILTO:crossroadsmfa@gmail.com
END:VEVENT
BEGIN:VEVENT
DTSTART;TZID=UTC:20251230T180000
DTEND;TZID=UTC:20251230T190000
DTSTAMP:20260424T015340
CREATED:20250522T193516Z
LAST-MODIFIED:20250522T193516Z
UID:10013688-1767117600-1767121200@crossroadsingersoll.ca
SUMMARY:CMFA Dragon Slayers Classes
DESCRIPTION:Dragon Slayers (Ages 10-14) with Brandon
URL:https://crossroadsingersoll.ca/event/cmfa-dragon-slayers-classes/2025-12-30/
LOCATION:Church Building – Oxford\, 184 Oxford St\, Ingersoll\, Ontario\, N5C 2V7\, Canada
CATEGORIES:CMFA
ORGANIZER;CN="Crossroads Martial Fitness Academy":MAILTO:crossroadsmfa@gmail.com
END:VEVENT
BEGIN:VEVENT
DTSTART;TZID=UTC:20251230T190000
DTEND;TZID=UTC:20251230T193000
DTSTAMP:20260424T015340
CREATED:20250522T193709Z
LAST-MODIFIED:20250522T193709Z
UID:10013952-1767121200-1767123000@crossroadsingersoll.ca
SUMMARY:CMFA Striking Classes
DESCRIPTION:CMFA Striking Classes with Brandon. \nVisit our website for more information!
URL:https://crossroadsingersoll.ca/event/cmfa-striking-classes/2025-12-30/
LOCATION:Church Building – Oxford\, 184 Oxford St\, Ingersoll\, Ontario\, N5C 2V7\, Canada
CATEGORIES:CMFA
ORGANIZER;CN="Crossroads Martial Fitness Academy":MAILTO:crossroadsmfa@gmail.com
END:VEVENT
BEGIN:VEVENT
DTSTART;TZID=UTC:20251230T193000
DTEND;TZID=UTC:20251230T213000
DTSTAMP:20260424T015340
CREATED:20250522T193912Z
LAST-MODIFIED:20250522T193912Z
UID:10014216-1767123000-1767130200@crossroadsingersoll.ca
SUMMARY:CMFA BJJ Fundamentals & Advanced Classes
DESCRIPTION:BJJ Fundamentals and Advances with Cal & Brandon! \nVisit the CMFA website for more information.
URL:https://crossroadsingersoll.ca/event/cmfa-bjj-fundamentals-advanced-classes/2025-12-30/
LOCATION:Church Building – Oxford\, 184 Oxford St\, Ingersoll\, Ontario\, N5C 2V7\, Canada
CATEGORIES:CMFA
ORGANIZER;CN="Crossroads Martial Fitness Academy":MAILTO:crossroadsmfa@gmail.com
END:VEVENT
BEGIN:VEVENT
DTSTART;TZID=UTC:20260101T180000
DTEND;TZID=UTC:20260101T184500
DTSTAMP:20260424T015340
CREATED:20250522T194105Z
LAST-MODIFIED:20250522T194105Z
UID:10014481-1767290400-1767293100@crossroadsingersoll.ca
SUMMARY:CMFA Junior Dragon Slayer Classes
DESCRIPTION:Junior Dragon Slayers (Ages 4-9) with Brandon
URL:https://crossroadsingersoll.ca/event/cmfa-junior-dragon-slayer-classes/2026-01-01/
LOCATION:Church Building – Oxford\, 184 Oxford St\, Ingersoll\, Ontario\, N5C 2V7\, Canada
CATEGORIES:CMFA
ORGANIZER;CN="Crossroads Martial Fitness Academy":MAILTO:crossroadsmfa@gmail.com
END:VEVENT
BEGIN:VEVENT
DTSTART;TZID=UTC:20260101T190000
DTEND;TZID=UTC:20260101T203000
DTSTAMP:20260424T015340
CREATED:20250522T194256Z
LAST-MODIFIED:20250522T194256Z
UID:10014742-1767294000-1767299400@crossroadsingersoll.ca
SUMMARY:CMFA MMA Classes
DESCRIPTION:No-Gi MMA Classes with Prof. Laprise. \n  \nVisit our website for more information!
URL:https://crossroadsingersoll.ca/event/cmfa-mma-classes/2026-01-01/
LOCATION:Church Building – Oxford\, 184 Oxford St\, Ingersoll\, Ontario\, N5C 2V7\, Canada
CATEGORIES:CMFA
ORGANIZER;CN="Crossroads Martial Fitness Academy":MAILTO:crossroadsmfa@gmail.com
END:VEVENT
BEGIN:VEVENT
DTSTART;TZID=UTC:20260103T100000
DTEND;TZID=UTC:20260103T110000
DTSTAMP:20260424T015340
CREATED:20250522T200018Z
LAST-MODIFIED:20250522T200018Z
UID:10015003-1767434400-1767438000@crossroadsingersoll.ca
SUMMARY:CMFA Kids & Youth Rolling Classes
DESCRIPTION:Kids & Youth Rolling Classes (Ages 4-14) with Brandon.\nClass Attendance on a Tuesday or Thursday is necessary for this hour. \n  \nVisit our website for more information!
URL:https://crossroadsingersoll.ca/event/cmfa-kids-youth-rolling-classes/2026-01-03/
LOCATION:Ontario
CATEGORIES:CMFA
END:VEVENT
BEGIN:VEVENT
DTSTART;TZID=UTC:20260103T110000
DTEND;TZID=UTC:20260103T120000
DTSTAMP:20260424T015340
CREATED:20250522T200257Z
LAST-MODIFIED:20250522T200257Z
UID:10015264-1767438000-1767441600@crossroadsingersoll.ca
SUMMARY:CMFA Striking & Conditioning Classes
DESCRIPTION:Striking & Conditioning with Brandon \nVisit our website for more information!
URL:https://crossroadsingersoll.ca/event/cmfa-striking-conditioning-classes/2026-01-03/
LOCATION:Church Building – Oxford\, 184 Oxford St\, Ingersoll\, Ontario\, N5C 2V7\, Canada
CATEGORIES:CMFA
ORGANIZER;CN="Crossroads Martial Fitness Academy":MAILTO:crossroadsmfa@gmail.com
END:VEVENT
BEGIN:VEVENT
DTSTART;TZID=UTC:20260103T120000
DTEND;TZID=UTC:20260103T140000
DTSTAMP:20260424T015340
CREATED:20250522T200448Z
LAST-MODIFIED:20250522T200448Z
UID:10015524-1767441600-1767448800@crossroadsingersoll.ca
SUMMARY:CMFA BJJ Fundamentals and Advanced Classes
DESCRIPTION:BJJ Fundamentals and Advanced Classes with Cal & Brandon \nVisit our website for more information!
URL:https://crossroadsingersoll.ca/event/cmfa-bjj-fundamentals-and-advanced-classes/2026-01-03/
LOCATION:Church Building – Oxford\, 184 Oxford St\, Ingersoll\, Ontario\, N5C 2V7\, Canada
CATEGORIES:CMFA
ORGANIZER;CN="Crossroads Martial Fitness Academy":MAILTO:crossroadsmfa@gmail.com
END:VEVENT
BEGIN:VEVENT
DTSTART;TZID=UTC:20260105T180000
DTEND;TZID=UTC:20260105T200000
DTSTAMP:20260424T015340
CREATED:20250522T192627Z
LAST-MODIFIED:20250522T192627Z
UID:10013427-1767636000-1767643200@crossroadsingersoll.ca
SUMMARY:CMFA Boxing Class
DESCRIPTION:Boxing Class with Gary!\nPlease visit the CMFA Website for more information.
URL:https://crossroadsingersoll.ca/event/cmfa-boxing-class/2026-01-05/
LOCATION:Church Building – Oxford\, 184 Oxford St\, Ingersoll\, Ontario\, N5C 2V7\, Canada
CATEGORIES:CMFA
ORGANIZER;CN="Crossroads Martial Fitness Academy":MAILTO:crossroadsmfa@gmail.com
END:VEVENT
BEGIN:VEVENT
DTSTART;TZID=UTC:20260106T180000
DTEND;TZID=UTC:20260106T190000
DTSTAMP:20260424T015340
CREATED:20250522T193516Z
LAST-MODIFIED:20250522T193516Z
UID:10013689-1767722400-1767726000@crossroadsingersoll.ca
SUMMARY:CMFA Dragon Slayers Classes
DESCRIPTION:Dragon Slayers (Ages 10-14) with Brandon
URL:https://crossroadsingersoll.ca/event/cmfa-dragon-slayers-classes/2026-01-06/
LOCATION:Church Building – Oxford\, 184 Oxford St\, Ingersoll\, Ontario\, N5C 2V7\, Canada
CATEGORIES:CMFA
ORGANIZER;CN="Crossroads Martial Fitness Academy":MAILTO:crossroadsmfa@gmail.com
END:VEVENT
BEGIN:VEVENT
DTSTART;TZID=UTC:20260106T190000
DTEND;TZID=UTC:20260106T193000
DTSTAMP:20260424T015340
CREATED:20250522T193709Z
LAST-MODIFIED:20250522T193709Z
UID:10013953-1767726000-1767727800@crossroadsingersoll.ca
SUMMARY:CMFA Striking Classes
DESCRIPTION:CMFA Striking Classes with Brandon. \nVisit our website for more information!
URL:https://crossroadsingersoll.ca/event/cmfa-striking-classes/2026-01-06/
LOCATION:Church Building – Oxford\, 184 Oxford St\, Ingersoll\, Ontario\, N5C 2V7\, Canada
CATEGORIES:CMFA
ORGANIZER;CN="Crossroads Martial Fitness Academy":MAILTO:crossroadsmfa@gmail.com
END:VEVENT
BEGIN:VEVENT
DTSTART;TZID=UTC:20260106T193000
DTEND;TZID=UTC:20260106T213000
DTSTAMP:20260424T015340
CREATED:20250522T193912Z
LAST-MODIFIED:20250522T193912Z
UID:10014217-1767727800-1767735000@crossroadsingersoll.ca
SUMMARY:CMFA BJJ Fundamentals & Advanced Classes
DESCRIPTION:BJJ Fundamentals and Advances with Cal & Brandon! \nVisit the CMFA website for more information.
URL:https://crossroadsingersoll.ca/event/cmfa-bjj-fundamentals-advanced-classes/2026-01-06/
LOCATION:Church Building – Oxford\, 184 Oxford St\, Ingersoll\, Ontario\, N5C 2V7\, Canada
CATEGORIES:CMFA
ORGANIZER;CN="Crossroads Martial Fitness Academy":MAILTO:crossroadsmfa@gmail.com
END:VEVENT
BEGIN:VEVENT
DTSTART;TZID=UTC:20260108T180000
DTEND;TZID=UTC:20260108T184500
DTSTAMP:20260424T015340
CREATED:20250522T194105Z
LAST-MODIFIED:20250522T194105Z
UID:10014482-1767895200-1767897900@crossroadsingersoll.ca
SUMMARY:CMFA Junior Dragon Slayer Classes
DESCRIPTION:Junior Dragon Slayers (Ages 4-9) with Brandon
URL:https://crossroadsingersoll.ca/event/cmfa-junior-dragon-slayer-classes/2026-01-08/
LOCATION:Church Building – Oxford\, 184 Oxford St\, Ingersoll\, Ontario\, N5C 2V7\, Canada
CATEGORIES:CMFA
ORGANIZER;CN="Crossroads Martial Fitness Academy":MAILTO:crossroadsmfa@gmail.com
END:VEVENT
BEGIN:VEVENT
DTSTART;TZID=UTC:20260108T190000
DTEND;TZID=UTC:20260108T203000
DTSTAMP:20260424T015340
CREATED:20250522T194256Z
LAST-MODIFIED:20250522T194256Z
UID:10014743-1767898800-1767904200@crossroadsingersoll.ca
SUMMARY:CMFA MMA Classes
DESCRIPTION:No-Gi MMA Classes with Prof. Laprise. \n  \nVisit our website for more information!
URL:https://crossroadsingersoll.ca/event/cmfa-mma-classes/2026-01-08/
LOCATION:Church Building – Oxford\, 184 Oxford St\, Ingersoll\, Ontario\, N5C 2V7\, Canada
CATEGORIES:CMFA
ORGANIZER;CN="Crossroads Martial Fitness Academy":MAILTO:crossroadsmfa@gmail.com
END:VEVENT
BEGIN:VEVENT
DTSTART;TZID=UTC:20260110T100000
DTEND;TZID=UTC:20260110T110000
DTSTAMP:20260424T015340
CREATED:20250522T200018Z
LAST-MODIFIED:20250522T200018Z
UID:10015004-1768039200-1768042800@crossroadsingersoll.ca
SUMMARY:CMFA Kids & Youth Rolling Classes
DESCRIPTION:Kids & Youth Rolling Classes (Ages 4-14) with Brandon.\nClass Attendance on a Tuesday or Thursday is necessary for this hour. \n  \nVisit our website for more information!
URL:https://crossroadsingersoll.ca/event/cmfa-kids-youth-rolling-classes/2026-01-10/
LOCATION:Ontario
CATEGORIES:CMFA
END:VEVENT
BEGIN:VEVENT
DTSTART;TZID=UTC:20260110T110000
DTEND;TZID=UTC:20260110T120000
DTSTAMP:20260424T015340
CREATED:20250522T200257Z
LAST-MODIFIED:20250522T200257Z
UID:10015265-1768042800-1768046400@crossroadsingersoll.ca
SUMMARY:CMFA Striking & Conditioning Classes
DESCRIPTION:Striking & Conditioning with Brandon \nVisit our website for more information!
URL:https://crossroadsingersoll.ca/event/cmfa-striking-conditioning-classes/2026-01-10/
LOCATION:Church Building – Oxford\, 184 Oxford St\, Ingersoll\, Ontario\, N5C 2V7\, Canada
CATEGORIES:CMFA
ORGANIZER;CN="Crossroads Martial Fitness Academy":MAILTO:crossroadsmfa@gmail.com
END:VEVENT
BEGIN:VEVENT
DTSTART;TZID=UTC:20260110T120000
DTEND;TZID=UTC:20260110T140000
DTSTAMP:20260424T015340
CREATED:20250522T200448Z
LAST-MODIFIED:20250522T200448Z
UID:10015525-1768046400-1768053600@crossroadsingersoll.ca
SUMMARY:CMFA BJJ Fundamentals and Advanced Classes
DESCRIPTION:BJJ Fundamentals and Advanced Classes with Cal & Brandon \nVisit our website for more information!
URL:https://crossroadsingersoll.ca/event/cmfa-bjj-fundamentals-and-advanced-classes/2026-01-10/
LOCATION:Church Building – Oxford\, 184 Oxford St\, Ingersoll\, Ontario\, N5C 2V7\, Canada
CATEGORIES:CMFA
ORGANIZER;CN="Crossroads Martial Fitness Academy":MAILTO:crossroadsmfa@gmail.com
END:VEVENT
END:VCALENDAR