BEGIN:VCALENDAR
VERSION:2.0
PRODID:-//Crossroads - ECPv6.10.2//NONSGML v1.0//EN
CALSCALE:GREGORIAN
METHOD:PUBLISH
X-WR-CALNAME:Crossroads
X-ORIGINAL-URL:https://crossroadsingersoll.ca
X-WR-CALDESC:Events for Crossroads
REFRESH-INTERVAL;VALUE=DURATION:PT1H
X-Robots-Tag:noindex
X-PUBLISHED-TTL:PT1H
BEGIN:VTIMEZONE
TZID:UTC
BEGIN:STANDARD
TZOFFSETFROM:+0000
TZOFFSETTO:+0000
TZNAME:UTC
DTSTART:20260101T000000
END:STANDARD
END:VTIMEZONE
BEGIN:VEVENT
DTSTART;TZID=UTC:20260216T180000
DTEND;TZID=UTC:20260216T200000
DTSTAMP:20260423T233304
CREATED:20250522T192627Z
LAST-MODIFIED:20250522T192627Z
UID:10013433-1771264800-1771272000@crossroadsingersoll.ca
SUMMARY:CMFA Boxing Class
DESCRIPTION:Boxing Class with Gary!\nPlease visit the CMFA Website for more information.
URL:https://crossroadsingersoll.ca/event/cmfa-boxing-class/2026-02-16/
LOCATION:Church Building – Oxford\, 184 Oxford St\, Ingersoll\, Ontario\, N5C 2V7\, Canada
CATEGORIES:CMFA
ORGANIZER;CN="Crossroads Martial Fitness Academy":MAILTO:crossroadsmfa@gmail.com
END:VEVENT
BEGIN:VEVENT
DTSTART;TZID=UTC:20260217T180000
DTEND;TZID=UTC:20260217T190000
DTSTAMP:20260423T233304
CREATED:20250522T193516Z
LAST-MODIFIED:20250522T193516Z
UID:10013695-1771351200-1771354800@crossroadsingersoll.ca
SUMMARY:CMFA Dragon Slayers Classes
DESCRIPTION:Dragon Slayers (Ages 10-14) with Brandon
URL:https://crossroadsingersoll.ca/event/cmfa-dragon-slayers-classes/2026-02-17/
LOCATION:Church Building – Oxford\, 184 Oxford St\, Ingersoll\, Ontario\, N5C 2V7\, Canada
CATEGORIES:CMFA
ORGANIZER;CN="Crossroads Martial Fitness Academy":MAILTO:crossroadsmfa@gmail.com
END:VEVENT
BEGIN:VEVENT
DTSTART;TZID=UTC:20260217T190000
DTEND;TZID=UTC:20260217T193000
DTSTAMP:20260423T233304
CREATED:20250522T193709Z
LAST-MODIFIED:20250522T193709Z
UID:10013959-1771354800-1771356600@crossroadsingersoll.ca
SUMMARY:CMFA Striking Classes
DESCRIPTION:CMFA Striking Classes with Brandon. \nVisit our website for more information!
URL:https://crossroadsingersoll.ca/event/cmfa-striking-classes/2026-02-17/
LOCATION:Church Building – Oxford\, 184 Oxford St\, Ingersoll\, Ontario\, N5C 2V7\, Canada
CATEGORIES:CMFA
ORGANIZER;CN="Crossroads Martial Fitness Academy":MAILTO:crossroadsmfa@gmail.com
END:VEVENT
BEGIN:VEVENT
DTSTART;TZID=UTC:20260217T193000
DTEND;TZID=UTC:20260217T213000
DTSTAMP:20260423T233304
CREATED:20250522T193912Z
LAST-MODIFIED:20250522T193912Z
UID:10014223-1771356600-1771363800@crossroadsingersoll.ca
SUMMARY:CMFA BJJ Fundamentals & Advanced Classes
DESCRIPTION:BJJ Fundamentals and Advances with Cal & Brandon! \nVisit the CMFA website for more information.
URL:https://crossroadsingersoll.ca/event/cmfa-bjj-fundamentals-advanced-classes/2026-02-17/
LOCATION:Church Building – Oxford\, 184 Oxford St\, Ingersoll\, Ontario\, N5C 2V7\, Canada
CATEGORIES:CMFA
ORGANIZER;CN="Crossroads Martial Fitness Academy":MAILTO:crossroadsmfa@gmail.com
END:VEVENT
BEGIN:VEVENT
DTSTART;TZID=UTC:20260219T180000
DTEND;TZID=UTC:20260219T184500
DTSTAMP:20260423T233304
CREATED:20250522T194105Z
LAST-MODIFIED:20250522T194105Z
UID:10014488-1771524000-1771526700@crossroadsingersoll.ca
SUMMARY:CMFA Junior Dragon Slayer Classes
DESCRIPTION:Junior Dragon Slayers (Ages 4-9) with Brandon
URL:https://crossroadsingersoll.ca/event/cmfa-junior-dragon-slayer-classes/2026-02-19/
LOCATION:Church Building – Oxford\, 184 Oxford St\, Ingersoll\, Ontario\, N5C 2V7\, Canada
CATEGORIES:CMFA
ORGANIZER;CN="Crossroads Martial Fitness Academy":MAILTO:crossroadsmfa@gmail.com
END:VEVENT
BEGIN:VEVENT
DTSTART;TZID=UTC:20260219T190000
DTEND;TZID=UTC:20260219T203000
DTSTAMP:20260423T233304
CREATED:20250522T194256Z
LAST-MODIFIED:20250522T194256Z
UID:10014749-1771527600-1771533000@crossroadsingersoll.ca
SUMMARY:CMFA MMA Classes
DESCRIPTION:No-Gi MMA Classes with Prof. Laprise. \n  \nVisit our website for more information!
URL:https://crossroadsingersoll.ca/event/cmfa-mma-classes/2026-02-19/
LOCATION:Church Building – Oxford\, 184 Oxford St\, Ingersoll\, Ontario\, N5C 2V7\, Canada
CATEGORIES:CMFA
ORGANIZER;CN="Crossroads Martial Fitness Academy":MAILTO:crossroadsmfa@gmail.com
END:VEVENT
BEGIN:VEVENT
DTSTART;TZID=UTC:20260221T100000
DTEND;TZID=UTC:20260221T110000
DTSTAMP:20260423T233304
CREATED:20250522T200018Z
LAST-MODIFIED:20250522T200018Z
UID:10015010-1771668000-1771671600@crossroadsingersoll.ca
SUMMARY:CMFA Kids & Youth Rolling Classes
DESCRIPTION:Kids & Youth Rolling Classes (Ages 4-14) with Brandon.\nClass Attendance on a Tuesday or Thursday is necessary for this hour. \n  \nVisit our website for more information!
URL:https://crossroadsingersoll.ca/event/cmfa-kids-youth-rolling-classes/2026-02-21/
LOCATION:Ontario
CATEGORIES:CMFA
END:VEVENT
BEGIN:VEVENT
DTSTART;TZID=UTC:20260221T110000
DTEND;TZID=UTC:20260221T120000
DTSTAMP:20260423T233304
CREATED:20250522T200257Z
LAST-MODIFIED:20250522T200257Z
UID:10015271-1771671600-1771675200@crossroadsingersoll.ca
SUMMARY:CMFA Striking & Conditioning Classes
DESCRIPTION:Striking & Conditioning with Brandon \nVisit our website for more information!
URL:https://crossroadsingersoll.ca/event/cmfa-striking-conditioning-classes/2026-02-21/
LOCATION:Church Building – Oxford\, 184 Oxford St\, Ingersoll\, Ontario\, N5C 2V7\, Canada
CATEGORIES:CMFA
ORGANIZER;CN="Crossroads Martial Fitness Academy":MAILTO:crossroadsmfa@gmail.com
END:VEVENT
BEGIN:VEVENT
DTSTART;TZID=UTC:20260221T120000
DTEND;TZID=UTC:20260221T140000
DTSTAMP:20260423T233304
CREATED:20250522T200448Z
LAST-MODIFIED:20250522T200448Z
UID:10015531-1771675200-1771682400@crossroadsingersoll.ca
SUMMARY:CMFA BJJ Fundamentals and Advanced Classes
DESCRIPTION:BJJ Fundamentals and Advanced Classes with Cal & Brandon \nVisit our website for more information!
URL:https://crossroadsingersoll.ca/event/cmfa-bjj-fundamentals-and-advanced-classes/2026-02-21/
LOCATION:Church Building – Oxford\, 184 Oxford St\, Ingersoll\, Ontario\, N5C 2V7\, Canada
CATEGORIES:CMFA
ORGANIZER;CN="Crossroads Martial Fitness Academy":MAILTO:crossroadsmfa@gmail.com
END:VEVENT
BEGIN:VEVENT
DTSTART;TZID=UTC:20260223T180000
DTEND;TZID=UTC:20260223T200000
DTSTAMP:20260423T233304
CREATED:20250522T192627Z
LAST-MODIFIED:20250522T192627Z
UID:10013434-1771869600-1771876800@crossroadsingersoll.ca
SUMMARY:CMFA Boxing Class
DESCRIPTION:Boxing Class with Gary!\nPlease visit the CMFA Website for more information.
URL:https://crossroadsingersoll.ca/event/cmfa-boxing-class/2026-02-23/
LOCATION:Church Building – Oxford\, 184 Oxford St\, Ingersoll\, Ontario\, N5C 2V7\, Canada
CATEGORIES:CMFA
ORGANIZER;CN="Crossroads Martial Fitness Academy":MAILTO:crossroadsmfa@gmail.com
END:VEVENT
BEGIN:VEVENT
DTSTART;TZID=UTC:20260224T180000
DTEND;TZID=UTC:20260224T190000
DTSTAMP:20260423T233304
CREATED:20250522T193516Z
LAST-MODIFIED:20250522T193516Z
UID:10013696-1771956000-1771959600@crossroadsingersoll.ca
SUMMARY:CMFA Dragon Slayers Classes
DESCRIPTION:Dragon Slayers (Ages 10-14) with Brandon
URL:https://crossroadsingersoll.ca/event/cmfa-dragon-slayers-classes/2026-02-24/
LOCATION:Church Building – Oxford\, 184 Oxford St\, Ingersoll\, Ontario\, N5C 2V7\, Canada
CATEGORIES:CMFA
ORGANIZER;CN="Crossroads Martial Fitness Academy":MAILTO:crossroadsmfa@gmail.com
END:VEVENT
BEGIN:VEVENT
DTSTART;TZID=UTC:20260224T190000
DTEND;TZID=UTC:20260224T193000
DTSTAMP:20260423T233304
CREATED:20250522T193709Z
LAST-MODIFIED:20250522T193709Z
UID:10013960-1771959600-1771961400@crossroadsingersoll.ca
SUMMARY:CMFA Striking Classes
DESCRIPTION:CMFA Striking Classes with Brandon. \nVisit our website for more information!
URL:https://crossroadsingersoll.ca/event/cmfa-striking-classes/2026-02-24/
LOCATION:Church Building – Oxford\, 184 Oxford St\, Ingersoll\, Ontario\, N5C 2V7\, Canada
CATEGORIES:CMFA
ORGANIZER;CN="Crossroads Martial Fitness Academy":MAILTO:crossroadsmfa@gmail.com
END:VEVENT
BEGIN:VEVENT
DTSTART;TZID=UTC:20260224T193000
DTEND;TZID=UTC:20260224T213000
DTSTAMP:20260423T233304
CREATED:20250522T193912Z
LAST-MODIFIED:20250522T193912Z
UID:10014224-1771961400-1771968600@crossroadsingersoll.ca
SUMMARY:CMFA BJJ Fundamentals & Advanced Classes
DESCRIPTION:BJJ Fundamentals and Advances with Cal & Brandon! \nVisit the CMFA website for more information.
URL:https://crossroadsingersoll.ca/event/cmfa-bjj-fundamentals-advanced-classes/2026-02-24/
LOCATION:Church Building – Oxford\, 184 Oxford St\, Ingersoll\, Ontario\, N5C 2V7\, Canada
CATEGORIES:CMFA
ORGANIZER;CN="Crossroads Martial Fitness Academy":MAILTO:crossroadsmfa@gmail.com
END:VEVENT
BEGIN:VEVENT
DTSTART;TZID=UTC:20260226T180000
DTEND;TZID=UTC:20260226T184500
DTSTAMP:20260423T233304
CREATED:20250522T194105Z
LAST-MODIFIED:20250522T194105Z
UID:10014489-1772128800-1772131500@crossroadsingersoll.ca
SUMMARY:CMFA Junior Dragon Slayer Classes
DESCRIPTION:Junior Dragon Slayers (Ages 4-9) with Brandon
URL:https://crossroadsingersoll.ca/event/cmfa-junior-dragon-slayer-classes/2026-02-26/
LOCATION:Church Building – Oxford\, 184 Oxford St\, Ingersoll\, Ontario\, N5C 2V7\, Canada
CATEGORIES:CMFA
ORGANIZER;CN="Crossroads Martial Fitness Academy":MAILTO:crossroadsmfa@gmail.com
END:VEVENT
BEGIN:VEVENT
DTSTART;TZID=UTC:20260226T190000
DTEND;TZID=UTC:20260226T203000
DTSTAMP:20260423T233305
CREATED:20250522T194256Z
LAST-MODIFIED:20250522T194256Z
UID:10014750-1772132400-1772137800@crossroadsingersoll.ca
SUMMARY:CMFA MMA Classes
DESCRIPTION:No-Gi MMA Classes with Prof. Laprise. \n  \nVisit our website for more information!
URL:https://crossroadsingersoll.ca/event/cmfa-mma-classes/2026-02-26/
LOCATION:Church Building – Oxford\, 184 Oxford St\, Ingersoll\, Ontario\, N5C 2V7\, Canada
CATEGORIES:CMFA
ORGANIZER;CN="Crossroads Martial Fitness Academy":MAILTO:crossroadsmfa@gmail.com
END:VEVENT
BEGIN:VEVENT
DTSTART;TZID=UTC:20260228T100000
DTEND;TZID=UTC:20260228T110000
DTSTAMP:20260423T233305
CREATED:20250522T200018Z
LAST-MODIFIED:20250522T200018Z
UID:10015011-1772272800-1772276400@crossroadsingersoll.ca
SUMMARY:CMFA Kids & Youth Rolling Classes
DESCRIPTION:Kids & Youth Rolling Classes (Ages 4-14) with Brandon.\nClass Attendance on a Tuesday or Thursday is necessary for this hour. \n  \nVisit our website for more information!
URL:https://crossroadsingersoll.ca/event/cmfa-kids-youth-rolling-classes/2026-02-28/
LOCATION:Ontario
CATEGORIES:CMFA
END:VEVENT
BEGIN:VEVENT
DTSTART;TZID=UTC:20260228T110000
DTEND;TZID=UTC:20260228T120000
DTSTAMP:20260423T233305
CREATED:20250522T200257Z
LAST-MODIFIED:20250522T200257Z
UID:10015272-1772276400-1772280000@crossroadsingersoll.ca
SUMMARY:CMFA Striking & Conditioning Classes
DESCRIPTION:Striking & Conditioning with Brandon \nVisit our website for more information!
URL:https://crossroadsingersoll.ca/event/cmfa-striking-conditioning-classes/2026-02-28/
LOCATION:Church Building – Oxford\, 184 Oxford St\, Ingersoll\, Ontario\, N5C 2V7\, Canada
CATEGORIES:CMFA
ORGANIZER;CN="Crossroads Martial Fitness Academy":MAILTO:crossroadsmfa@gmail.com
END:VEVENT
BEGIN:VEVENT
DTSTART;TZID=UTC:20260228T120000
DTEND;TZID=UTC:20260228T140000
DTSTAMP:20260423T233305
CREATED:20250522T200448Z
LAST-MODIFIED:20250522T200448Z
UID:10015532-1772280000-1772287200@crossroadsingersoll.ca
SUMMARY:CMFA BJJ Fundamentals and Advanced Classes
DESCRIPTION:BJJ Fundamentals and Advanced Classes with Cal & Brandon \nVisit our website for more information!
URL:https://crossroadsingersoll.ca/event/cmfa-bjj-fundamentals-and-advanced-classes/2026-02-28/
LOCATION:Church Building – Oxford\, 184 Oxford St\, Ingersoll\, Ontario\, N5C 2V7\, Canada
CATEGORIES:CMFA
ORGANIZER;CN="Crossroads Martial Fitness Academy":MAILTO:crossroadsmfa@gmail.com
END:VEVENT
BEGIN:VEVENT
DTSTART;TZID=UTC:20260302T180000
DTEND;TZID=UTC:20260302T200000
DTSTAMP:20260423T233305
CREATED:20250522T192627Z
LAST-MODIFIED:20250522T192627Z
UID:10013435-1772474400-1772481600@crossroadsingersoll.ca
SUMMARY:CMFA Boxing Class
DESCRIPTION:Boxing Class with Gary!\nPlease visit the CMFA Website for more information.
URL:https://crossroadsingersoll.ca/event/cmfa-boxing-class/2026-03-02/
LOCATION:Church Building – Oxford\, 184 Oxford St\, Ingersoll\, Ontario\, N5C 2V7\, Canada
CATEGORIES:CMFA
ORGANIZER;CN="Crossroads Martial Fitness Academy":MAILTO:crossroadsmfa@gmail.com
END:VEVENT
BEGIN:VEVENT
DTSTART;TZID=UTC:20260303T180000
DTEND;TZID=UTC:20260303T190000
DTSTAMP:20260423T233305
CREATED:20250522T193516Z
LAST-MODIFIED:20250522T193516Z
UID:10013697-1772560800-1772564400@crossroadsingersoll.ca
SUMMARY:CMFA Dragon Slayers Classes
DESCRIPTION:Dragon Slayers (Ages 10-14) with Brandon
URL:https://crossroadsingersoll.ca/event/cmfa-dragon-slayers-classes/2026-03-03/
LOCATION:Church Building – Oxford\, 184 Oxford St\, Ingersoll\, Ontario\, N5C 2V7\, Canada
CATEGORIES:CMFA
ORGANIZER;CN="Crossroads Martial Fitness Academy":MAILTO:crossroadsmfa@gmail.com
END:VEVENT
BEGIN:VEVENT
DTSTART;TZID=UTC:20260303T190000
DTEND;TZID=UTC:20260303T193000
DTSTAMP:20260423T233305
CREATED:20250522T193709Z
LAST-MODIFIED:20250522T193709Z
UID:10013961-1772564400-1772566200@crossroadsingersoll.ca
SUMMARY:CMFA Striking Classes
DESCRIPTION:CMFA Striking Classes with Brandon. \nVisit our website for more information!
URL:https://crossroadsingersoll.ca/event/cmfa-striking-classes/2026-03-03/
LOCATION:Church Building – Oxford\, 184 Oxford St\, Ingersoll\, Ontario\, N5C 2V7\, Canada
CATEGORIES:CMFA
ORGANIZER;CN="Crossroads Martial Fitness Academy":MAILTO:crossroadsmfa@gmail.com
END:VEVENT
BEGIN:VEVENT
DTSTART;TZID=UTC:20260303T193000
DTEND;TZID=UTC:20260303T213000
DTSTAMP:20260423T233305
CREATED:20250522T193912Z
LAST-MODIFIED:20250522T193912Z
UID:10014225-1772566200-1772573400@crossroadsingersoll.ca
SUMMARY:CMFA BJJ Fundamentals & Advanced Classes
DESCRIPTION:BJJ Fundamentals and Advances with Cal & Brandon! \nVisit the CMFA website for more information.
URL:https://crossroadsingersoll.ca/event/cmfa-bjj-fundamentals-advanced-classes/2026-03-03/
LOCATION:Church Building – Oxford\, 184 Oxford St\, Ingersoll\, Ontario\, N5C 2V7\, Canada
CATEGORIES:CMFA
ORGANIZER;CN="Crossroads Martial Fitness Academy":MAILTO:crossroadsmfa@gmail.com
END:VEVENT
BEGIN:VEVENT
DTSTART;TZID=UTC:20260305T180000
DTEND;TZID=UTC:20260305T184500
DTSTAMP:20260423T233305
CREATED:20250522T194105Z
LAST-MODIFIED:20250522T194105Z
UID:10014490-1772733600-1772736300@crossroadsingersoll.ca
SUMMARY:CMFA Junior Dragon Slayer Classes
DESCRIPTION:Junior Dragon Slayers (Ages 4-9) with Brandon
URL:https://crossroadsingersoll.ca/event/cmfa-junior-dragon-slayer-classes/2026-03-05/
LOCATION:Church Building – Oxford\, 184 Oxford St\, Ingersoll\, Ontario\, N5C 2V7\, Canada
CATEGORIES:CMFA
ORGANIZER;CN="Crossroads Martial Fitness Academy":MAILTO:crossroadsmfa@gmail.com
END:VEVENT
BEGIN:VEVENT
DTSTART;TZID=UTC:20260305T190000
DTEND;TZID=UTC:20260305T203000
DTSTAMP:20260423T233305
CREATED:20250522T194256Z
LAST-MODIFIED:20250522T194256Z
UID:10014751-1772737200-1772742600@crossroadsingersoll.ca
SUMMARY:CMFA MMA Classes
DESCRIPTION:No-Gi MMA Classes with Prof. Laprise. \n  \nVisit our website for more information!
URL:https://crossroadsingersoll.ca/event/cmfa-mma-classes/2026-03-05/
LOCATION:Church Building – Oxford\, 184 Oxford St\, Ingersoll\, Ontario\, N5C 2V7\, Canada
CATEGORIES:CMFA
ORGANIZER;CN="Crossroads Martial Fitness Academy":MAILTO:crossroadsmfa@gmail.com
END:VEVENT
BEGIN:VEVENT
DTSTART;TZID=UTC:20260307T100000
DTEND;TZID=UTC:20260307T110000
DTSTAMP:20260423T233305
CREATED:20250522T200018Z
LAST-MODIFIED:20250522T200018Z
UID:10015012-1772877600-1772881200@crossroadsingersoll.ca
SUMMARY:CMFA Kids & Youth Rolling Classes
DESCRIPTION:Kids & Youth Rolling Classes (Ages 4-14) with Brandon.\nClass Attendance on a Tuesday or Thursday is necessary for this hour. \n  \nVisit our website for more information!
URL:https://crossroadsingersoll.ca/event/cmfa-kids-youth-rolling-classes/2026-03-07/
LOCATION:Ontario
CATEGORIES:CMFA
END:VEVENT
BEGIN:VEVENT
DTSTART;TZID=UTC:20260307T110000
DTEND;TZID=UTC:20260307T120000
DTSTAMP:20260423T233305
CREATED:20250522T200257Z
LAST-MODIFIED:20250522T200257Z
UID:10015273-1772881200-1772884800@crossroadsingersoll.ca
SUMMARY:CMFA Striking & Conditioning Classes
DESCRIPTION:Striking & Conditioning with Brandon \nVisit our website for more information!
URL:https://crossroadsingersoll.ca/event/cmfa-striking-conditioning-classes/2026-03-07/
LOCATION:Church Building – Oxford\, 184 Oxford St\, Ingersoll\, Ontario\, N5C 2V7\, Canada
CATEGORIES:CMFA
ORGANIZER;CN="Crossroads Martial Fitness Academy":MAILTO:crossroadsmfa@gmail.com
END:VEVENT
BEGIN:VEVENT
DTSTART;TZID=UTC:20260307T120000
DTEND;TZID=UTC:20260307T140000
DTSTAMP:20260423T233305
CREATED:20250522T200448Z
LAST-MODIFIED:20250522T200448Z
UID:10015533-1772884800-1772892000@crossroadsingersoll.ca
SUMMARY:CMFA BJJ Fundamentals and Advanced Classes
DESCRIPTION:BJJ Fundamentals and Advanced Classes with Cal & Brandon \nVisit our website for more information!
URL:https://crossroadsingersoll.ca/event/cmfa-bjj-fundamentals-and-advanced-classes/2026-03-07/
LOCATION:Church Building – Oxford\, 184 Oxford St\, Ingersoll\, Ontario\, N5C 2V7\, Canada
CATEGORIES:CMFA
ORGANIZER;CN="Crossroads Martial Fitness Academy":MAILTO:crossroadsmfa@gmail.com
END:VEVENT
BEGIN:VEVENT
DTSTART;TZID=UTC:20260309T180000
DTEND;TZID=UTC:20260309T200000
DTSTAMP:20260423T233305
CREATED:20250522T192627Z
LAST-MODIFIED:20250522T192627Z
UID:10013436-1773079200-1773086400@crossroadsingersoll.ca
SUMMARY:CMFA Boxing Class
DESCRIPTION:Boxing Class with Gary!\nPlease visit the CMFA Website for more information.
URL:https://crossroadsingersoll.ca/event/cmfa-boxing-class/2026-03-09/
LOCATION:Church Building – Oxford\, 184 Oxford St\, Ingersoll\, Ontario\, N5C 2V7\, Canada
CATEGORIES:CMFA
ORGANIZER;CN="Crossroads Martial Fitness Academy":MAILTO:crossroadsmfa@gmail.com
END:VEVENT
BEGIN:VEVENT
DTSTART;TZID=UTC:20260310T180000
DTEND;TZID=UTC:20260310T190000
DTSTAMP:20260423T233305
CREATED:20250522T193516Z
LAST-MODIFIED:20250522T193516Z
UID:10013698-1773165600-1773169200@crossroadsingersoll.ca
SUMMARY:CMFA Dragon Slayers Classes
DESCRIPTION:Dragon Slayers (Ages 10-14) with Brandon
URL:https://crossroadsingersoll.ca/event/cmfa-dragon-slayers-classes/2026-03-10/
LOCATION:Church Building – Oxford\, 184 Oxford St\, Ingersoll\, Ontario\, N5C 2V7\, Canada
CATEGORIES:CMFA
ORGANIZER;CN="Crossroads Martial Fitness Academy":MAILTO:crossroadsmfa@gmail.com
END:VEVENT
BEGIN:VEVENT
DTSTART;TZID=UTC:20260310T190000
DTEND;TZID=UTC:20260310T193000
DTSTAMP:20260423T233305
CREATED:20250522T193709Z
LAST-MODIFIED:20250522T193709Z
UID:10013962-1773169200-1773171000@crossroadsingersoll.ca
SUMMARY:CMFA Striking Classes
DESCRIPTION:CMFA Striking Classes with Brandon. \nVisit our website for more information!
URL:https://crossroadsingersoll.ca/event/cmfa-striking-classes/2026-03-10/
LOCATION:Church Building – Oxford\, 184 Oxford St\, Ingersoll\, Ontario\, N5C 2V7\, Canada
CATEGORIES:CMFA
ORGANIZER;CN="Crossroads Martial Fitness Academy":MAILTO:crossroadsmfa@gmail.com
END:VEVENT
END:VCALENDAR