BEGIN:VCALENDAR
VERSION:2.0
PRODID:-//Crossroads - ECPv6.10.2//NONSGML v1.0//EN
CALSCALE:GREGORIAN
METHOD:PUBLISH
X-WR-CALNAME:Crossroads
X-ORIGINAL-URL:https://crossroadsingersoll.ca
X-WR-CALDESC:Events for Crossroads
REFRESH-INTERVAL;VALUE=DURATION:PT1H
X-Robots-Tag:noindex
X-PUBLISHED-TTL:PT1H
BEGIN:VTIMEZONE
TZID:UTC
BEGIN:STANDARD
TZOFFSETFROM:+0000
TZOFFSETTO:+0000
TZNAME:UTC
DTSTART:20260101T000000
END:STANDARD
END:VTIMEZONE
BEGIN:VEVENT
DTSTART;TZID=UTC:20260413T180000
DTEND;TZID=UTC:20260413T200000
DTSTAMP:20260423T032805
CREATED:20250522T192627Z
LAST-MODIFIED:20250522T192627Z
UID:10013441-1776103200-1776110400@crossroadsingersoll.ca
SUMMARY:CMFA Boxing Class
DESCRIPTION:Boxing Class with Gary!\nPlease visit the CMFA Website for more information.
URL:https://crossroadsingersoll.ca/event/cmfa-boxing-class/2026-04-13/
LOCATION:Church Building – Oxford\, 184 Oxford St\, Ingersoll\, Ontario\, N5C 2V7\, Canada
CATEGORIES:CMFA
ORGANIZER;CN="Crossroads Martial Fitness Academy":MAILTO:crossroadsmfa@gmail.com
END:VEVENT
BEGIN:VEVENT
DTSTART;TZID=UTC:20260414T180000
DTEND;TZID=UTC:20260414T190000
DTSTAMP:20260423T032805
CREATED:20250522T193516Z
LAST-MODIFIED:20250522T193516Z
UID:10013703-1776189600-1776193200@crossroadsingersoll.ca
SUMMARY:CMFA Dragon Slayers Classes
DESCRIPTION:Dragon Slayers (Ages 10-14) with Brandon
URL:https://crossroadsingersoll.ca/event/cmfa-dragon-slayers-classes/2026-04-14/
LOCATION:Church Building – Oxford\, 184 Oxford St\, Ingersoll\, Ontario\, N5C 2V7\, Canada
CATEGORIES:CMFA
ORGANIZER;CN="Crossroads Martial Fitness Academy":MAILTO:crossroadsmfa@gmail.com
END:VEVENT
BEGIN:VEVENT
DTSTART;TZID=UTC:20260414T190000
DTEND;TZID=UTC:20260414T193000
DTSTAMP:20260423T032805
CREATED:20250522T193709Z
LAST-MODIFIED:20250522T193709Z
UID:10013967-1776193200-1776195000@crossroadsingersoll.ca
SUMMARY:CMFA Striking Classes
DESCRIPTION:CMFA Striking Classes with Brandon. \nVisit our website for more information!
URL:https://crossroadsingersoll.ca/event/cmfa-striking-classes/2026-04-14/
LOCATION:Church Building – Oxford\, 184 Oxford St\, Ingersoll\, Ontario\, N5C 2V7\, Canada
CATEGORIES:CMFA
ORGANIZER;CN="Crossroads Martial Fitness Academy":MAILTO:crossroadsmfa@gmail.com
END:VEVENT
BEGIN:VEVENT
DTSTART;TZID=UTC:20260414T193000
DTEND;TZID=UTC:20260414T213000
DTSTAMP:20260423T032805
CREATED:20250522T193912Z
LAST-MODIFIED:20250522T193912Z
UID:10014231-1776195000-1776202200@crossroadsingersoll.ca
SUMMARY:CMFA BJJ Fundamentals & Advanced Classes
DESCRIPTION:BJJ Fundamentals and Advances with Cal & Brandon! \nVisit the CMFA website for more information.
URL:https://crossroadsingersoll.ca/event/cmfa-bjj-fundamentals-advanced-classes/2026-04-14/
LOCATION:Church Building – Oxford\, 184 Oxford St\, Ingersoll\, Ontario\, N5C 2V7\, Canada
CATEGORIES:CMFA
ORGANIZER;CN="Crossroads Martial Fitness Academy":MAILTO:crossroadsmfa@gmail.com
END:VEVENT
BEGIN:VEVENT
DTSTART;TZID=UTC:20260416T180000
DTEND;TZID=UTC:20260416T184500
DTSTAMP:20260423T032805
CREATED:20250522T194105Z
LAST-MODIFIED:20250522T194105Z
UID:10014496-1776362400-1776365100@crossroadsingersoll.ca
SUMMARY:CMFA Junior Dragon Slayer Classes
DESCRIPTION:Junior Dragon Slayers (Ages 4-9) with Brandon
URL:https://crossroadsingersoll.ca/event/cmfa-junior-dragon-slayer-classes/2026-04-16/
LOCATION:Church Building – Oxford\, 184 Oxford St\, Ingersoll\, Ontario\, N5C 2V7\, Canada
CATEGORIES:CMFA
ORGANIZER;CN="Crossroads Martial Fitness Academy":MAILTO:crossroadsmfa@gmail.com
END:VEVENT
BEGIN:VEVENT
DTSTART;TZID=UTC:20260416T190000
DTEND;TZID=UTC:20260416T203000
DTSTAMP:20260423T032805
CREATED:20250522T194256Z
LAST-MODIFIED:20250522T194256Z
UID:10014757-1776366000-1776371400@crossroadsingersoll.ca
SUMMARY:CMFA MMA Classes
DESCRIPTION:No-Gi MMA Classes with Prof. Laprise. \n  \nVisit our website for more information!
URL:https://crossroadsingersoll.ca/event/cmfa-mma-classes/2026-04-16/
LOCATION:Church Building – Oxford\, 184 Oxford St\, Ingersoll\, Ontario\, N5C 2V7\, Canada
CATEGORIES:CMFA
ORGANIZER;CN="Crossroads Martial Fitness Academy":MAILTO:crossroadsmfa@gmail.com
END:VEVENT
BEGIN:VEVENT
DTSTART;TZID=UTC:20260418T100000
DTEND;TZID=UTC:20260418T110000
DTSTAMP:20260423T032805
CREATED:20250522T200018Z
LAST-MODIFIED:20250522T200018Z
UID:10015018-1776506400-1776510000@crossroadsingersoll.ca
SUMMARY:CMFA Kids & Youth Rolling Classes
DESCRIPTION:Kids & Youth Rolling Classes (Ages 4-14) with Brandon.\nClass Attendance on a Tuesday or Thursday is necessary for this hour. \n  \nVisit our website for more information!
URL:https://crossroadsingersoll.ca/event/cmfa-kids-youth-rolling-classes/2026-04-18/
LOCATION:Ontario
CATEGORIES:CMFA
END:VEVENT
BEGIN:VEVENT
DTSTART;TZID=UTC:20260418T110000
DTEND;TZID=UTC:20260418T120000
DTSTAMP:20260423T032805
CREATED:20250522T200257Z
LAST-MODIFIED:20250522T200257Z
UID:10015279-1776510000-1776513600@crossroadsingersoll.ca
SUMMARY:CMFA Striking & Conditioning Classes
DESCRIPTION:Striking & Conditioning with Brandon \nVisit our website for more information!
URL:https://crossroadsingersoll.ca/event/cmfa-striking-conditioning-classes/2026-04-18/
LOCATION:Church Building – Oxford\, 184 Oxford St\, Ingersoll\, Ontario\, N5C 2V7\, Canada
CATEGORIES:CMFA
ORGANIZER;CN="Crossroads Martial Fitness Academy":MAILTO:crossroadsmfa@gmail.com
END:VEVENT
BEGIN:VEVENT
DTSTART;TZID=UTC:20260418T120000
DTEND;TZID=UTC:20260418T140000
DTSTAMP:20260423T032805
CREATED:20250522T200448Z
LAST-MODIFIED:20250522T200448Z
UID:10015539-1776513600-1776520800@crossroadsingersoll.ca
SUMMARY:CMFA BJJ Fundamentals and Advanced Classes
DESCRIPTION:BJJ Fundamentals and Advanced Classes with Cal & Brandon \nVisit our website for more information!
URL:https://crossroadsingersoll.ca/event/cmfa-bjj-fundamentals-and-advanced-classes/2026-04-18/
LOCATION:Church Building – Oxford\, 184 Oxford St\, Ingersoll\, Ontario\, N5C 2V7\, Canada
CATEGORIES:CMFA
ORGANIZER;CN="Crossroads Martial Fitness Academy":MAILTO:crossroadsmfa@gmail.com
END:VEVENT
END:VCALENDAR