BEGIN:VCALENDAR
VERSION:2.0
PRODID:-//Crossroads - ECPv6.10.2//NONSGML v1.0//EN
CALSCALE:GREGORIAN
METHOD:PUBLISH
X-WR-CALNAME:Crossroads
X-ORIGINAL-URL:https://crossroadsingersoll.ca
X-WR-CALDESC:Events for Crossroads
REFRESH-INTERVAL;VALUE=DURATION:PT1H
X-Robots-Tag:noindex
X-PUBLISHED-TTL:PT1H
BEGIN:VTIMEZONE
TZID:UTC
BEGIN:STANDARD
TZOFFSETFROM:+0000
TZOFFSETTO:+0000
TZNAME:UTC
DTSTART:20260101T000000
END:STANDARD
END:VTIMEZONE
BEGIN:VEVENT
DTSTART;TZID=UTC:20260329T184500
DTEND;TZID=UTC:20260329T210000
DTSTAMP:20260422T134150
CREATED:20260329T030457Z
LAST-MODIFIED:20260329T030457Z
UID:10016684-1774809900-1774818000@crossroadsingersoll.ca
SUMMARY:Financial Training Series
DESCRIPTION:The first night of the Crossroads Financial Training Series will be held on Wednesday\, April 15th at 6:45pm in the Fellowship Hall. \nThis session will feature three mini courses:\n1. Financial Foundations — “The earth is the Lord’s and the fullness thereof”\n2. Budgeting — “Treasure dwells in the house of the wise”\n3. Planning Your Way Out of Debt — “The borrower is slave to the lender.”\nWe hope you’ll join us for this practical and biblically grounded evening.
URL:https://crossroadsingersoll.ca/event/financial-training-series/2026-03-29/
CATEGORIES:Family Life
END:VEVENT
END:VCALENDAR