BEGIN:VCALENDAR
VERSION:2.0
PRODID:-//Crossroads - ECPv6.10.2//NONSGML v1.0//EN
CALSCALE:GREGORIAN
METHOD:PUBLISH
X-WR-CALNAME:Crossroads
X-ORIGINAL-URL:https://crossroadsingersoll.ca
X-WR-CALDESC:Events for Crossroads
REFRESH-INTERVAL;VALUE=DURATION:PT1H
X-Robots-Tag:noindex
X-PUBLISHED-TTL:PT1H
BEGIN:VTIMEZONE
TZID:UTC
BEGIN:STANDARD
TZOFFSETFROM:+0000
TZOFFSETTO:+0000
TZNAME:UTC
DTSTART:20260101T000000
END:STANDARD
END:VTIMEZONE
BEGIN:VEVENT
DTSTART;TZID=UTC:20261018T080000
DTEND;TZID=UTC:20261018T083000
DTSTAMP:20260419T230201
CREATED:20221102T194306Z
LAST-MODIFIED:20250814T040854Z
UID:10015935-1792310400-1792312200@crossroadsingersoll.ca
SUMMARY:Church Prayer Meeting
DESCRIPTION:Join other members of the church in prayer for Sunday Service. Held in the office board room.
URL:https://crossroadsingersoll.ca/event/church-prayer-meeting-2-2/2026-10-18/
LOCATION:Church Building – Oxford\, 184 Oxford St\, Ingersoll\, Ontario\, N5C 2V7\, Canada
CATEGORIES:Prayer
END:VEVENT
BEGIN:VEVENT
DTSTART;TZID=UTC:20261020T190000
DTEND;TZID=UTC:20261020T203000
DTSTAMP:20260419T230201
CREATED:20231115T180911Z
LAST-MODIFIED:20250522T191332Z
UID:10007147-1792522800-1792528200@crossroadsingersoll.ca
SUMMARY:Church Prayer Meeting
DESCRIPTION:Join other church family members at the church every Tuesday evening to pray for the church\, leadership\, community and world!
URL:https://crossroadsingersoll.ca/event/church-family-prayer/2026-10-20/
LOCATION:King’s Cross Academy\, 194552 Oxford County Rd. 119\, Ingersoll\, Ontario\, N5C3J6\, Canada
CATEGORIES:Prayer
ORGANIZER;CN="Mike and Susan Verwolf":MAILTO:mike.verwolf@gmail.com
END:VEVENT
BEGIN:VEVENT
DTSTART;TZID=UTC:20261022T063000
DTEND;TZID=UTC:20261022T073000
DTSTAMP:20260419T230201
CREATED:20240820T015617Z
LAST-MODIFIED:20250814T040655Z
UID:10006462-1792650600-1792654200@crossroadsingersoll.ca
SUMMARY:Men’s Prayer
DESCRIPTION:Join other Crossroads Men for early morning prayer!
URL:https://crossroadsingersoll.ca/event/mens-prayer-2/2026-10-22/
LOCATION:4014 Dundas St\, London\, ON N5V 5C6\, 4014 Dundas St\, London\, Ontario\, N5V 5C6\, Canada
CATEGORIES:Men's Ministry,Prayer
ORGANIZER;CN="Crossroads":MAILTO:office@crossroadsac.org
END:VEVENT
BEGIN:VEVENT
DTSTART;TZID=UTC:20261025T080000
DTEND;TZID=UTC:20261025T083000
DTSTAMP:20260419T230201
CREATED:20221102T194306Z
LAST-MODIFIED:20250814T040854Z
UID:10015936-1792915200-1792917000@crossroadsingersoll.ca
SUMMARY:Church Prayer Meeting
DESCRIPTION:Join other members of the church in prayer for Sunday Service. Held in the office board room.
URL:https://crossroadsingersoll.ca/event/church-prayer-meeting-2-2/2026-10-25/
LOCATION:Church Building – Oxford\, 184 Oxford St\, Ingersoll\, Ontario\, N5C 2V7\, Canada
CATEGORIES:Prayer
END:VEVENT
BEGIN:VEVENT
DTSTART;TZID=UTC:20261027T190000
DTEND;TZID=UTC:20261027T203000
DTSTAMP:20260419T230201
CREATED:20231115T180911Z
LAST-MODIFIED:20250522T191332Z
UID:10007148-1793127600-1793133000@crossroadsingersoll.ca
SUMMARY:Church Prayer Meeting
DESCRIPTION:Join other church family members at the church every Tuesday evening to pray for the church\, leadership\, community and world!
URL:https://crossroadsingersoll.ca/event/church-family-prayer/2026-10-27/
LOCATION:King’s Cross Academy\, 194552 Oxford County Rd. 119\, Ingersoll\, Ontario\, N5C3J6\, Canada
CATEGORIES:Prayer
ORGANIZER;CN="Mike and Susan Verwolf":MAILTO:mike.verwolf@gmail.com
END:VEVENT
BEGIN:VEVENT
DTSTART;TZID=UTC:20261029T063000
DTEND;TZID=UTC:20261029T073000
DTSTAMP:20260419T230201
CREATED:20240820T015617Z
LAST-MODIFIED:20250814T040655Z
UID:10006463-1793255400-1793259000@crossroadsingersoll.ca
SUMMARY:Men’s Prayer
DESCRIPTION:Join other Crossroads Men for early morning prayer!
URL:https://crossroadsingersoll.ca/event/mens-prayer-2/2026-10-29/
LOCATION:4014 Dundas St\, London\, ON N5V 5C6\, 4014 Dundas St\, London\, Ontario\, N5V 5C6\, Canada
CATEGORIES:Men's Ministry,Prayer
ORGANIZER;CN="Crossroads":MAILTO:office@crossroadsac.org
END:VEVENT
BEGIN:VEVENT
DTSTART;TZID=UTC:20261101T080000
DTEND;TZID=UTC:20261101T083000
DTSTAMP:20260419T230201
CREATED:20221102T194306Z
LAST-MODIFIED:20250814T040854Z
UID:10015937-1793520000-1793521800@crossroadsingersoll.ca
SUMMARY:Church Prayer Meeting
DESCRIPTION:Join other members of the church in prayer for Sunday Service. Held in the office board room.
URL:https://crossroadsingersoll.ca/event/church-prayer-meeting-2-2/2026-11-01/
LOCATION:Church Building – Oxford\, 184 Oxford St\, Ingersoll\, Ontario\, N5C 2V7\, Canada
CATEGORIES:Prayer
END:VEVENT
BEGIN:VEVENT
DTSTART;TZID=UTC:20261103T190000
DTEND;TZID=UTC:20261103T203000
DTSTAMP:20260419T230201
CREATED:20231115T180911Z
LAST-MODIFIED:20250522T191332Z
UID:10007149-1793732400-1793737800@crossroadsingersoll.ca
SUMMARY:Church Prayer Meeting
DESCRIPTION:Join other church family members at the church every Tuesday evening to pray for the church\, leadership\, community and world!
URL:https://crossroadsingersoll.ca/event/church-family-prayer/2026-11-03/
LOCATION:King’s Cross Academy\, 194552 Oxford County Rd. 119\, Ingersoll\, Ontario\, N5C3J6\, Canada
CATEGORIES:Prayer
ORGANIZER;CN="Mike and Susan Verwolf":MAILTO:mike.verwolf@gmail.com
END:VEVENT
BEGIN:VEVENT
DTSTART;TZID=UTC:20261105T063000
DTEND;TZID=UTC:20261105T073000
DTSTAMP:20260419T230201
CREATED:20240820T015617Z
LAST-MODIFIED:20250814T040655Z
UID:10006464-1793860200-1793863800@crossroadsingersoll.ca
SUMMARY:Men’s Prayer
DESCRIPTION:Join other Crossroads Men for early morning prayer!
URL:https://crossroadsingersoll.ca/event/mens-prayer-2/2026-11-05/
LOCATION:4014 Dundas St\, London\, ON N5V 5C6\, 4014 Dundas St\, London\, Ontario\, N5V 5C6\, Canada
CATEGORIES:Men's Ministry,Prayer
ORGANIZER;CN="Crossroads":MAILTO:office@crossroadsac.org
END:VEVENT
BEGIN:VEVENT
DTSTART;TZID=UTC:20261108T080000
DTEND;TZID=UTC:20261108T083000
DTSTAMP:20260419T230201
CREATED:20221102T194306Z
LAST-MODIFIED:20250814T040854Z
UID:10015938-1794124800-1794126600@crossroadsingersoll.ca
SUMMARY:Church Prayer Meeting
DESCRIPTION:Join other members of the church in prayer for Sunday Service. Held in the office board room.
URL:https://crossroadsingersoll.ca/event/church-prayer-meeting-2-2/2026-11-08/
LOCATION:Church Building – Oxford\, 184 Oxford St\, Ingersoll\, Ontario\, N5C 2V7\, Canada
CATEGORIES:Prayer
END:VEVENT
BEGIN:VEVENT
DTSTART;TZID=UTC:20261110T190000
DTEND;TZID=UTC:20261110T203000
DTSTAMP:20260419T230201
CREATED:20231115T180911Z
LAST-MODIFIED:20250522T191332Z
UID:10007150-1794337200-1794342600@crossroadsingersoll.ca
SUMMARY:Church Prayer Meeting
DESCRIPTION:Join other church family members at the church every Tuesday evening to pray for the church\, leadership\, community and world!
URL:https://crossroadsingersoll.ca/event/church-family-prayer/2026-11-10/
LOCATION:King’s Cross Academy\, 194552 Oxford County Rd. 119\, Ingersoll\, Ontario\, N5C3J6\, Canada
CATEGORIES:Prayer
ORGANIZER;CN="Mike and Susan Verwolf":MAILTO:mike.verwolf@gmail.com
END:VEVENT
BEGIN:VEVENT
DTSTART;TZID=UTC:20261112T063000
DTEND;TZID=UTC:20261112T073000
DTSTAMP:20260419T230201
CREATED:20240820T015617Z
LAST-MODIFIED:20250814T040655Z
UID:10006465-1794465000-1794468600@crossroadsingersoll.ca
SUMMARY:Men’s Prayer
DESCRIPTION:Join other Crossroads Men for early morning prayer!
URL:https://crossroadsingersoll.ca/event/mens-prayer-2/2026-11-12/
LOCATION:4014 Dundas St\, London\, ON N5V 5C6\, 4014 Dundas St\, London\, Ontario\, N5V 5C6\, Canada
CATEGORIES:Men's Ministry,Prayer
ORGANIZER;CN="Crossroads":MAILTO:office@crossroadsac.org
END:VEVENT
BEGIN:VEVENT
DTSTART;TZID=UTC:20261115T080000
DTEND;TZID=UTC:20261115T083000
DTSTAMP:20260419T230201
CREATED:20221102T194306Z
LAST-MODIFIED:20250814T040854Z
UID:10015939-1794729600-1794731400@crossroadsingersoll.ca
SUMMARY:Church Prayer Meeting
DESCRIPTION:Join other members of the church in prayer for Sunday Service. Held in the office board room.
URL:https://crossroadsingersoll.ca/event/church-prayer-meeting-2-2/2026-11-15/
LOCATION:Church Building – Oxford\, 184 Oxford St\, Ingersoll\, Ontario\, N5C 2V7\, Canada
CATEGORIES:Prayer
END:VEVENT
BEGIN:VEVENT
DTSTART;TZID=UTC:20261117T190000
DTEND;TZID=UTC:20261117T203000
DTSTAMP:20260419T230201
CREATED:20231115T180911Z
LAST-MODIFIED:20250522T191332Z
UID:10007151-1794942000-1794947400@crossroadsingersoll.ca
SUMMARY:Church Prayer Meeting
DESCRIPTION:Join other church family members at the church every Tuesday evening to pray for the church\, leadership\, community and world!
URL:https://crossroadsingersoll.ca/event/church-family-prayer/2026-11-17/
LOCATION:King’s Cross Academy\, 194552 Oxford County Rd. 119\, Ingersoll\, Ontario\, N5C3J6\, Canada
CATEGORIES:Prayer
ORGANIZER;CN="Mike and Susan Verwolf":MAILTO:mike.verwolf@gmail.com
END:VEVENT
BEGIN:VEVENT
DTSTART;TZID=UTC:20261119T063000
DTEND;TZID=UTC:20261119T073000
DTSTAMP:20260419T230201
CREATED:20240820T015617Z
LAST-MODIFIED:20250814T040655Z
UID:10006466-1795069800-1795073400@crossroadsingersoll.ca
SUMMARY:Men’s Prayer
DESCRIPTION:Join other Crossroads Men for early morning prayer!
URL:https://crossroadsingersoll.ca/event/mens-prayer-2/2026-11-19/
LOCATION:4014 Dundas St\, London\, ON N5V 5C6\, 4014 Dundas St\, London\, Ontario\, N5V 5C6\, Canada
CATEGORIES:Men's Ministry,Prayer
ORGANIZER;CN="Crossroads":MAILTO:office@crossroadsac.org
END:VEVENT
BEGIN:VEVENT
DTSTART;TZID=UTC:20261122T080000
DTEND;TZID=UTC:20261122T083000
DTSTAMP:20260419T230201
CREATED:20221102T194306Z
LAST-MODIFIED:20250814T040854Z
UID:10015940-1795334400-1795336200@crossroadsingersoll.ca
SUMMARY:Church Prayer Meeting
DESCRIPTION:Join other members of the church in prayer for Sunday Service. Held in the office board room.
URL:https://crossroadsingersoll.ca/event/church-prayer-meeting-2-2/2026-11-22/
LOCATION:Church Building – Oxford\, 184 Oxford St\, Ingersoll\, Ontario\, N5C 2V7\, Canada
CATEGORIES:Prayer
END:VEVENT
BEGIN:VEVENT
DTSTART;TZID=UTC:20261124T190000
DTEND;TZID=UTC:20261124T203000
DTSTAMP:20260419T230201
CREATED:20231115T180911Z
LAST-MODIFIED:20250522T191332Z
UID:10007152-1795546800-1795552200@crossroadsingersoll.ca
SUMMARY:Church Prayer Meeting
DESCRIPTION:Join other church family members at the church every Tuesday evening to pray for the church\, leadership\, community and world!
URL:https://crossroadsingersoll.ca/event/church-family-prayer/2026-11-24/
LOCATION:King’s Cross Academy\, 194552 Oxford County Rd. 119\, Ingersoll\, Ontario\, N5C3J6\, Canada
CATEGORIES:Prayer
ORGANIZER;CN="Mike and Susan Verwolf":MAILTO:mike.verwolf@gmail.com
END:VEVENT
BEGIN:VEVENT
DTSTART;TZID=UTC:20261126T063000
DTEND;TZID=UTC:20261126T073000
DTSTAMP:20260419T230201
CREATED:20240820T015617Z
LAST-MODIFIED:20250814T040655Z
UID:10006467-1795674600-1795678200@crossroadsingersoll.ca
SUMMARY:Men’s Prayer
DESCRIPTION:Join other Crossroads Men for early morning prayer!
URL:https://crossroadsingersoll.ca/event/mens-prayer-2/2026-11-26/
LOCATION:4014 Dundas St\, London\, ON N5V 5C6\, 4014 Dundas St\, London\, Ontario\, N5V 5C6\, Canada
CATEGORIES:Men's Ministry,Prayer
ORGANIZER;CN="Crossroads":MAILTO:office@crossroadsac.org
END:VEVENT
BEGIN:VEVENT
DTSTART;TZID=UTC:20261129T080000
DTEND;TZID=UTC:20261129T083000
DTSTAMP:20260419T230201
CREATED:20221102T194306Z
LAST-MODIFIED:20250814T040854Z
UID:10015941-1795939200-1795941000@crossroadsingersoll.ca
SUMMARY:Church Prayer Meeting
DESCRIPTION:Join other members of the church in prayer for Sunday Service. Held in the office board room.
URL:https://crossroadsingersoll.ca/event/church-prayer-meeting-2-2/2026-11-29/
LOCATION:Church Building – Oxford\, 184 Oxford St\, Ingersoll\, Ontario\, N5C 2V7\, Canada
CATEGORIES:Prayer
END:VEVENT
BEGIN:VEVENT
DTSTART;TZID=UTC:20261201T190000
DTEND;TZID=UTC:20261201T203000
DTSTAMP:20260419T230201
CREATED:20231115T180911Z
LAST-MODIFIED:20250522T191332Z
UID:10007153-1796151600-1796157000@crossroadsingersoll.ca
SUMMARY:Church Prayer Meeting
DESCRIPTION:Join other church family members at the church every Tuesday evening to pray for the church\, leadership\, community and world!
URL:https://crossroadsingersoll.ca/event/church-family-prayer/2026-12-01/
LOCATION:King’s Cross Academy\, 194552 Oxford County Rd. 119\, Ingersoll\, Ontario\, N5C3J6\, Canada
CATEGORIES:Prayer
ORGANIZER;CN="Mike and Susan Verwolf":MAILTO:mike.verwolf@gmail.com
END:VEVENT
BEGIN:VEVENT
DTSTART;TZID=UTC:20261203T063000
DTEND;TZID=UTC:20261203T073000
DTSTAMP:20260419T230201
CREATED:20240820T015617Z
LAST-MODIFIED:20250814T040655Z
UID:10006468-1796279400-1796283000@crossroadsingersoll.ca
SUMMARY:Men’s Prayer
DESCRIPTION:Join other Crossroads Men for early morning prayer!
URL:https://crossroadsingersoll.ca/event/mens-prayer-2/2026-12-03/
LOCATION:4014 Dundas St\, London\, ON N5V 5C6\, 4014 Dundas St\, London\, Ontario\, N5V 5C6\, Canada
CATEGORIES:Men's Ministry,Prayer
ORGANIZER;CN="Crossroads":MAILTO:office@crossroadsac.org
END:VEVENT
BEGIN:VEVENT
DTSTART;TZID=UTC:20261206T080000
DTEND;TZID=UTC:20261206T083000
DTSTAMP:20260419T230201
CREATED:20221102T194306Z
LAST-MODIFIED:20250814T040854Z
UID:10015942-1796544000-1796545800@crossroadsingersoll.ca
SUMMARY:Church Prayer Meeting
DESCRIPTION:Join other members of the church in prayer for Sunday Service. Held in the office board room.
URL:https://crossroadsingersoll.ca/event/church-prayer-meeting-2-2/2026-12-06/
LOCATION:Church Building – Oxford\, 184 Oxford St\, Ingersoll\, Ontario\, N5C 2V7\, Canada
CATEGORIES:Prayer
END:VEVENT
BEGIN:VEVENT
DTSTART;TZID=UTC:20261208T190000
DTEND;TZID=UTC:20261208T203000
DTSTAMP:20260419T230201
CREATED:20231115T180911Z
LAST-MODIFIED:20250522T191332Z
UID:10007154-1796756400-1796761800@crossroadsingersoll.ca
SUMMARY:Church Prayer Meeting
DESCRIPTION:Join other church family members at the church every Tuesday evening to pray for the church\, leadership\, community and world!
URL:https://crossroadsingersoll.ca/event/church-family-prayer/2026-12-08/
LOCATION:King’s Cross Academy\, 194552 Oxford County Rd. 119\, Ingersoll\, Ontario\, N5C3J6\, Canada
CATEGORIES:Prayer
ORGANIZER;CN="Mike and Susan Verwolf":MAILTO:mike.verwolf@gmail.com
END:VEVENT
BEGIN:VEVENT
DTSTART;TZID=UTC:20261210T063000
DTEND;TZID=UTC:20261210T073000
DTSTAMP:20260419T230201
CREATED:20240820T015617Z
LAST-MODIFIED:20250814T040655Z
UID:10006469-1796884200-1796887800@crossroadsingersoll.ca
SUMMARY:Men’s Prayer
DESCRIPTION:Join other Crossroads Men for early morning prayer!
URL:https://crossroadsingersoll.ca/event/mens-prayer-2/2026-12-10/
LOCATION:4014 Dundas St\, London\, ON N5V 5C6\, 4014 Dundas St\, London\, Ontario\, N5V 5C6\, Canada
CATEGORIES:Men's Ministry,Prayer
ORGANIZER;CN="Crossroads":MAILTO:office@crossroadsac.org
END:VEVENT
BEGIN:VEVENT
DTSTART;TZID=UTC:20261213T080000
DTEND;TZID=UTC:20261213T083000
DTSTAMP:20260419T230201
CREATED:20221102T194306Z
LAST-MODIFIED:20250814T040854Z
UID:10015943-1797148800-1797150600@crossroadsingersoll.ca
SUMMARY:Church Prayer Meeting
DESCRIPTION:Join other members of the church in prayer for Sunday Service. Held in the office board room.
URL:https://crossroadsingersoll.ca/event/church-prayer-meeting-2-2/2026-12-13/
LOCATION:Church Building – Oxford\, 184 Oxford St\, Ingersoll\, Ontario\, N5C 2V7\, Canada
CATEGORIES:Prayer
END:VEVENT
BEGIN:VEVENT
DTSTART;TZID=UTC:20261215T190000
DTEND;TZID=UTC:20261215T203000
DTSTAMP:20260419T230201
CREATED:20231115T180911Z
LAST-MODIFIED:20250522T191332Z
UID:10007155-1797361200-1797366600@crossroadsingersoll.ca
SUMMARY:Church Prayer Meeting
DESCRIPTION:Join other church family members at the church every Tuesday evening to pray for the church\, leadership\, community and world!
URL:https://crossroadsingersoll.ca/event/church-family-prayer/2026-12-15/
LOCATION:King’s Cross Academy\, 194552 Oxford County Rd. 119\, Ingersoll\, Ontario\, N5C3J6\, Canada
CATEGORIES:Prayer
ORGANIZER;CN="Mike and Susan Verwolf":MAILTO:mike.verwolf@gmail.com
END:VEVENT
BEGIN:VEVENT
DTSTART;TZID=UTC:20261217T063000
DTEND;TZID=UTC:20261217T073000
DTSTAMP:20260419T230201
CREATED:20240820T015617Z
LAST-MODIFIED:20250814T040655Z
UID:10006470-1797489000-1797492600@crossroadsingersoll.ca
SUMMARY:Men’s Prayer
DESCRIPTION:Join other Crossroads Men for early morning prayer!
URL:https://crossroadsingersoll.ca/event/mens-prayer-2/2026-12-17/
LOCATION:4014 Dundas St\, London\, ON N5V 5C6\, 4014 Dundas St\, London\, Ontario\, N5V 5C6\, Canada
CATEGORIES:Men's Ministry,Prayer
ORGANIZER;CN="Crossroads":MAILTO:office@crossroadsac.org
END:VEVENT
BEGIN:VEVENT
DTSTART;TZID=UTC:20261220T080000
DTEND;TZID=UTC:20261220T083000
DTSTAMP:20260419T230201
CREATED:20221102T194306Z
LAST-MODIFIED:20250814T040854Z
UID:10015944-1797753600-1797755400@crossroadsingersoll.ca
SUMMARY:Church Prayer Meeting
DESCRIPTION:Join other members of the church in prayer for Sunday Service. Held in the office board room.
URL:https://crossroadsingersoll.ca/event/church-prayer-meeting-2-2/2026-12-20/
LOCATION:Church Building – Oxford\, 184 Oxford St\, Ingersoll\, Ontario\, N5C 2V7\, Canada
CATEGORIES:Prayer
END:VEVENT
BEGIN:VEVENT
DTSTART;TZID=UTC:20261222T190000
DTEND;TZID=UTC:20261222T203000
DTSTAMP:20260419T230201
CREATED:20231115T180911Z
LAST-MODIFIED:20250522T191332Z
UID:10007156-1797966000-1797971400@crossroadsingersoll.ca
SUMMARY:Church Prayer Meeting
DESCRIPTION:Join other church family members at the church every Tuesday evening to pray for the church\, leadership\, community and world!
URL:https://crossroadsingersoll.ca/event/church-family-prayer/2026-12-22/
LOCATION:King’s Cross Academy\, 194552 Oxford County Rd. 119\, Ingersoll\, Ontario\, N5C3J6\, Canada
CATEGORIES:Prayer
ORGANIZER;CN="Mike and Susan Verwolf":MAILTO:mike.verwolf@gmail.com
END:VEVENT
BEGIN:VEVENT
DTSTART;TZID=UTC:20261224T063000
DTEND;TZID=UTC:20261224T073000
DTSTAMP:20260419T230201
CREATED:20240820T015617Z
LAST-MODIFIED:20250814T040655Z
UID:10006471-1798093800-1798097400@crossroadsingersoll.ca
SUMMARY:Men’s Prayer
DESCRIPTION:Join other Crossroads Men for early morning prayer!
URL:https://crossroadsingersoll.ca/event/mens-prayer-2/2026-12-24/
LOCATION:4014 Dundas St\, London\, ON N5V 5C6\, 4014 Dundas St\, London\, Ontario\, N5V 5C6\, Canada
CATEGORIES:Men's Ministry,Prayer
ORGANIZER;CN="Crossroads":MAILTO:office@crossroadsac.org
END:VEVENT
END:VCALENDAR