BEGIN:VCALENDAR
VERSION:2.0
PRODID:-//Crossroads - ECPv6.10.2//NONSGML v1.0//EN
CALSCALE:GREGORIAN
METHOD:PUBLISH
X-ORIGINAL-URL:https://crossroadsingersoll.ca
X-WR-CALDESC:Events for Crossroads
REFRESH-INTERVAL;VALUE=DURATION:PT1H
X-Robots-Tag:noindex
X-PUBLISHED-TTL:PT1H
BEGIN:VTIMEZONE
TZID:UTC
BEGIN:STANDARD
TZOFFSETFROM:+0000
TZOFFSETTO:+0000
TZNAME:UTC
DTSTART:20240101T000000
END:STANDARD
END:VTIMEZONE
BEGIN:VEVENT
DTSTART;TZID=UTC:20260416T190000
DTEND;TZID=UTC:20260416T210000
DTSTAMP:20260422T193721
CREATED:20251205T052218Z
LAST-MODIFIED:20251205T052219Z
UID:10016175-1776366000-1776373200@crossroadsingersoll.ca
SUMMARY:GEMS
DESCRIPTION:GEMS Girls Club (Grades 1–8)A place where girls can grow in confidence\, faith\, and friendship. GEMS helps girls discover that they are deeply loved by God and equips them to stand strong amidst life’s challenges—becoming world changers for Christ.
URL:https://crossroadsingersoll.ca/event/gems-2/2026-04-16/
LOCATION:King’s Cross Academy\, 194552 Oxford County Rd. 119\, Ingersoll\, Ontario\, N5C3J6\, Canada
CATEGORIES:GEMS
ORGANIZER;CN="Cristy Friend":MAILTO:cristyfriend@hotmail.com
END:VEVENT
BEGIN:VEVENT
DTSTART;TZID=UTC:20260402T190000
DTEND;TZID=UTC:20260402T210000
DTSTAMP:20260422T193721
CREATED:20251205T052218Z
LAST-MODIFIED:20251205T052219Z
UID:10016174-1775156400-1775163600@crossroadsingersoll.ca
SUMMARY:GEMS
DESCRIPTION:GEMS Girls Club (Grades 1–8)A place where girls can grow in confidence\, faith\, and friendship. GEMS helps girls discover that they are deeply loved by God and equips them to stand strong amidst life’s challenges—becoming world changers for Christ.
URL:https://crossroadsingersoll.ca/event/gems-2/2026-04-02/
LOCATION:King’s Cross Academy\, 194552 Oxford County Rd. 119\, Ingersoll\, Ontario\, N5C3J6\, Canada
CATEGORIES:GEMS
ORGANIZER;CN="Cristy Friend":MAILTO:cristyfriend@hotmail.com
END:VEVENT
BEGIN:VEVENT
DTSTART;TZID=UTC:20260319T190000
DTEND;TZID=UTC:20260319T210000
DTSTAMP:20260422T193721
CREATED:20251205T052218Z
LAST-MODIFIED:20251205T052219Z
UID:10016173-1773946800-1773954000@crossroadsingersoll.ca
SUMMARY:GEMS
DESCRIPTION:GEMS Girls Club (Grades 1–8)A place where girls can grow in confidence\, faith\, and friendship. GEMS helps girls discover that they are deeply loved by God and equips them to stand strong amidst life’s challenges—becoming world changers for Christ.
URL:https://crossroadsingersoll.ca/event/gems-2/2026-03-19/
LOCATION:King’s Cross Academy\, 194552 Oxford County Rd. 119\, Ingersoll\, Ontario\, N5C3J6\, Canada
CATEGORIES:GEMS
ORGANIZER;CN="Cristy Friend":MAILTO:cristyfriend@hotmail.com
END:VEVENT
BEGIN:VEVENT
DTSTART;TZID=UTC:20260305T190000
DTEND;TZID=UTC:20260305T210000
DTSTAMP:20260422T193721
CREATED:20251205T052218Z
LAST-MODIFIED:20251205T052219Z
UID:10016172-1772737200-1772744400@crossroadsingersoll.ca
SUMMARY:GEMS
DESCRIPTION:GEMS Girls Club (Grades 1–8)A place where girls can grow in confidence\, faith\, and friendship. GEMS helps girls discover that they are deeply loved by God and equips them to stand strong amidst life’s challenges—becoming world changers for Christ.
URL:https://crossroadsingersoll.ca/event/gems-2/2026-03-05/
LOCATION:King’s Cross Academy\, 194552 Oxford County Rd. 119\, Ingersoll\, Ontario\, N5C3J6\, Canada
CATEGORIES:GEMS
ORGANIZER;CN="Cristy Friend":MAILTO:cristyfriend@hotmail.com
END:VEVENT
BEGIN:VEVENT
DTSTART;TZID=UTC:20260219T190000
DTEND;TZID=UTC:20260219T210000
DTSTAMP:20260422T193721
CREATED:20251205T052218Z
LAST-MODIFIED:20251205T052219Z
UID:10016171-1771527600-1771534800@crossroadsingersoll.ca
SUMMARY:GEMS
DESCRIPTION:GEMS Girls Club (Grades 1–8)A place where girls can grow in confidence\, faith\, and friendship. GEMS helps girls discover that they are deeply loved by God and equips them to stand strong amidst life’s challenges—becoming world changers for Christ.
URL:https://crossroadsingersoll.ca/event/gems-2/2026-02-19/
LOCATION:King’s Cross Academy\, 194552 Oxford County Rd. 119\, Ingersoll\, Ontario\, N5C3J6\, Canada
CATEGORIES:GEMS
ORGANIZER;CN="Cristy Friend":MAILTO:cristyfriend@hotmail.com
END:VEVENT
BEGIN:VEVENT
DTSTART;TZID=UTC:20260205T190000
DTEND;TZID=UTC:20260205T210000
DTSTAMP:20260422T193721
CREATED:20251205T052218Z
LAST-MODIFIED:20251205T052219Z
UID:10016170-1770318000-1770325200@crossroadsingersoll.ca
SUMMARY:GEMS
DESCRIPTION:GEMS Girls Club (Grades 1–8)A place where girls can grow in confidence\, faith\, and friendship. GEMS helps girls discover that they are deeply loved by God and equips them to stand strong amidst life’s challenges—becoming world changers for Christ.
URL:https://crossroadsingersoll.ca/event/gems-2/2026-02-05/
LOCATION:King’s Cross Academy\, 194552 Oxford County Rd. 119\, Ingersoll\, Ontario\, N5C3J6\, Canada
CATEGORIES:GEMS
ORGANIZER;CN="Cristy Friend":MAILTO:cristyfriend@hotmail.com
END:VEVENT
BEGIN:VEVENT
DTSTART;TZID=UTC:20260122T190000
DTEND;TZID=UTC:20260122T210000
DTSTAMP:20260422T193721
CREATED:20251205T052218Z
LAST-MODIFIED:20251205T052219Z
UID:10016169-1769108400-1769115600@crossroadsingersoll.ca
SUMMARY:GEMS
DESCRIPTION:GEMS Girls Club (Grades 1–8)A place where girls can grow in confidence\, faith\, and friendship. GEMS helps girls discover that they are deeply loved by God and equips them to stand strong amidst life’s challenges—becoming world changers for Christ.
URL:https://crossroadsingersoll.ca/event/gems-2/2026-01-22/
LOCATION:King’s Cross Academy\, 194552 Oxford County Rd. 119\, Ingersoll\, Ontario\, N5C3J6\, Canada
CATEGORIES:GEMS
ORGANIZER;CN="Cristy Friend":MAILTO:cristyfriend@hotmail.com
END:VEVENT
BEGIN:VEVENT
DTSTART;TZID=UTC:20260108T190000
DTEND;TZID=UTC:20260108T210000
DTSTAMP:20260422T193721
CREATED:20251205T052218Z
LAST-MODIFIED:20251205T052219Z
UID:10016168-1767898800-1767906000@crossroadsingersoll.ca
SUMMARY:GEMS
DESCRIPTION:GEMS Girls Club (Grades 1–8)A place where girls can grow in confidence\, faith\, and friendship. GEMS helps girls discover that they are deeply loved by God and equips them to stand strong amidst life’s challenges—becoming world changers for Christ.
URL:https://crossroadsingersoll.ca/event/gems-2/2026-01-08/
LOCATION:King’s Cross Academy\, 194552 Oxford County Rd. 119\, Ingersoll\, Ontario\, N5C3J6\, Canada
CATEGORIES:GEMS
ORGANIZER;CN="Cristy Friend":MAILTO:cristyfriend@hotmail.com
END:VEVENT
BEGIN:VEVENT
DTSTART;TZID=UTC:20251211T190000
DTEND;TZID=UTC:20251211T210000
DTSTAMP:20260422T193721
CREATED:20251205T052218Z
LAST-MODIFIED:20251205T052219Z
UID:10016166-1765479600-1765486800@crossroadsingersoll.ca
SUMMARY:GEMS
DESCRIPTION:GEMS Girls Club (Grades 1–8)A place where girls can grow in confidence\, faith\, and friendship. GEMS helps girls discover that they are deeply loved by God and equips them to stand strong amidst life’s challenges—becoming world changers for Christ.
URL:https://crossroadsingersoll.ca/event/gems-2/2025-12-11/
LOCATION:King’s Cross Academy\, 194552 Oxford County Rd. 119\, Ingersoll\, Ontario\, N5C3J6\, Canada
CATEGORIES:GEMS
ORGANIZER;CN="Cristy Friend":MAILTO:cristyfriend@hotmail.com
END:VEVENT
BEGIN:VEVENT
DTSTART;TZID=UTC:20251127T190000
DTEND;TZID=UTC:20251127T210000
DTSTAMP:20260422T193721
CREATED:20250829T192932Z
LAST-MODIFIED:20250829T192932Z
UID:10016165-1764270000-1764277200@crossroadsingersoll.ca
SUMMARY:GEMS
DESCRIPTION:GEMS Girls Club (Grades 1–8)A place where girls can grow in confidence\, faith\, and friendship. GEMS helps girls discover that they are deeply loved by God and equips them to stand strong amidst life’s challenges—becoming world changers for Christ.
URL:https://crossroadsingersoll.ca/event/gems/2025-11-27/
LOCATION:King’s Cross Academy\, 194552 Oxford County Rd. 119\, Ingersoll\, Ontario\, N5C3J6\, Canada
CATEGORIES:GEMS
ORGANIZER;CN="Cristy Friend":MAILTO:cristyfriend@hotmail.com
END:VEVENT
BEGIN:VEVENT
DTSTART;TZID=UTC:20251113T190000
DTEND;TZID=UTC:20251113T210000
DTSTAMP:20260422T193721
CREATED:20250829T192932Z
LAST-MODIFIED:20250829T192932Z
UID:10016164-1763060400-1763067600@crossroadsingersoll.ca
SUMMARY:GEMS
DESCRIPTION:GEMS Girls Club (Grades 1–8)A place where girls can grow in confidence\, faith\, and friendship. GEMS helps girls discover that they are deeply loved by God and equips them to stand strong amidst life’s challenges—becoming world changers for Christ.
URL:https://crossroadsingersoll.ca/event/gems/2025-11-13/
LOCATION:King’s Cross Academy\, 194552 Oxford County Rd. 119\, Ingersoll\, Ontario\, N5C3J6\, Canada
CATEGORIES:GEMS
ORGANIZER;CN="Cristy Friend":MAILTO:cristyfriend@hotmail.com
END:VEVENT
BEGIN:VEVENT
DTSTART;TZID=UTC:20251030T190000
DTEND;TZID=UTC:20251030T210000
DTSTAMP:20260422T193721
CREATED:20250829T192932Z
LAST-MODIFIED:20250829T192932Z
UID:10016163-1761850800-1761858000@crossroadsingersoll.ca
SUMMARY:GEMS
DESCRIPTION:GEMS Girls Club (Grades 1–8)A place where girls can grow in confidence\, faith\, and friendship. GEMS helps girls discover that they are deeply loved by God and equips them to stand strong amidst life’s challenges—becoming world changers for Christ.
URL:https://crossroadsingersoll.ca/event/gems/2025-10-30/
LOCATION:King’s Cross Academy\, 194552 Oxford County Rd. 119\, Ingersoll\, Ontario\, N5C3J6\, Canada
CATEGORIES:GEMS
ORGANIZER;CN="Cristy Friend":MAILTO:cristyfriend@hotmail.com
END:VEVENT
BEGIN:VEVENT
DTSTART;TZID=UTC:20251016T190000
DTEND;TZID=UTC:20251016T210000
DTSTAMP:20260422T193721
CREATED:20250829T192932Z
LAST-MODIFIED:20250829T192932Z
UID:10016162-1760641200-1760648400@crossroadsingersoll.ca
SUMMARY:GEMS
DESCRIPTION:GEMS Girls Club (Grades 1–8)A place where girls can grow in confidence\, faith\, and friendship. GEMS helps girls discover that they are deeply loved by God and equips them to stand strong amidst life’s challenges—becoming world changers for Christ.
URL:https://crossroadsingersoll.ca/event/gems/2025-10-16/
LOCATION:King’s Cross Academy\, 194552 Oxford County Rd. 119\, Ingersoll\, Ontario\, N5C3J6\, Canada
CATEGORIES:GEMS
ORGANIZER;CN="Cristy Friend":MAILTO:cristyfriend@hotmail.com
END:VEVENT
BEGIN:VEVENT
DTSTART;TZID=UTC:20251002T190000
DTEND;TZID=UTC:20251002T210000
DTSTAMP:20260422T193721
CREATED:20250829T192932Z
LAST-MODIFIED:20250829T192932Z
UID:10016161-1759431600-1759438800@crossroadsingersoll.ca
SUMMARY:GEMS
DESCRIPTION:GEMS Girls Club (Grades 1–8)A place where girls can grow in confidence\, faith\, and friendship. GEMS helps girls discover that they are deeply loved by God and equips them to stand strong amidst life’s challenges—becoming world changers for Christ.
URL:https://crossroadsingersoll.ca/event/gems/2025-10-02/
LOCATION:King’s Cross Academy\, 194552 Oxford County Rd. 119\, Ingersoll\, Ontario\, N5C3J6\, Canada
CATEGORIES:GEMS
ORGANIZER;CN="Cristy Friend":MAILTO:cristyfriend@hotmail.com
END:VEVENT
BEGIN:VEVENT
DTSTART;TZID=UTC:20250918T190000
DTEND;TZID=UTC:20250918T210000
DTSTAMP:20260422T193721
CREATED:20250829T192932Z
LAST-MODIFIED:20250829T192932Z
UID:10016160-1758222000-1758229200@crossroadsingersoll.ca
SUMMARY:GEMS
DESCRIPTION:GEMS Girls Club (Grades 1–8)A place where girls can grow in confidence\, faith\, and friendship. GEMS helps girls discover that they are deeply loved by God and equips them to stand strong amidst life’s challenges—becoming world changers for Christ.
URL:https://crossroadsingersoll.ca/event/gems/2025-09-18/
LOCATION:King’s Cross Academy\, 194552 Oxford County Rd. 119\, Ingersoll\, Ontario\, N5C3J6\, Canada
CATEGORIES:GEMS
ORGANIZER;CN="Cristy Friend":MAILTO:cristyfriend@hotmail.com
END:VEVENT
BEGIN:VEVENT
DTSTART;TZID=UTC:20250508T190000
DTEND;TZID=UTC:20250508T203000
DTSTAMP:20260422T193721
CREATED:20240619T221949Z
LAST-MODIFIED:20250307T181255Z
UID:10010687-1746730800-1746736200@crossroadsingersoll.ca
SUMMARY:GEMS
DESCRIPTION:Our goal is to provide love\, support and biblical direction for the girls in our Church and Community. We want to help provide a strong foundation for our girls to become world changers.
URL:https://crossroadsingersoll.ca/event/gems-2-2-2-2/2025-05-08/
LOCATION:King’s Cross Academy\, 194552 Oxford County Rd. 119\, Ingersoll\, Ontario\, N5C3J6\, Canada
CATEGORIES:Children,GEMS
ORGANIZER;CN="Cristy Friend":MAILTO:cristyfriend@hotmail.com
END:VEVENT
BEGIN:VEVENT
DTSTART;TZID=UTC:20250424T190000
DTEND;TZID=UTC:20250424T203000
DTSTAMP:20260422T193721
CREATED:20240619T221949Z
LAST-MODIFIED:20250307T181255Z
UID:10010686-1745521200-1745526600@crossroadsingersoll.ca
SUMMARY:GEMS
DESCRIPTION:Our goal is to provide love\, support and biblical direction for the girls in our Church and Community. We want to help provide a strong foundation for our girls to become world changers.
URL:https://crossroadsingersoll.ca/event/gems-2-2-2-2/2025-04-24/
LOCATION:King’s Cross Academy\, 194552 Oxford County Rd. 119\, Ingersoll\, Ontario\, N5C3J6\, Canada
CATEGORIES:Children,GEMS
ORGANIZER;CN="Cristy Friend":MAILTO:cristyfriend@hotmail.com
END:VEVENT
BEGIN:VEVENT
DTSTART;TZID=UTC:20250410T190000
DTEND;TZID=UTC:20250410T203000
DTSTAMP:20260422T193721
CREATED:20240619T221949Z
LAST-MODIFIED:20250307T181255Z
UID:10010685-1744311600-1744317000@crossroadsingersoll.ca
SUMMARY:GEMS
DESCRIPTION:Our goal is to provide love\, support and biblical direction for the girls in our Church and Community. We want to help provide a strong foundation for our girls to become world changers.
URL:https://crossroadsingersoll.ca/event/gems-2-2-2-2/2025-04-10/
LOCATION:King’s Cross Academy\, 194552 Oxford County Rd. 119\, Ingersoll\, Ontario\, N5C3J6\, Canada
CATEGORIES:Children,GEMS
ORGANIZER;CN="Cristy Friend":MAILTO:cristyfriend@hotmail.com
END:VEVENT
BEGIN:VEVENT
DTSTART;TZID=UTC:20250327T190000
DTEND;TZID=UTC:20250327T203000
DTSTAMP:20260422T193721
CREATED:20240619T221949Z
LAST-MODIFIED:20250307T181255Z
UID:10010684-1743102000-1743107400@crossroadsingersoll.ca
SUMMARY:GEMS
DESCRIPTION:Our goal is to provide love\, support and biblical direction for the girls in our Church and Community. We want to help provide a strong foundation for our girls to become world changers.
URL:https://crossroadsingersoll.ca/event/gems-2-2-2-2/2025-03-27/
LOCATION:King’s Cross Academy\, 194552 Oxford County Rd. 119\, Ingersoll\, Ontario\, N5C3J6\, Canada
CATEGORIES:Children,GEMS
ORGANIZER;CN="Cristy Friend":MAILTO:cristyfriend@hotmail.com
END:VEVENT
BEGIN:VEVENT
DTSTART;TZID=UTC:20250313T190000
DTEND;TZID=UTC:20250313T203000
DTSTAMP:20260422T193721
CREATED:20240619T221949Z
LAST-MODIFIED:20250307T181255Z
UID:10010683-1741892400-1741897800@crossroadsingersoll.ca
SUMMARY:GEMS
DESCRIPTION:Our goal is to provide love\, support and biblical direction for the girls in our Church and Community. We want to help provide a strong foundation for our girls to become world changers.
URL:https://crossroadsingersoll.ca/event/gems-2-2-2-2/2025-03-13/
LOCATION:King’s Cross Academy\, 194552 Oxford County Rd. 119\, Ingersoll\, Ontario\, N5C3J6\, Canada
CATEGORIES:Children,GEMS
ORGANIZER;CN="Cristy Friend":MAILTO:cristyfriend@hotmail.com
END:VEVENT
BEGIN:VEVENT
DTSTART;TZID=UTC:20250227T190000
DTEND;TZID=UTC:20250227T203000
DTSTAMP:20260422T193721
CREATED:20240619T221949Z
LAST-MODIFIED:20250307T181255Z
UID:10010682-1740682800-1740688200@crossroadsingersoll.ca
SUMMARY:GEMS
DESCRIPTION:Our goal is to provide love\, support and biblical direction for the girls in our Church and Community. We want to help provide a strong foundation for our girls to become world changers.
URL:https://crossroadsingersoll.ca/event/gems-2-2-2-2/2025-02-27/
LOCATION:King’s Cross Academy\, 194552 Oxford County Rd. 119\, Ingersoll\, Ontario\, N5C3J6\, Canada
CATEGORIES:Children,GEMS
ORGANIZER;CN="Cristy Friend":MAILTO:cristyfriend@hotmail.com
END:VEVENT
BEGIN:VEVENT
DTSTART;TZID=UTC:20250213T190000
DTEND;TZID=UTC:20250213T203000
DTSTAMP:20260422T193721
CREATED:20240619T221949Z
LAST-MODIFIED:20250307T181255Z
UID:10010681-1739473200-1739478600@crossroadsingersoll.ca
SUMMARY:GEMS
DESCRIPTION:Our goal is to provide love\, support and biblical direction for the girls in our Church and Community. We want to help provide a strong foundation for our girls to become world changers.
URL:https://crossroadsingersoll.ca/event/gems-2-2-2-2/2025-02-13/
LOCATION:King’s Cross Academy\, 194552 Oxford County Rd. 119\, Ingersoll\, Ontario\, N5C3J6\, Canada
CATEGORIES:Children,GEMS
ORGANIZER;CN="Cristy Friend":MAILTO:cristyfriend@hotmail.com
END:VEVENT
BEGIN:VEVENT
DTSTART;TZID=UTC:20250130T190000
DTEND;TZID=UTC:20250130T203000
DTSTAMP:20260422T193721
CREATED:20240619T221949Z
LAST-MODIFIED:20250307T181255Z
UID:10010680-1738263600-1738269000@crossroadsingersoll.ca
SUMMARY:GEMS
DESCRIPTION:Our goal is to provide love\, support and biblical direction for the girls in our Church and Community. We want to help provide a strong foundation for our girls to become world changers.
URL:https://crossroadsingersoll.ca/event/gems-2-2-2-2/2025-01-30/
LOCATION:King’s Cross Academy\, 194552 Oxford County Rd. 119\, Ingersoll\, Ontario\, N5C3J6\, Canada
CATEGORIES:Children,GEMS
ORGANIZER;CN="Cristy Friend":MAILTO:cristyfriend@hotmail.com
END:VEVENT
BEGIN:VEVENT
DTSTART;TZID=UTC:20250116T190000
DTEND;TZID=UTC:20250116T203000
DTSTAMP:20260422T193721
CREATED:20240619T221949Z
LAST-MODIFIED:20250307T181255Z
UID:10010679-1737054000-1737059400@crossroadsingersoll.ca
SUMMARY:GEMS
DESCRIPTION:Our goal is to provide love\, support and biblical direction for the girls in our Church and Community. We want to help provide a strong foundation for our girls to become world changers.
URL:https://crossroadsingersoll.ca/event/gems-2-2-2-2/2025-01-16/
LOCATION:King’s Cross Academy\, 194552 Oxford County Rd. 119\, Ingersoll\, Ontario\, N5C3J6\, Canada
CATEGORIES:Children,GEMS
ORGANIZER;CN="Cristy Friend":MAILTO:cristyfriend@hotmail.com
END:VEVENT
BEGIN:VEVENT
DTSTART;TZID=UTC:20241219T190000
DTEND;TZID=UTC:20241219T203000
DTSTAMP:20260422T193721
CREATED:20240619T221949Z
LAST-MODIFIED:20250307T181255Z
UID:10010678-1734634800-1734640200@crossroadsingersoll.ca
SUMMARY:GEMS
DESCRIPTION:Our goal is to provide love\, support and biblical direction for the girls in our Church and Community. We want to help provide a strong foundation for our girls to become world changers.
URL:https://crossroadsingersoll.ca/event/gems-2-2-2-2/2024-12-19/
LOCATION:King’s Cross Academy\, 194552 Oxford County Rd. 119\, Ingersoll\, Ontario\, N5C3J6\, Canada
CATEGORIES:Children,GEMS
ORGANIZER;CN="Cristy Friend":MAILTO:cristyfriend@hotmail.com
END:VEVENT
BEGIN:VEVENT
DTSTART;TZID=UTC:20241205T190000
DTEND;TZID=UTC:20241205T203000
DTSTAMP:20260422T193722
CREATED:20240619T221949Z
LAST-MODIFIED:20250307T181255Z
UID:10010677-1733425200-1733430600@crossroadsingersoll.ca
SUMMARY:GEMS
DESCRIPTION:Our goal is to provide love\, support and biblical direction for the girls in our Church and Community. We want to help provide a strong foundation for our girls to become world changers.
URL:https://crossroadsingersoll.ca/event/gems-2-2-2-2/2024-12-05/
LOCATION:King’s Cross Academy\, 194552 Oxford County Rd. 119\, Ingersoll\, Ontario\, N5C3J6\, Canada
CATEGORIES:Children,GEMS
ORGANIZER;CN="Cristy Friend":MAILTO:cristyfriend@hotmail.com
END:VEVENT
BEGIN:VEVENT
DTSTART;TZID=UTC:20241121T190000
DTEND;TZID=UTC:20241121T203000
DTSTAMP:20260422T193722
CREATED:20240619T221949Z
LAST-MODIFIED:20250307T181255Z
UID:10010676-1732215600-1732221000@crossroadsingersoll.ca
SUMMARY:GEMS
DESCRIPTION:Our goal is to provide love\, support and biblical direction for the girls in our Church and Community. We want to help provide a strong foundation for our girls to become world changers.
URL:https://crossroadsingersoll.ca/event/gems-2-2-2-2/2024-11-21/
LOCATION:King’s Cross Academy\, 194552 Oxford County Rd. 119\, Ingersoll\, Ontario\, N5C3J6\, Canada
CATEGORIES:Children,GEMS
ORGANIZER;CN="Cristy Friend":MAILTO:cristyfriend@hotmail.com
END:VEVENT
BEGIN:VEVENT
DTSTART;TZID=UTC:20241107T190000
DTEND;TZID=UTC:20241107T203000
DTSTAMP:20260422T193722
CREATED:20240619T221949Z
LAST-MODIFIED:20250307T181255Z
UID:10010675-1731006000-1731011400@crossroadsingersoll.ca
SUMMARY:GEMS
DESCRIPTION:Our goal is to provide love\, support and biblical direction for the girls in our Church and Community. We want to help provide a strong foundation for our girls to become world changers.
URL:https://crossroadsingersoll.ca/event/gems-2-2-2-2/2024-11-07/
LOCATION:King’s Cross Academy\, 194552 Oxford County Rd. 119\, Ingersoll\, Ontario\, N5C3J6\, Canada
CATEGORIES:Children,GEMS
ORGANIZER;CN="Cristy Friend":MAILTO:cristyfriend@hotmail.com
END:VEVENT
BEGIN:VEVENT
DTSTART;TZID=UTC:20241024T190000
DTEND;TZID=UTC:20241024T203000
DTSTAMP:20260422T193722
CREATED:20240619T221949Z
LAST-MODIFIED:20250307T181255Z
UID:10010674-1729796400-1729801800@crossroadsingersoll.ca
SUMMARY:GEMS
DESCRIPTION:Our goal is to provide love\, support and biblical direction for the girls in our Church and Community. We want to help provide a strong foundation for our girls to become world changers.
URL:https://crossroadsingersoll.ca/event/gems-2-2-2-2/2024-10-24/
LOCATION:King’s Cross Academy\, 194552 Oxford County Rd. 119\, Ingersoll\, Ontario\, N5C3J6\, Canada
CATEGORIES:Children,GEMS
ORGANIZER;CN="Cristy Friend":MAILTO:cristyfriend@hotmail.com
END:VEVENT
BEGIN:VEVENT
DTSTART;TZID=UTC:20241010T190000
DTEND;TZID=UTC:20241010T203000
DTSTAMP:20260422T193722
CREATED:20240619T221949Z
LAST-MODIFIED:20250307T181255Z
UID:10010673-1728586800-1728592200@crossroadsingersoll.ca
SUMMARY:GEMS
DESCRIPTION:Our goal is to provide love\, support and biblical direction for the girls in our Church and Community. We want to help provide a strong foundation for our girls to become world changers.
URL:https://crossroadsingersoll.ca/event/gems-2-2-2-2/2024-10-10/
LOCATION:King’s Cross Academy\, 194552 Oxford County Rd. 119\, Ingersoll\, Ontario\, N5C3J6\, Canada
CATEGORIES:Children,GEMS
ORGANIZER;CN="Cristy Friend":MAILTO:cristyfriend@hotmail.com
END:VEVENT
END:VCALENDAR