BEGIN:VCALENDAR
VERSION:2.0
PRODID:-//Crossroads - ECPv6.10.2//NONSGML v1.0//EN
CALSCALE:GREGORIAN
METHOD:PUBLISH
X-WR-CALNAME:Crossroads
X-ORIGINAL-URL:https://crossroadsingersoll.ca
X-WR-CALDESC:Events for Crossroads
REFRESH-INTERVAL;VALUE=DURATION:PT1H
X-Robots-Tag:noindex
X-PUBLISHED-TTL:PT1H
BEGIN:VTIMEZONE
TZID:UTC
BEGIN:STANDARD
TZOFFSETFROM:+0000
TZOFFSETTO:+0000
TZNAME:UTC
DTSTART:20260101T000000
END:STANDARD
END:VTIMEZONE
BEGIN:VEVENT
DTSTART;TZID=UTC:20260714T190000
DTEND;TZID=UTC:20260714T203000
DTSTAMP:20260420T001109
CREATED:20231115T180911Z
LAST-MODIFIED:20250522T191332Z
UID:10007133-1784055600-1784061000@crossroadsingersoll.ca
SUMMARY:Church Prayer Meeting
DESCRIPTION:Join other church family members at the church every Tuesday evening to pray for the church\, leadership\, community and world!
URL:https://crossroadsingersoll.ca/event/church-family-prayer/2026-07-14/
LOCATION:King’s Cross Academy\, 194552 Oxford County Rd. 119\, Ingersoll\, Ontario\, N5C3J6\, Canada
CATEGORIES:Prayer
ORGANIZER;CN="Mike and Susan Verwolf":MAILTO:mike.verwolf@gmail.com
END:VEVENT
BEGIN:VEVENT
DTSTART;TZID=UTC:20260721T190000
DTEND;TZID=UTC:20260721T203000
DTSTAMP:20260420T001109
CREATED:20231115T180911Z
LAST-MODIFIED:20250522T191332Z
UID:10007134-1784660400-1784665800@crossroadsingersoll.ca
SUMMARY:Church Prayer Meeting
DESCRIPTION:Join other church family members at the church every Tuesday evening to pray for the church\, leadership\, community and world!
URL:https://crossroadsingersoll.ca/event/church-family-prayer/2026-07-21/
LOCATION:King’s Cross Academy\, 194552 Oxford County Rd. 119\, Ingersoll\, Ontario\, N5C3J6\, Canada
CATEGORIES:Prayer
ORGANIZER;CN="Mike and Susan Verwolf":MAILTO:mike.verwolf@gmail.com
END:VEVENT
BEGIN:VEVENT
DTSTART;TZID=UTC:20260728T190000
DTEND;TZID=UTC:20260728T203000
DTSTAMP:20260420T001109
CREATED:20231115T180911Z
LAST-MODIFIED:20250522T191332Z
UID:10007135-1785265200-1785270600@crossroadsingersoll.ca
SUMMARY:Church Prayer Meeting
DESCRIPTION:Join other church family members at the church every Tuesday evening to pray for the church\, leadership\, community and world!
URL:https://crossroadsingersoll.ca/event/church-family-prayer/2026-07-28/
LOCATION:King’s Cross Academy\, 194552 Oxford County Rd. 119\, Ingersoll\, Ontario\, N5C3J6\, Canada
CATEGORIES:Prayer
ORGANIZER;CN="Mike and Susan Verwolf":MAILTO:mike.verwolf@gmail.com
END:VEVENT
BEGIN:VEVENT
DTSTART;TZID=UTC:20260804T190000
DTEND;TZID=UTC:20260804T203000
DTSTAMP:20260420T001109
CREATED:20231115T180911Z
LAST-MODIFIED:20250522T191332Z
UID:10007136-1785870000-1785875400@crossroadsingersoll.ca
SUMMARY:Church Prayer Meeting
DESCRIPTION:Join other church family members at the church every Tuesday evening to pray for the church\, leadership\, community and world!
URL:https://crossroadsingersoll.ca/event/church-family-prayer/2026-08-04/
LOCATION:King’s Cross Academy\, 194552 Oxford County Rd. 119\, Ingersoll\, Ontario\, N5C3J6\, Canada
CATEGORIES:Prayer
ORGANIZER;CN="Mike and Susan Verwolf":MAILTO:mike.verwolf@gmail.com
END:VEVENT
BEGIN:VEVENT
DTSTART;TZID=UTC:20260811T190000
DTEND;TZID=UTC:20260811T203000
DTSTAMP:20260420T001109
CREATED:20231115T180911Z
LAST-MODIFIED:20250522T191332Z
UID:10007137-1786474800-1786480200@crossroadsingersoll.ca
SUMMARY:Church Prayer Meeting
DESCRIPTION:Join other church family members at the church every Tuesday evening to pray for the church\, leadership\, community and world!
URL:https://crossroadsingersoll.ca/event/church-family-prayer/2026-08-11/
LOCATION:King’s Cross Academy\, 194552 Oxford County Rd. 119\, Ingersoll\, Ontario\, N5C3J6\, Canada
CATEGORIES:Prayer
ORGANIZER;CN="Mike and Susan Verwolf":MAILTO:mike.verwolf@gmail.com
END:VEVENT
BEGIN:VEVENT
DTSTART;TZID=UTC:20260818T190000
DTEND;TZID=UTC:20260818T203000
DTSTAMP:20260420T001109
CREATED:20231115T180911Z
LAST-MODIFIED:20250522T191332Z
UID:10007138-1787079600-1787085000@crossroadsingersoll.ca
SUMMARY:Church Prayer Meeting
DESCRIPTION:Join other church family members at the church every Tuesday evening to pray for the church\, leadership\, community and world!
URL:https://crossroadsingersoll.ca/event/church-family-prayer/2026-08-18/
LOCATION:King’s Cross Academy\, 194552 Oxford County Rd. 119\, Ingersoll\, Ontario\, N5C3J6\, Canada
CATEGORIES:Prayer
ORGANIZER;CN="Mike and Susan Verwolf":MAILTO:mike.verwolf@gmail.com
END:VEVENT
BEGIN:VEVENT
DTSTART;TZID=UTC:20260825T190000
DTEND;TZID=UTC:20260825T203000
DTSTAMP:20260420T001109
CREATED:20231115T180911Z
LAST-MODIFIED:20250522T191332Z
UID:10007139-1787684400-1787689800@crossroadsingersoll.ca
SUMMARY:Church Prayer Meeting
DESCRIPTION:Join other church family members at the church every Tuesday evening to pray for the church\, leadership\, community and world!
URL:https://crossroadsingersoll.ca/event/church-family-prayer/2026-08-25/
LOCATION:King’s Cross Academy\, 194552 Oxford County Rd. 119\, Ingersoll\, Ontario\, N5C3J6\, Canada
CATEGORIES:Prayer
ORGANIZER;CN="Mike and Susan Verwolf":MAILTO:mike.verwolf@gmail.com
END:VEVENT
BEGIN:VEVENT
DTSTART;TZID=UTC:20260901T190000
DTEND;TZID=UTC:20260901T203000
DTSTAMP:20260420T001109
CREATED:20231115T180911Z
LAST-MODIFIED:20250522T191332Z
UID:10007140-1788289200-1788294600@crossroadsingersoll.ca
SUMMARY:Church Prayer Meeting
DESCRIPTION:Join other church family members at the church every Tuesday evening to pray for the church\, leadership\, community and world!
URL:https://crossroadsingersoll.ca/event/church-family-prayer/2026-09-01/
LOCATION:King’s Cross Academy\, 194552 Oxford County Rd. 119\, Ingersoll\, Ontario\, N5C3J6\, Canada
CATEGORIES:Prayer
ORGANIZER;CN="Mike and Susan Verwolf":MAILTO:mike.verwolf@gmail.com
END:VEVENT
BEGIN:VEVENT
DTSTART;TZID=UTC:20260908T190000
DTEND;TZID=UTC:20260908T203000
DTSTAMP:20260420T001109
CREATED:20231115T180911Z
LAST-MODIFIED:20250522T191332Z
UID:10007141-1788894000-1788899400@crossroadsingersoll.ca
SUMMARY:Church Prayer Meeting
DESCRIPTION:Join other church family members at the church every Tuesday evening to pray for the church\, leadership\, community and world!
URL:https://crossroadsingersoll.ca/event/church-family-prayer/2026-09-08/
LOCATION:King’s Cross Academy\, 194552 Oxford County Rd. 119\, Ingersoll\, Ontario\, N5C3J6\, Canada
CATEGORIES:Prayer
ORGANIZER;CN="Mike and Susan Verwolf":MAILTO:mike.verwolf@gmail.com
END:VEVENT
BEGIN:VEVENT
DTSTART;TZID=UTC:20260915T190000
DTEND;TZID=UTC:20260915T203000
DTSTAMP:20260420T001109
CREATED:20231115T180911Z
LAST-MODIFIED:20250522T191332Z
UID:10007142-1789498800-1789504200@crossroadsingersoll.ca
SUMMARY:Church Prayer Meeting
DESCRIPTION:Join other church family members at the church every Tuesday evening to pray for the church\, leadership\, community and world!
URL:https://crossroadsingersoll.ca/event/church-family-prayer/2026-09-15/
LOCATION:King’s Cross Academy\, 194552 Oxford County Rd. 119\, Ingersoll\, Ontario\, N5C3J6\, Canada
CATEGORIES:Prayer
ORGANIZER;CN="Mike and Susan Verwolf":MAILTO:mike.verwolf@gmail.com
END:VEVENT
BEGIN:VEVENT
DTSTART;TZID=UTC:20260922T190000
DTEND;TZID=UTC:20260922T203000
DTSTAMP:20260420T001109
CREATED:20231115T180911Z
LAST-MODIFIED:20250522T191332Z
UID:10007143-1790103600-1790109000@crossroadsingersoll.ca
SUMMARY:Church Prayer Meeting
DESCRIPTION:Join other church family members at the church every Tuesday evening to pray for the church\, leadership\, community and world!
URL:https://crossroadsingersoll.ca/event/church-family-prayer/2026-09-22/
LOCATION:King’s Cross Academy\, 194552 Oxford County Rd. 119\, Ingersoll\, Ontario\, N5C3J6\, Canada
CATEGORIES:Prayer
ORGANIZER;CN="Mike and Susan Verwolf":MAILTO:mike.verwolf@gmail.com
END:VEVENT
BEGIN:VEVENT
DTSTART;TZID=UTC:20260929T190000
DTEND;TZID=UTC:20260929T203000
DTSTAMP:20260420T001109
CREATED:20231115T180911Z
LAST-MODIFIED:20250522T191332Z
UID:10007144-1790708400-1790713800@crossroadsingersoll.ca
SUMMARY:Church Prayer Meeting
DESCRIPTION:Join other church family members at the church every Tuesday evening to pray for the church\, leadership\, community and world!
URL:https://crossroadsingersoll.ca/event/church-family-prayer/2026-09-29/
LOCATION:King’s Cross Academy\, 194552 Oxford County Rd. 119\, Ingersoll\, Ontario\, N5C3J6\, Canada
CATEGORIES:Prayer
ORGANIZER;CN="Mike and Susan Verwolf":MAILTO:mike.verwolf@gmail.com
END:VEVENT
BEGIN:VEVENT
DTSTART;TZID=UTC:20261006T190000
DTEND;TZID=UTC:20261006T203000
DTSTAMP:20260420T001109
CREATED:20231115T180911Z
LAST-MODIFIED:20250522T191332Z
UID:10007145-1791313200-1791318600@crossroadsingersoll.ca
SUMMARY:Church Prayer Meeting
DESCRIPTION:Join other church family members at the church every Tuesday evening to pray for the church\, leadership\, community and world!
URL:https://crossroadsingersoll.ca/event/church-family-prayer/2026-10-06/
LOCATION:King’s Cross Academy\, 194552 Oxford County Rd. 119\, Ingersoll\, Ontario\, N5C3J6\, Canada
CATEGORIES:Prayer
ORGANIZER;CN="Mike and Susan Verwolf":MAILTO:mike.verwolf@gmail.com
END:VEVENT
BEGIN:VEVENT
DTSTART;TZID=UTC:20261013T190000
DTEND;TZID=UTC:20261013T203000
DTSTAMP:20260420T001109
CREATED:20231115T180911Z
LAST-MODIFIED:20250522T191332Z
UID:10007146-1791918000-1791923400@crossroadsingersoll.ca
SUMMARY:Church Prayer Meeting
DESCRIPTION:Join other church family members at the church every Tuesday evening to pray for the church\, leadership\, community and world!
URL:https://crossroadsingersoll.ca/event/church-family-prayer/2026-10-13/
LOCATION:King’s Cross Academy\, 194552 Oxford County Rd. 119\, Ingersoll\, Ontario\, N5C3J6\, Canada
CATEGORIES:Prayer
ORGANIZER;CN="Mike and Susan Verwolf":MAILTO:mike.verwolf@gmail.com
END:VEVENT
BEGIN:VEVENT
DTSTART;TZID=UTC:20261020T190000
DTEND;TZID=UTC:20261020T203000
DTSTAMP:20260420T001109
CREATED:20231115T180911Z
LAST-MODIFIED:20250522T191332Z
UID:10007147-1792522800-1792528200@crossroadsingersoll.ca
SUMMARY:Church Prayer Meeting
DESCRIPTION:Join other church family members at the church every Tuesday evening to pray for the church\, leadership\, community and world!
URL:https://crossroadsingersoll.ca/event/church-family-prayer/2026-10-20/
LOCATION:King’s Cross Academy\, 194552 Oxford County Rd. 119\, Ingersoll\, Ontario\, N5C3J6\, Canada
CATEGORIES:Prayer
ORGANIZER;CN="Mike and Susan Verwolf":MAILTO:mike.verwolf@gmail.com
END:VEVENT
BEGIN:VEVENT
DTSTART;TZID=UTC:20261027T190000
DTEND;TZID=UTC:20261027T203000
DTSTAMP:20260420T001109
CREATED:20231115T180911Z
LAST-MODIFIED:20250522T191332Z
UID:10007148-1793127600-1793133000@crossroadsingersoll.ca
SUMMARY:Church Prayer Meeting
DESCRIPTION:Join other church family members at the church every Tuesday evening to pray for the church\, leadership\, community and world!
URL:https://crossroadsingersoll.ca/event/church-family-prayer/2026-10-27/
LOCATION:King’s Cross Academy\, 194552 Oxford County Rd. 119\, Ingersoll\, Ontario\, N5C3J6\, Canada
CATEGORIES:Prayer
ORGANIZER;CN="Mike and Susan Verwolf":MAILTO:mike.verwolf@gmail.com
END:VEVENT
BEGIN:VEVENT
DTSTART;TZID=UTC:20261103T190000
DTEND;TZID=UTC:20261103T203000
DTSTAMP:20260420T001109
CREATED:20231115T180911Z
LAST-MODIFIED:20250522T191332Z
UID:10007149-1793732400-1793737800@crossroadsingersoll.ca
SUMMARY:Church Prayer Meeting
DESCRIPTION:Join other church family members at the church every Tuesday evening to pray for the church\, leadership\, community and world!
URL:https://crossroadsingersoll.ca/event/church-family-prayer/2026-11-03/
LOCATION:King’s Cross Academy\, 194552 Oxford County Rd. 119\, Ingersoll\, Ontario\, N5C3J6\, Canada
CATEGORIES:Prayer
ORGANIZER;CN="Mike and Susan Verwolf":MAILTO:mike.verwolf@gmail.com
END:VEVENT
BEGIN:VEVENT
DTSTART;TZID=UTC:20261110T190000
DTEND;TZID=UTC:20261110T203000
DTSTAMP:20260420T001109
CREATED:20231115T180911Z
LAST-MODIFIED:20250522T191332Z
UID:10007150-1794337200-1794342600@crossroadsingersoll.ca
SUMMARY:Church Prayer Meeting
DESCRIPTION:Join other church family members at the church every Tuesday evening to pray for the church\, leadership\, community and world!
URL:https://crossroadsingersoll.ca/event/church-family-prayer/2026-11-10/
LOCATION:King’s Cross Academy\, 194552 Oxford County Rd. 119\, Ingersoll\, Ontario\, N5C3J6\, Canada
CATEGORIES:Prayer
ORGANIZER;CN="Mike and Susan Verwolf":MAILTO:mike.verwolf@gmail.com
END:VEVENT
BEGIN:VEVENT
DTSTART;TZID=UTC:20261117T190000
DTEND;TZID=UTC:20261117T203000
DTSTAMP:20260420T001109
CREATED:20231115T180911Z
LAST-MODIFIED:20250522T191332Z
UID:10007151-1794942000-1794947400@crossroadsingersoll.ca
SUMMARY:Church Prayer Meeting
DESCRIPTION:Join other church family members at the church every Tuesday evening to pray for the church\, leadership\, community and world!
URL:https://crossroadsingersoll.ca/event/church-family-prayer/2026-11-17/
LOCATION:King’s Cross Academy\, 194552 Oxford County Rd. 119\, Ingersoll\, Ontario\, N5C3J6\, Canada
CATEGORIES:Prayer
ORGANIZER;CN="Mike and Susan Verwolf":MAILTO:mike.verwolf@gmail.com
END:VEVENT
BEGIN:VEVENT
DTSTART;TZID=UTC:20261124T190000
DTEND;TZID=UTC:20261124T203000
DTSTAMP:20260420T001109
CREATED:20231115T180911Z
LAST-MODIFIED:20250522T191332Z
UID:10007152-1795546800-1795552200@crossroadsingersoll.ca
SUMMARY:Church Prayer Meeting
DESCRIPTION:Join other church family members at the church every Tuesday evening to pray for the church\, leadership\, community and world!
URL:https://crossroadsingersoll.ca/event/church-family-prayer/2026-11-24/
LOCATION:King’s Cross Academy\, 194552 Oxford County Rd. 119\, Ingersoll\, Ontario\, N5C3J6\, Canada
CATEGORIES:Prayer
ORGANIZER;CN="Mike and Susan Verwolf":MAILTO:mike.verwolf@gmail.com
END:VEVENT
BEGIN:VEVENT
DTSTART;TZID=UTC:20261201T190000
DTEND;TZID=UTC:20261201T203000
DTSTAMP:20260420T001109
CREATED:20231115T180911Z
LAST-MODIFIED:20250522T191332Z
UID:10007153-1796151600-1796157000@crossroadsingersoll.ca
SUMMARY:Church Prayer Meeting
DESCRIPTION:Join other church family members at the church every Tuesday evening to pray for the church\, leadership\, community and world!
URL:https://crossroadsingersoll.ca/event/church-family-prayer/2026-12-01/
LOCATION:King’s Cross Academy\, 194552 Oxford County Rd. 119\, Ingersoll\, Ontario\, N5C3J6\, Canada
CATEGORIES:Prayer
ORGANIZER;CN="Mike and Susan Verwolf":MAILTO:mike.verwolf@gmail.com
END:VEVENT
BEGIN:VEVENT
DTSTART;TZID=UTC:20261208T190000
DTEND;TZID=UTC:20261208T203000
DTSTAMP:20260420T001109
CREATED:20231115T180911Z
LAST-MODIFIED:20250522T191332Z
UID:10007154-1796756400-1796761800@crossroadsingersoll.ca
SUMMARY:Church Prayer Meeting
DESCRIPTION:Join other church family members at the church every Tuesday evening to pray for the church\, leadership\, community and world!
URL:https://crossroadsingersoll.ca/event/church-family-prayer/2026-12-08/
LOCATION:King’s Cross Academy\, 194552 Oxford County Rd. 119\, Ingersoll\, Ontario\, N5C3J6\, Canada
CATEGORIES:Prayer
ORGANIZER;CN="Mike and Susan Verwolf":MAILTO:mike.verwolf@gmail.com
END:VEVENT
BEGIN:VEVENT
DTSTART;TZID=UTC:20261215T190000
DTEND;TZID=UTC:20261215T203000
DTSTAMP:20260420T001109
CREATED:20231115T180911Z
LAST-MODIFIED:20250522T191332Z
UID:10007155-1797361200-1797366600@crossroadsingersoll.ca
SUMMARY:Church Prayer Meeting
DESCRIPTION:Join other church family members at the church every Tuesday evening to pray for the church\, leadership\, community and world!
URL:https://crossroadsingersoll.ca/event/church-family-prayer/2026-12-15/
LOCATION:King’s Cross Academy\, 194552 Oxford County Rd. 119\, Ingersoll\, Ontario\, N5C3J6\, Canada
CATEGORIES:Prayer
ORGANIZER;CN="Mike and Susan Verwolf":MAILTO:mike.verwolf@gmail.com
END:VEVENT
BEGIN:VEVENT
DTSTART;TZID=UTC:20261222T190000
DTEND;TZID=UTC:20261222T203000
DTSTAMP:20260420T001109
CREATED:20231115T180911Z
LAST-MODIFIED:20250522T191332Z
UID:10007156-1797966000-1797971400@crossroadsingersoll.ca
SUMMARY:Church Prayer Meeting
DESCRIPTION:Join other church family members at the church every Tuesday evening to pray for the church\, leadership\, community and world!
URL:https://crossroadsingersoll.ca/event/church-family-prayer/2026-12-22/
LOCATION:King’s Cross Academy\, 194552 Oxford County Rd. 119\, Ingersoll\, Ontario\, N5C3J6\, Canada
CATEGORIES:Prayer
ORGANIZER;CN="Mike and Susan Verwolf":MAILTO:mike.verwolf@gmail.com
END:VEVENT
BEGIN:VEVENT
DTSTART;TZID=UTC:20261229T190000
DTEND;TZID=UTC:20261229T203000
DTSTAMP:20260420T001109
CREATED:20231115T180911Z
LAST-MODIFIED:20250522T191332Z
UID:10007157-1798570800-1798576200@crossroadsingersoll.ca
SUMMARY:Church Prayer Meeting
DESCRIPTION:Join other church family members at the church every Tuesday evening to pray for the church\, leadership\, community and world!
URL:https://crossroadsingersoll.ca/event/church-family-prayer/2026-12-29/
LOCATION:King’s Cross Academy\, 194552 Oxford County Rd. 119\, Ingersoll\, Ontario\, N5C3J6\, Canada
CATEGORIES:Prayer
ORGANIZER;CN="Mike and Susan Verwolf":MAILTO:mike.verwolf@gmail.com
END:VEVENT
BEGIN:VEVENT
DTSTART;TZID=UTC:20270105T190000
DTEND;TZID=UTC:20270105T203000
DTSTAMP:20260420T001109
CREATED:20231115T180911Z
LAST-MODIFIED:20250522T191332Z
UID:10007158-1799175600-1799181000@crossroadsingersoll.ca
SUMMARY:Church Prayer Meeting
DESCRIPTION:Join other church family members at the church every Tuesday evening to pray for the church\, leadership\, community and world!
URL:https://crossroadsingersoll.ca/event/church-family-prayer/2027-01-05/
LOCATION:King’s Cross Academy\, 194552 Oxford County Rd. 119\, Ingersoll\, Ontario\, N5C3J6\, Canada
CATEGORIES:Prayer
ORGANIZER;CN="Mike and Susan Verwolf":MAILTO:mike.verwolf@gmail.com
END:VEVENT
BEGIN:VEVENT
DTSTART;TZID=UTC:20270112T190000
DTEND;TZID=UTC:20270112T203000
DTSTAMP:20260420T001109
CREATED:20231115T180911Z
LAST-MODIFIED:20250522T191332Z
UID:10007159-1799780400-1799785800@crossroadsingersoll.ca
SUMMARY:Church Prayer Meeting
DESCRIPTION:Join other church family members at the church every Tuesday evening to pray for the church\, leadership\, community and world!
URL:https://crossroadsingersoll.ca/event/church-family-prayer/2027-01-12/
LOCATION:King’s Cross Academy\, 194552 Oxford County Rd. 119\, Ingersoll\, Ontario\, N5C3J6\, Canada
CATEGORIES:Prayer
ORGANIZER;CN="Mike and Susan Verwolf":MAILTO:mike.verwolf@gmail.com
END:VEVENT
BEGIN:VEVENT
DTSTART;TZID=UTC:20270119T190000
DTEND;TZID=UTC:20270119T203000
DTSTAMP:20260420T001109
CREATED:20231115T180911Z
LAST-MODIFIED:20250522T191332Z
UID:10007160-1800385200-1800390600@crossroadsingersoll.ca
SUMMARY:Church Prayer Meeting
DESCRIPTION:Join other church family members at the church every Tuesday evening to pray for the church\, leadership\, community and world!
URL:https://crossroadsingersoll.ca/event/church-family-prayer/2027-01-19/
LOCATION:King’s Cross Academy\, 194552 Oxford County Rd. 119\, Ingersoll\, Ontario\, N5C3J6\, Canada
CATEGORIES:Prayer
ORGANIZER;CN="Mike and Susan Verwolf":MAILTO:mike.verwolf@gmail.com
END:VEVENT
BEGIN:VEVENT
DTSTART;TZID=UTC:20270126T190000
DTEND;TZID=UTC:20270126T203000
DTSTAMP:20260420T001109
CREATED:20231115T180911Z
LAST-MODIFIED:20250522T191332Z
UID:10007161-1800990000-1800995400@crossroadsingersoll.ca
SUMMARY:Church Prayer Meeting
DESCRIPTION:Join other church family members at the church every Tuesday evening to pray for the church\, leadership\, community and world!
URL:https://crossroadsingersoll.ca/event/church-family-prayer/2027-01-26/
LOCATION:King’s Cross Academy\, 194552 Oxford County Rd. 119\, Ingersoll\, Ontario\, N5C3J6\, Canada
CATEGORIES:Prayer
ORGANIZER;CN="Mike and Susan Verwolf":MAILTO:mike.verwolf@gmail.com
END:VEVENT
BEGIN:VEVENT
DTSTART;TZID=UTC:20270202T190000
DTEND;TZID=UTC:20270202T203000
DTSTAMP:20260420T001109
CREATED:20231115T180911Z
LAST-MODIFIED:20250522T191332Z
UID:10007162-1801594800-1801600200@crossroadsingersoll.ca
SUMMARY:Church Prayer Meeting
DESCRIPTION:Join other church family members at the church every Tuesday evening to pray for the church\, leadership\, community and world!
URL:https://crossroadsingersoll.ca/event/church-family-prayer/2027-02-02/
LOCATION:King’s Cross Academy\, 194552 Oxford County Rd. 119\, Ingersoll\, Ontario\, N5C3J6\, Canada
CATEGORIES:Prayer
ORGANIZER;CN="Mike and Susan Verwolf":MAILTO:mike.verwolf@gmail.com
END:VEVENT
END:VCALENDAR