BEGIN:VCALENDAR
VERSION:2.0
PRODID:-//Crossroads - ECPv6.10.2//NONSGML v1.0//EN
CALSCALE:GREGORIAN
METHOD:PUBLISH
X-ORIGINAL-URL:https://crossroadsingersoll.ca
X-WR-CALDESC:Events for Crossroads
REFRESH-INTERVAL;VALUE=DURATION:PT1H
X-Robots-Tag:noindex
X-PUBLISHED-TTL:PT1H
BEGIN:VTIMEZONE
TZID:UTC
BEGIN:STANDARD
TZOFFSETFROM:+0000
TZOFFSETTO:+0000
TZNAME:UTC
DTSTART:20230101T000000
END:STANDARD
END:VTIMEZONE
BEGIN:VEVENT
DTSTART;TZID=UTC:20231202T083000
DTEND;TZID=UTC:20231202T170000
DTSTAMP:20260423T121101
CREATED:20231117T233732Z
LAST-MODIFIED:20231117T233732Z
UID:10008432-1701505800-1701536400@crossroadsingersoll.ca
SUMMARY:Mission of God Conference
DESCRIPTION:How are we to live in and respond to an age that denies mankind’s unique status as an image-bearer of God? Join us to discover the depth and power of God’s law-word for the redemption of human sexuality.
URL:https://crossroadsingersoll.ca/event/mission-of-god-conference/
LOCATION:Harvest Bible Church\, 2001 Spring Garden Road\, Windstor\, Ontario\, N9E 3P8\, Canada
CATEGORIES:Men's Ministry,Students,Women's Ministry
END:VEVENT
END:VCALENDAR